BEGIN:VCALENDAR
VERSION:2.0
PRODID:-//Trinity Church - ECPv6.15.12.2//NONSGML v1.0//EN
CALSCALE:GREGORIAN
METHOD:PUBLISH
X-ORIGINAL-URL:https://trinitykirk.org
X-WR-CALDESC:Events for Trinity Church
REFRESH-INTERVAL;VALUE=DURATION:PT1H
X-Robots-Tag:noindex
X-PUBLISHED-TTL:PT1H
BEGIN:VTIMEZONE
TZID:America/Los_Angeles
BEGIN:DAYLIGHT
TZOFFSETFROM:-0800
TZOFFSETTO:-0700
TZNAME:PDT
DTSTART:20250309T100000
END:DAYLIGHT
BEGIN:STANDARD
TZOFFSETFROM:-0700
TZOFFSETTO:-0800
TZNAME:PST
DTSTART:20251102T090000
END:STANDARD
BEGIN:DAYLIGHT
TZOFFSETFROM:-0800
TZOFFSETTO:-0700
TZNAME:PDT
DTSTART:20260308T100000
END:DAYLIGHT
BEGIN:STANDARD
TZOFFSETFROM:-0700
TZOFFSETTO:-0800
TZNAME:PST
DTSTART:20261101T090000
END:STANDARD
BEGIN:DAYLIGHT
TZOFFSETFROM:-0800
TZOFFSETTO:-0700
TZNAME:PDT
DTSTART:20270314T100000
END:DAYLIGHT
BEGIN:STANDARD
TZOFFSETFROM:-0700
TZOFFSETTO:-0800
TZNAME:PST
DTSTART:20271107T090000
END:STANDARD
END:VTIMEZONE
BEGIN:VEVENT
DTSTART;VALUE=DATE:20260405
DTEND;VALUE=DATE:20260406
DTSTAMP:20260424T090451
CREATED:20250925T214602Z
LAST-MODIFIED:20251030T215731Z
UID:10005720-1775376000-1775408400@trinitykirk.org
SUMMARY:Easter
DESCRIPTION:Easter is the central Christian religious feast. Jesus was raised from the dead on the third day after his crucifixion. People all over the world celebrate this resurrection on Easter Sunday\, two days after Good Friday.\nEaster is celebrated on the Sunday immediately following the Paschal Full Moon. The Paschal Full Moon can vary as much as two days from the date of the actual full moon\, with dates ranging from March 21 to April 18. As a result\, Easter dates can range from March 22 through April 25 in Western Christianity.\nHistorically\, western churches used the Gregorian Calendar to calculate the date of Easter and Eastern Orthodox churches used the Julian Calendar.
URL:https://trinitykirk.org/event/easter/2026-04-05/
LOCATION:WA
END:VEVENT
BEGIN:VEVENT
DTSTART;TZID=America/Los_Angeles:20260405T100000
DTEND;TZID=America/Los_Angeles:20260405T113000
DTSTAMP:20260424T090451
CREATED:20250925T215219Z
LAST-MODIFIED:20250925T215219Z
UID:10003003-1775383200-1775388600@trinitykirk.org
SUMMARY:10:00 AM Worship Service
DESCRIPTION:Everyone is welcome in this service of prayer\, praise\, and worship of God the Father\, through his Son Jesus Christ\, in the power of the Holy Spirit.
URL:https://trinitykirk.org/event/1000-am-worship-service-2-2/2026-04-05/
LOCATION:Providence North\, 19021 120th Ave NE\, Bothell\, WA\, 98011
END:VEVENT
BEGIN:VEVENT
DTSTART;TZID=America/Los_Angeles:20260405T114500
DTEND;TZID=America/Los_Angeles:20260405T123000
DTSTAMP:20260424T090451
CREATED:20260320T214256Z
LAST-MODIFIED:20260320T215608Z
UID:10006182-1775389500-1775392200@trinitykirk.org
SUMMARY:11:45 Easter Egg Hunt
DESCRIPTION:Following the Worship Service. For Children ages 10 and under.  Bags are provided\, or bring your own basket. \nThere will be candy for all tweens & teens that help with the egg hunt! \nSee Sarah Chaney with questions.
URL:https://trinitykirk.org/event/easter-egg-hunt-2/
LOCATION:Providence North\, 19021 120th Ave NE\, Bothell\, WA\, 98011
END:VEVENT
END:VCALENDAR