BEGIN:VCALENDAR
VERSION:2.0
PRODID:-//Trinity Church - ECPv6.15.12.2//NONSGML v1.0//EN
CALSCALE:GREGORIAN
METHOD:PUBLISH
X-ORIGINAL-URL:https://trinitykirk.org
X-WR-CALDESC:Events for Trinity Church
REFRESH-INTERVAL;VALUE=DURATION:PT1H
X-Robots-Tag:noindex
X-PUBLISHED-TTL:PT1H
BEGIN:VTIMEZONE
TZID:America/Los_Angeles
BEGIN:DAYLIGHT
TZOFFSETFROM:-0800
TZOFFSETTO:-0700
TZNAME:PDT
DTSTART:20250309T100000
END:DAYLIGHT
BEGIN:STANDARD
TZOFFSETFROM:-0700
TZOFFSETTO:-0800
TZNAME:PST
DTSTART:20251102T090000
END:STANDARD
BEGIN:DAYLIGHT
TZOFFSETFROM:-0800
TZOFFSETTO:-0700
TZNAME:PDT
DTSTART:20260308T100000
END:DAYLIGHT
BEGIN:STANDARD
TZOFFSETFROM:-0700
TZOFFSETTO:-0800
TZNAME:PST
DTSTART:20261101T090000
END:STANDARD
BEGIN:DAYLIGHT
TZOFFSETFROM:-0800
TZOFFSETTO:-0700
TZNAME:PDT
DTSTART:20270314T100000
END:DAYLIGHT
BEGIN:STANDARD
TZOFFSETFROM:-0700
TZOFFSETTO:-0800
TZNAME:PST
DTSTART:20271107T090000
END:STANDARD
END:VTIMEZONE
BEGIN:VEVENT
DTSTART;VALUE=DATE:20261025
DTEND;VALUE=DATE:20261026
DTSTAMP:20260424T203536
CREATED:20250925T214619Z
LAST-MODIFIED:20251030T221347Z
UID:10002321-1792886400-1792972799@trinitykirk.org
SUMMARY:Reformation Sunday
DESCRIPTION:Reformation Sunday commemorates the Protestant Reformation\, which began on October 31\, 1517\, when Martin Luther famously posted his 95 Theses. This day is significant for many Protestant denominations as it marks a pivotal moment in Christian history that emphasized the importance of scripture and faith over church traditions and practices.
URL:https://trinitykirk.org/event/reformation-sunday/2026-10-25/
LOCATION:WA
END:VEVENT
BEGIN:VEVENT
DTSTART;TZID=America/Los_Angeles:20261025T090000
DTEND;TZID=America/Los_Angeles:20261025T094000
DTSTAMP:20260424T203536
CREATED:20260119T223620Z
LAST-MODIFIED:20260325T170025Z
UID:10006224-1792918800-1792921200@trinitykirk.org
SUMMARY:9AM Sunday School
DESCRIPTION:We are studying the Westminster Shorter Catechism. All are welcome “week by week” or as you are able to join us.
URL:https://trinitykirk.org/event/9am-sunday-school-2/2026-10-25/
LOCATION:Providence North\, 19021 120th Ave NE\, Bothell\, WA\, 98011
END:VEVENT
BEGIN:VEVENT
DTSTART;TZID=America/Los_Angeles:20261025T100000
DTEND;TZID=America/Los_Angeles:20261025T113000
DTSTAMP:20260424T203536
CREATED:20250925T215219Z
LAST-MODIFIED:20250925T215219Z
UID:10003032-1792922400-1792927800@trinitykirk.org
SUMMARY:10:00 AM Worship Service
DESCRIPTION:Everyone is welcome in this service of prayer\, praise\, and worship of God the Father\, through his Son Jesus Christ\, in the power of the Holy Spirit.
URL:https://trinitykirk.org/event/1000-am-worship-service-2-2/2026-10-25/
LOCATION:Providence North\, 19021 120th Ave NE\, Bothell\, WA\, 98011
END:VEVENT
END:VCALENDAR