BEGIN:VCALENDAR
VERSION:2.0
PRODID:-//Trinity Church - ECPv6.15.12.2//NONSGML v1.0//EN
CALSCALE:GREGORIAN
METHOD:PUBLISH
X-ORIGINAL-URL:https://trinitykirk.org
X-WR-CALDESC:Events for Trinity Church
REFRESH-INTERVAL;VALUE=DURATION:PT1H
X-Robots-Tag:noindex
X-PUBLISHED-TTL:PT1H
BEGIN:VTIMEZONE
TZID:America/Los_Angeles
BEGIN:DAYLIGHT
TZOFFSETFROM:-0800
TZOFFSETTO:-0700
TZNAME:PDT
DTSTART:20250309T100000
END:DAYLIGHT
BEGIN:STANDARD
TZOFFSETFROM:-0700
TZOFFSETTO:-0800
TZNAME:PST
DTSTART:20251102T090000
END:STANDARD
BEGIN:DAYLIGHT
TZOFFSETFROM:-0800
TZOFFSETTO:-0700
TZNAME:PDT
DTSTART:20260308T100000
END:DAYLIGHT
BEGIN:STANDARD
TZOFFSETFROM:-0700
TZOFFSETTO:-0800
TZNAME:PST
DTSTART:20261101T090000
END:STANDARD
BEGIN:DAYLIGHT
TZOFFSETFROM:-0800
TZOFFSETTO:-0700
TZNAME:PDT
DTSTART:20270314T100000
END:DAYLIGHT
BEGIN:STANDARD
TZOFFSETFROM:-0700
TZOFFSETTO:-0800
TZNAME:PST
DTSTART:20271107T090000
END:STANDARD
END:VTIMEZONE
BEGIN:VEVENT
DTSTART;TZID=America/Los_Angeles:20260225T203000
DTEND;TZID=America/Los_Angeles:20260225T223000
DTSTAMP:20260424T202304
CREATED:20250925T214600Z
LAST-MODIFIED:20260319T212540Z
UID:10005866-1772051400-1772058600@trinitykirk.org
SUMMARY:8:30 PM Elders Meeting
DESCRIPTION:
URL:https://trinitykirk.org/event/830-pm-elders-meeting/2026-02-25/
LOCATION:Church Office
CATEGORIES:Internal,Office
END:VEVENT
BEGIN:VEVENT
DTSTART;TZID=America/Los_Angeles:20260304T203000
DTEND;TZID=America/Los_Angeles:20260304T223000
DTSTAMP:20260424T202304
CREATED:20250925T214600Z
LAST-MODIFIED:20260319T212540Z
UID:10005867-1772656200-1772663400@trinitykirk.org
SUMMARY:8:30 PM Elders Meeting
DESCRIPTION:
URL:https://trinitykirk.org/event/830-pm-elders-meeting/2026-03-04/
LOCATION:Church Office
CATEGORIES:Internal,Office
END:VEVENT
BEGIN:VEVENT
DTSTART;VALUE=DATE:20260309
DTEND;VALUE=DATE:20260312
DTSTAMP:20260424T202304
CREATED:20260131T024627Z
LAST-MODIFIED:20260131T024627Z
UID:10006127-1773014400-1773273599@trinitykirk.org
SUMMARY:Anselm Spring Presbytery
DESCRIPTION:Anselm Spring Presbytery in Tucson Arizona\, March 9-11 \n  \nSample Schedule: \nMonday – Arrive\, check in to your accommodations\, fellowship feast in the evening. \nTuesday – \n8-9 AM Coffee Hour \n9-12 Lectures from C.R. Wiley \n12-1:00 Lunch \n1:00-4:30 Afternoon Business \n6:30 PM Fellowship Feast \nWednesday \n8-9 AM Coffee Hour \n9-12 Lectures from C.R. Wiley \n12-1 Lunch \n1-4:30 Afternoon Business \n  \nIn the evening on Wednesday we will have a venue available for you to bring a bag dinner\, where we will have a more low-key cigar night for those who are still in town. \nThere will be outings scheduled for wives each day\, probably in the lunch-afternoon time frame. If we have enough people travel with children then we will coordinate a great outing for moms and kids one of the days. \nTucson is a wonderful place to be in March. Wildflowers begin sprouting throughout the Sonoran Desert\, which is a diverse ecosystem. Tucson is surrounded by mountain ranges in each of the cardinal directions\, the foremost being the Santa Catalina range which features Mt Lemmon (9171 ft elevation)\, considered a sky island for the diversity of ecosystems you drive through on the way to the top. Some things to consider including in your visit are: \nMt Lemmon \nThe Sonoran Desert Museum \nThe Pima Air and Space Museum \nColossal Cave \nTombstone\, Arizona (yes that one) \nOld Tucson (site of many Western films) \nThe Biosphere 2 \nTohono Chul Gardens (excellent date location with your wife for a meal and garden stroll) \nTucson is also a UNESCO designated city of gastronomy. It’s hard to explain why but we just have really\, really good food here. You can find amazing authentic cuisine from around the world\, but of course our Mexican food is world class and we can give you recommendations for good spots if you’re looking to get into some gastronomía de México. \nIf you choose to travel early\, we worship at 2:30 PM on Sundays followed by a full meal each week. We would be honored to have you visit and worship with us. \n 
URL:https://trinitykirk.org/event/anselm-spring-presbytery/
CATEGORIES:Internal
END:VEVENT
BEGIN:VEVENT
DTSTART;TZID=America/Los_Angeles:20260311T190000
DTEND;TZID=America/Los_Angeles:20260311T200000
DTSTAMP:20260424T202304
CREATED:20251220T195624Z
LAST-MODIFIED:20260131T205020Z
UID:10005749-1773255600-1773259200@trinitykirk.org
SUMMARY:Elder Visitation (1)
DESCRIPTION:Gayle Blakeley
URL:https://trinitykirk.org/event/elder-visitation-1-15-4/
CATEGORIES:Internal
END:VEVENT
BEGIN:VEVENT
DTSTART;TZID=America/Los_Angeles:20260311T190000
DTEND;TZID=America/Los_Angeles:20260311T200000
DTSTAMP:20260424T202304
CREATED:20260121T195959Z
LAST-MODIFIED:20260121T195959Z
UID:10005753-1773255600-1773259200@trinitykirk.org
SUMMARY:Elder Visitation (2)
DESCRIPTION:Larry & Julia Badillo
URL:https://trinitykirk.org/event/elder-visitation-2-13-5/
CATEGORIES:Internal
END:VEVENT
BEGIN:VEVENT
DTSTART;VALUE=DATE:20260315
DTEND;VALUE=DATE:20260316
DTSTAMP:20260424T202304
CREATED:20260312T185826Z
LAST-MODIFIED:20260312T185826Z
UID:10006163-1773532800-1773619199@trinitykirk.org
SUMMARY:Tyler Preaching
DESCRIPTION:
URL:https://trinitykirk.org/event/tyler-preaching-41/
CATEGORIES:Internal
END:VEVENT
BEGIN:VEVENT
DTSTART;TZID=America/Los_Angeles:20260318T203000
DTEND;TZID=America/Los_Angeles:20260318T223000
DTSTAMP:20260424T202304
CREATED:20250925T214600Z
LAST-MODIFIED:20260319T212540Z
UID:10005869-1773865800-1773873000@trinitykirk.org
SUMMARY:8:30 PM Elders Meeting
DESCRIPTION:
URL:https://trinitykirk.org/event/830-pm-elders-meeting/2026-03-18/
LOCATION:Church Office
CATEGORIES:Internal,Office
END:VEVENT
BEGIN:VEVENT
DTSTART;TZID=America/Los_Angeles:20260325T203000
DTEND;TZID=America/Los_Angeles:20260325T223000
DTSTAMP:20260424T202304
CREATED:20250925T214600Z
LAST-MODIFIED:20260319T212540Z
UID:10005870-1774470600-1774477800@trinitykirk.org
SUMMARY:8:30 PM Elders Meeting
DESCRIPTION:
URL:https://trinitykirk.org/event/830-pm-elders-meeting/2026-03-25/
LOCATION:Church Office
CATEGORIES:Internal,Office
END:VEVENT
BEGIN:VEVENT
DTSTART;TZID=America/Los_Angeles:20260401T203000
DTEND;TZID=America/Los_Angeles:20260401T223000
DTSTAMP:20260424T202304
CREATED:20250925T214600Z
LAST-MODIFIED:20260319T212540Z
UID:10005871-1775075400-1775082600@trinitykirk.org
SUMMARY:8:30 PM Elders Meeting
DESCRIPTION:
URL:https://trinitykirk.org/event/830-pm-elders-meeting/2026-04-01/
LOCATION:Church Office
CATEGORIES:Internal,Office
END:VEVENT
BEGIN:VEVENT
DTSTART;VALUE=DATE:20260406
DTEND;VALUE=DATE:20260411
DTSTAMP:20260424T202304
CREATED:20260224T022458Z
LAST-MODIFIED:20260224T022458Z
UID:10006138-1775433600-1775865599@trinitykirk.org
SUMMARY:Jacob Out of Town
DESCRIPTION:
URL:https://trinitykirk.org/event/jacob-out-of-town-2/
CATEGORIES:Internal
END:VEVENT
BEGIN:VEVENT
DTSTART;TZID=America/Los_Angeles:20260408T190000
DTEND;TZID=America/Los_Angeles:20260408T200000
DTSTAMP:20260424T202304
CREATED:20260119T235244Z
LAST-MODIFIED:20260406T234119Z
UID:10005750-1775674800-1775678400@trinitykirk.org
SUMMARY:Elder Visitation (1)
DESCRIPTION:
URL:https://trinitykirk.org/event/elder-visitation-1-15-5/
CATEGORIES:Internal
END:VEVENT
BEGIN:VEVENT
DTSTART;TZID=America/Los_Angeles:20260408T190000
DTEND;TZID=America/Los_Angeles:20260408T200000
DTSTAMP:20260424T202304
CREATED:20260121T193545Z
LAST-MODIFIED:20260121T195928Z
UID:10005754-1775674800-1775678400@trinitykirk.org
SUMMARY:Elder Visitation (2)
DESCRIPTION:
URL:https://trinitykirk.org/event/elder-visitation-2-13-4/
CATEGORIES:Internal
END:VEVENT
BEGIN:VEVENT
DTSTART;TZID=America/Los_Angeles:20260415T203000
DTEND;TZID=America/Los_Angeles:20260415T223000
DTSTAMP:20260424T202304
CREATED:20250925T214600Z
LAST-MODIFIED:20260319T212540Z
UID:10005873-1776285000-1776292200@trinitykirk.org
SUMMARY:8:30 PM Elders Meeting
DESCRIPTION:
URL:https://trinitykirk.org/event/830-pm-elders-meeting/2026-04-15/
LOCATION:Church Office
CATEGORIES:Internal,Office
END:VEVENT
BEGIN:VEVENT
DTSTART;VALUE=DATE:20260416
DTEND;VALUE=DATE:20260422
DTSTAMP:20260424T202304
CREATED:20260415T205645Z
LAST-MODIFIED:20260415T205645Z
UID:10006256-1776297600-1776815999@trinitykirk.org
SUMMARY:Hatcher out of Town
DESCRIPTION:
URL:https://trinitykirk.org/event/hatcher-out-of-town-6/
CATEGORIES:Internal
END:VEVENT
BEGIN:VEVENT
DTSTART;VALUE=DATE:20260419
DTEND;VALUE=DATE:20260420
DTSTAMP:20260424T202304
CREATED:20260224T022814Z
LAST-MODIFIED:20260224T022814Z
UID:10006144-1776556800-1776643199@trinitykirk.org
SUMMARY:Pullen Preaching
DESCRIPTION:
URL:https://trinitykirk.org/event/pullen-preaching/
CATEGORIES:Internal
END:VEVENT
BEGIN:VEVENT
DTSTART;TZID=America/Los_Angeles:20260422T203000
DTEND;TZID=America/Los_Angeles:20260422T223000
DTSTAMP:20260424T202304
CREATED:20250925T214600Z
LAST-MODIFIED:20260319T212540Z
UID:10005874-1776889800-1776897000@trinitykirk.org
SUMMARY:8:30 PM Elders Meeting
DESCRIPTION:
URL:https://trinitykirk.org/event/830-pm-elders-meeting/2026-04-22/
LOCATION:Church Office
CATEGORIES:Internal,Office
END:VEVENT
BEGIN:VEVENT
DTSTART;TZID=America/Los_Angeles:20260429T203000
DTEND;TZID=America/Los_Angeles:20260429T223000
DTSTAMP:20260424T202304
CREATED:20250925T214600Z
LAST-MODIFIED:20260319T212540Z
UID:10005875-1777494600-1777501800@trinitykirk.org
SUMMARY:8:30 PM Elders Meeting
DESCRIPTION:
URL:https://trinitykirk.org/event/830-pm-elders-meeting/2026-04-29/
LOCATION:Church Office
CATEGORIES:Internal,Office
END:VEVENT
BEGIN:VEVENT
DTSTART;VALUE=DATE:20260501
DTEND;VALUE=DATE:20260504
DTSTAMP:20260424T202304
CREATED:20260224T022946Z
LAST-MODIFIED:20260224T022959Z
UID:10006145-1777593600-1777852799@trinitykirk.org
SUMMARY:Hatcher Away (RCC)
DESCRIPTION:
URL:https://trinitykirk.org/event/hatcher-away-rcc/
CATEGORIES:Internal
END:VEVENT
BEGIN:VEVENT
DTSTART;TZID=America/Los_Angeles:20260506T203000
DTEND;TZID=America/Los_Angeles:20260506T223000
DTSTAMP:20260424T202304
CREATED:20250925T214600Z
LAST-MODIFIED:20260319T212540Z
UID:10005876-1778099400-1778106600@trinitykirk.org
SUMMARY:8:30 PM Elders Meeting
DESCRIPTION:
URL:https://trinitykirk.org/event/830-pm-elders-meeting/2026-05-06/
LOCATION:Church Office
CATEGORIES:Internal,Office
END:VEVENT
BEGIN:VEVENT
DTSTART;TZID=America/Los_Angeles:20260513T190000
DTEND;TZID=America/Los_Angeles:20260513T200000
DTSTAMP:20260424T202304
CREATED:20260323T205645Z
LAST-MODIFIED:20260323T205647Z
UID:10006165-1778698800-1778702400@trinitykirk.org
SUMMARY:Elder Visitation (1)
DESCRIPTION:Grace DeKerlegand
URL:https://trinitykirk.org/event/elder-visitation-1-15-6/
CATEGORIES:Internal
END:VEVENT
BEGIN:VEVENT
DTSTART;TZID=America/Los_Angeles:20260513T190000
DTEND;TZID=America/Los_Angeles:20260513T200000
DTSTAMP:20260424T202304
CREATED:20260323T210006Z
LAST-MODIFIED:20260323T210007Z
UID:10006169-1778698800-1778702400@trinitykirk.org
SUMMARY:Elder Visitation (2)
DESCRIPTION:Bouckeno\, Josh & Anne
URL:https://trinitykirk.org/event/elder-visitation-2-13-6/
CATEGORIES:Internal
END:VEVENT
BEGIN:VEVENT
DTSTART;TZID=America/Los_Angeles:20260513T190000
DTEND;TZID=America/Los_Angeles:20260513T200000
DTSTAMP:20260424T202304
CREATED:20260323T211923Z
LAST-MODIFIED:20260323T211924Z
UID:10006183-1778698800-1778702400@trinitykirk.org
SUMMARY:Elder Visitation (3)
DESCRIPTION:Joel & Krista Budreau
URL:https://trinitykirk.org/event/elder-visitation-3-2/
CATEGORIES:Internal
END:VEVENT
BEGIN:VEVENT
DTSTART;TZID=America/Los_Angeles:20260520T203000
DTEND;TZID=America/Los_Angeles:20260520T223000
DTSTAMP:20260424T202304
CREATED:20250925T214600Z
LAST-MODIFIED:20260319T212540Z
UID:10005878-1779309000-1779316200@trinitykirk.org
SUMMARY:8:30 PM Elders Meeting
DESCRIPTION:
URL:https://trinitykirk.org/event/830-pm-elders-meeting/2026-05-20/
LOCATION:Church Office
CATEGORIES:Internal,Office
END:VEVENT
BEGIN:VEVENT
DTSTART;TZID=America/Los_Angeles:20260527T203000
DTEND;TZID=America/Los_Angeles:20260527T223000
DTSTAMP:20260424T202304
CREATED:20250925T214600Z
LAST-MODIFIED:20260319T212540Z
UID:10005879-1779913800-1779921000@trinitykirk.org
SUMMARY:8:30 PM Elders Meeting
DESCRIPTION:
URL:https://trinitykirk.org/event/830-pm-elders-meeting/2026-05-27/
LOCATION:Church Office
CATEGORIES:Internal,Office
END:VEVENT
BEGIN:VEVENT
DTSTART;TZID=America/Los_Angeles:20260603T203000
DTEND;TZID=America/Los_Angeles:20260603T223000
DTSTAMP:20260424T202304
CREATED:20250925T214600Z
LAST-MODIFIED:20260319T212540Z
UID:10005880-1780518600-1780525800@trinitykirk.org
SUMMARY:8:30 PM Elders Meeting
DESCRIPTION:
URL:https://trinitykirk.org/event/830-pm-elders-meeting/2026-06-03/
LOCATION:Church Office
CATEGORIES:Internal,Office
END:VEVENT
BEGIN:VEVENT
DTSTART;TZID=America/Los_Angeles:20260610T190000
DTEND;TZID=America/Los_Angeles:20260610T200000
DTSTAMP:20260424T202304
CREATED:20260323T210421Z
LAST-MODIFIED:20260323T210422Z
UID:10006166-1781118000-1781121600@trinitykirk.org
SUMMARY:Elder Visitation (1)
DESCRIPTION:Austin & Barbara Braendlein
URL:https://trinitykirk.org/event/elder-visitation-1-15-7/
CATEGORIES:Internal
END:VEVENT
BEGIN:VEVENT
DTSTART;TZID=America/Los_Angeles:20260610T190000
DTEND;TZID=America/Los_Angeles:20260610T200000
DTSTAMP:20260424T202304
CREATED:20260323T210710Z
LAST-MODIFIED:20260323T210711Z
UID:10006170-1781118000-1781121600@trinitykirk.org
SUMMARY:Elder Visitation (2)
DESCRIPTION:Ed & Julie Berg
URL:https://trinitykirk.org/event/elder-visitation-2-13-7/
CATEGORIES:Internal
END:VEVENT
BEGIN:VEVENT
DTSTART;TZID=America/Los_Angeles:20260610T190000
DTEND;TZID=America/Los_Angeles:20260610T200000
DTSTAMP:20260424T202304
CREATED:20260323T212641Z
LAST-MODIFIED:20260323T212642Z
UID:10006184-1781118000-1781121600@trinitykirk.org
SUMMARY:Elder Visitation (3)
DESCRIPTION:Wayne & Lisa Edwards
URL:https://trinitykirk.org/event/elder-visitation-3-3/
CATEGORIES:Internal
END:VEVENT
BEGIN:VEVENT
DTSTART;VALUE=DATE:20260615
DTEND;VALUE=DATE:20260622
DTSTAMP:20260424T202304
CREATED:20260410T233137Z
LAST-MODIFIED:20260410T233137Z
UID:10006255-1781481600-1782086399@trinitykirk.org
SUMMARY:Lauri time off
DESCRIPTION:
URL:https://trinitykirk.org/event/lauri-time-off/
CATEGORIES:Internal
END:VEVENT
BEGIN:VEVENT
DTSTART;TZID=America/Los_Angeles:20260617T203000
DTEND;TZID=America/Los_Angeles:20260617T223000
DTSTAMP:20260424T202304
CREATED:20250925T214600Z
LAST-MODIFIED:20260319T212540Z
UID:10005882-1781728200-1781735400@trinitykirk.org
SUMMARY:8:30 PM Elders Meeting
DESCRIPTION:
URL:https://trinitykirk.org/event/830-pm-elders-meeting/2026-06-17/
LOCATION:Church Office
CATEGORIES:Internal,Office
END:VEVENT
END:VCALENDAR