BEGIN:VCALENDAR
VERSION:2.0
PRODID:-//Trinity Church - ECPv6.15.12.2//NONSGML v1.0//EN
CALSCALE:GREGORIAN
METHOD:PUBLISH
X-WR-CALNAME:Trinity Church
X-ORIGINAL-URL:https://trinitykirk.org
X-WR-CALDESC:Events for Trinity Church
REFRESH-INTERVAL;VALUE=DURATION:PT1H
X-Robots-Tag:noindex
X-PUBLISHED-TTL:PT1H
BEGIN:VTIMEZONE
TZID:America/Los_Angeles
BEGIN:DAYLIGHT
TZOFFSETFROM:-0800
TZOFFSETTO:-0700
TZNAME:PDT
DTSTART:20240310T100000
END:DAYLIGHT
BEGIN:STANDARD
TZOFFSETFROM:-0700
TZOFFSETTO:-0800
TZNAME:PST
DTSTART:20241103T090000
END:STANDARD
BEGIN:DAYLIGHT
TZOFFSETFROM:-0800
TZOFFSETTO:-0700
TZNAME:PDT
DTSTART:20250309T100000
END:DAYLIGHT
BEGIN:STANDARD
TZOFFSETFROM:-0700
TZOFFSETTO:-0800
TZNAME:PST
DTSTART:20251102T090000
END:STANDARD
BEGIN:DAYLIGHT
TZOFFSETFROM:-0800
TZOFFSETTO:-0700
TZNAME:PDT
DTSTART:20260308T100000
END:DAYLIGHT
BEGIN:STANDARD
TZOFFSETFROM:-0700
TZOFFSETTO:-0800
TZNAME:PST
DTSTART:20261101T090000
END:STANDARD
END:VTIMEZONE
BEGIN:VEVENT
DTSTART;TZID=America/Los_Angeles:20250929T170000
DTEND;TZID=America/Los_Angeles:20250929T180000
DTSTAMP:20260424T204320
CREATED:20250925T215220Z
LAST-MODIFIED:20260306T233519Z
UID:10005163-1759165200-1759168800@trinitykirk.org
SUMMARY:5 PM Women's Online Bible Study
DESCRIPTION:“For the weapons of our warfare are not carnal but mighty in God for pulling down strongholds\, casting down arguments and every high thing that exalts itself against the knowledge of God\, bringing every thought into captivity to the obedience of Christ…”  — 2 Corinthians 10:4-5 \nEvery Thought Captive (ETC) studies are back this fall\, with 3 different opportunities for ladies to join together in diligent study of God’s Word. Words fail to describe the beauty of fellowship and the increased fervency of prayer that are the result of women putting themselves under the authority of Scripture\, hungering after Christ and seeking Him through the Word\, that He might bring our every thought captive to Himself… so perhaps you need to come experience it for yourself! \nThe 2025-26 season of ETC is tackling the book of Jeremiah. Watch the back for booklets! \nOnline: \nFridays at 8 am begins September 12 \nMondays at 5 pm begins September 15 \nIn-Person: \nTuesdays at 10 am begins September 16 at the Bell’s residence \nQuestions or to get signed up with an online group\, contact Barbara Braendlein
URL:https://trinitykirk.org/event/5-pm-womens-online-bible-study-8/2025-09-29/
LOCATION:Zoom Meeting
END:VEVENT
BEGIN:VEVENT
DTSTART;VALUE=DATE:20250930
DTEND;VALUE=DATE:20251003
DTSTAMP:20260424T204320
CREATED:20250925T215224Z
LAST-MODIFIED:20250925T215224Z
UID:10004749-1759190400-1759449599@trinitykirk.org
SUMMARY:Anselm Presbytery
DESCRIPTION:Meeting in Santa Clarita\, CA
URL:https://trinitykirk.org/event/anselm-presbytery-2/
LOCATION:WA
CATEGORIES:Internal
END:VEVENT
BEGIN:VEVENT
DTSTART;VALUE=DATE:20250930
DTEND;VALUE=DATE:20251008
DTSTAMP:20260424T204320
CREATED:20250925T215224Z
LAST-MODIFIED:20250925T215224Z
UID:10005068-1759190400-1759881599@trinitykirk.org
SUMMARY:Bakers out of Town
DESCRIPTION:
URL:https://trinitykirk.org/event/bakers-out-of-town-17/
LOCATION:WA
CATEGORIES:Internal
END:VEVENT
BEGIN:VEVENT
DTSTART;TZID=America/Los_Angeles:20250930T101500
DTEND;TZID=America/Los_Angeles:20250930T111500
DTSTAMP:20260424T204320
CREATED:20250925T215221Z
LAST-MODIFIED:20260306T233656Z
UID:10005566-1759227300-1759230900@trinitykirk.org
SUMMARY:10:15 AM Women's Bible Study
DESCRIPTION:“For the weapons of our warfare are not carnal but mighty in God for pulling down strongholds\, casting down arguments and every high thing that exalts itself against the knowledge of God\, bringing every thought into captivity to the obedience of Christ…”  — 2 Corinthians 10:4-5 \nEvery Thought Captive (ETC) studies are back this fall\, with 3 different opportunities for ladies to join together in diligent study of God’s Word. Words fail to describe the beauty of fellowship and the increased fervency of prayer that are the result of women putting themselves under the authority of Scripture\, hungering after Christ and seeking Him through the Word\, that He might bring our every thought captive to Himself… so perhaps you need to come experience it for yourself! \nThe 2025-26 season of ETC is tackling the book of Jeremiah. Watch the back for booklets! \nOnline: \nFridays at 8 am begins September 12 \nMondays at 5 pm begins September 15 \nIn-Person: \nTuesdays at 10 am begins September 16 at the Bell’s residence \nQuestions or to get signed up with an online group\, contact Barbara Braendlein
URL:https://trinitykirk.org/event/10-am-womens-bible-study-9/2025-09-30/
LOCATION:Megan Bell Home\, 23701 3rd PL W\, Bothell\, WA\, 98021
END:VEVENT
BEGIN:VEVENT
DTSTART;TZID=America/Los_Angeles:20250930T193000
DTEND;TZID=America/Los_Angeles:20250930T210000
DTSTAMP:20260424T204320
CREATED:20250925T215221Z
LAST-MODIFIED:20260416T214551Z
UID:10005501-1759260600-1759266000@trinitykirk.org
SUMMARY:7:30 PM Young Women's Bible Study
DESCRIPTION:
URL:https://trinitykirk.org/event/730-pm-young-womens-bible-study/2025-09-30/
LOCATION:Ruiz Home\, 1120 Ave A Unit 207\, Snohomish\, WA
END:VEVENT
BEGIN:VEVENT
DTSTART;TZID=America/Los_Angeles:20251001T203000
DTEND;TZID=America/Los_Angeles:20251001T223000
DTSTAMP:20260424T204320
CREATED:20250925T214600Z
LAST-MODIFIED:20260319T212540Z
UID:10001970-1759350600-1759357800@trinitykirk.org
SUMMARY:8:30 PM Elders Meeting
DESCRIPTION:
URL:https://trinitykirk.org/event/830-pm-elders-meeting/2025-10-01/
LOCATION:Church Office
CATEGORIES:Internal,Office
END:VEVENT
BEGIN:VEVENT
DTSTART;TZID=America/Los_Angeles:20251003T080000
DTEND;TZID=America/Los_Angeles:20251003T090000
DTSTAMP:20260424T204320
CREATED:20250925T215219Z
LAST-MODIFIED:20260305T235804Z
UID:10005083-1759478400-1759482000@trinitykirk.org
SUMMARY:8 AM Women's Online Bible Study
DESCRIPTION:“For the weapons of our warfare are not carnal but mighty in God for pulling down strongholds\, casting down arguments and every high thing that exalts itself against the knowledge of God\, bringing every thought into captivity to the obedience of Christ…”  — 2 Corinthians 10:4-5 \nEvery Thought Captive (ETC) studies are back this fall\, with 3 different opportunities for ladies to join together in diligent study of God’s Word. Words fail to describe the beauty of fellowship and the increased fervency of prayer that are the result of women putting themselves under the authority of Scripture\, hungering after Christ and seeking Him through the Word\, that He might bring our every thought captive to Himself… so perhaps you need to come experience it for yourself! \nThe 2025-26 season of ETC is tackling the book of Jeremiah. Watch the back for booklets! \nOnline: \nFridays at 8 am begins September 12 \nMondays at 5 pm begins September 15 \n  \nIn-Person: \nTuesdays at 10 am begins September 16 at the Bell’s residence \n  \nQuestions or to get signed up with an online group\, contact Barbara Braendlein
URL:https://trinitykirk.org/event/8-am-womens-online-bible-study-5/2025-10-03/
LOCATION:Zoom Meeting
END:VEVENT
BEGIN:VEVENT
DTSTART;VALUE=DATE:20251005
DTEND;VALUE=DATE:20251006
DTSTAMP:20260424T204320
CREATED:20250925T215223Z
LAST-MODIFIED:20250925T215223Z
UID:10005647-1759622400-1759708799@trinitykirk.org
SUMMARY:Tyler Preaching
DESCRIPTION:
URL:https://trinitykirk.org/event/tyler-preaching-40/
LOCATION:WA
CATEGORIES:Internal
END:VEVENT
BEGIN:VEVENT
DTSTART;TZID=America/Los_Angeles:20251005T090000
DTEND;TZID=America/Los_Angeles:20251005T094000
DTSTAMP:20260424T204320
CREATED:20250925T215218Z
LAST-MODIFIED:20250930T011345Z
UID:10005326-1759654800-1759657200@trinitykirk.org
SUMMARY:9 AM Sunday School
DESCRIPTION:We will pick up in the Westminster Shorter Catechism in the section on the Ten Commandments. If you weren’t coming last year\, this is a perfect point to jump in as we are beginning a new section. As always\, the Sunday School is great to come week after week\, but works pretty well if you can only come occasionally. I will try to make it interesting for adults and kids alike.
URL:https://trinitykirk.org/event/9-am-sunday-school-9/2025-10-05/
LOCATION:Providence North\, 19021 120th Ave NE\, Bothell\, WA\, 98011
END:VEVENT
BEGIN:VEVENT
DTSTART;TZID=America/Los_Angeles:20251005T100000
DTEND;TZID=America/Los_Angeles:20251005T113000
DTSTAMP:20260424T204320
CREATED:20250925T215219Z
LAST-MODIFIED:20250925T215219Z
UID:10002977-1759658400-1759663800@trinitykirk.org
SUMMARY:10:00 AM Worship Service
DESCRIPTION:Everyone is welcome in this service of prayer\, praise\, and worship of God the Father\, through his Son Jesus Christ\, in the power of the Holy Spirit.
URL:https://trinitykirk.org/event/1000-am-worship-service-2-2/2025-10-05/
LOCATION:Providence North\, 19021 120th Ave NE\, Bothell\, WA\, 98011
END:VEVENT
BEGIN:VEVENT
DTSTART;TZID=America/Los_Angeles:20251006T170000
DTEND;TZID=America/Los_Angeles:20251006T180000
DTSTAMP:20260424T204320
CREATED:20250925T215220Z
LAST-MODIFIED:20260306T233519Z
UID:10005164-1759770000-1759773600@trinitykirk.org
SUMMARY:5 PM Women's Online Bible Study
DESCRIPTION:“For the weapons of our warfare are not carnal but mighty in God for pulling down strongholds\, casting down arguments and every high thing that exalts itself against the knowledge of God\, bringing every thought into captivity to the obedience of Christ…”  — 2 Corinthians 10:4-5 \nEvery Thought Captive (ETC) studies are back this fall\, with 3 different opportunities for ladies to join together in diligent study of God’s Word. Words fail to describe the beauty of fellowship and the increased fervency of prayer that are the result of women putting themselves under the authority of Scripture\, hungering after Christ and seeking Him through the Word\, that He might bring our every thought captive to Himself… so perhaps you need to come experience it for yourself! \nThe 2025-26 season of ETC is tackling the book of Jeremiah. Watch the back for booklets! \nOnline: \nFridays at 8 am begins September 12 \nMondays at 5 pm begins September 15 \nIn-Person: \nTuesdays at 10 am begins September 16 at the Bell’s residence \nQuestions or to get signed up with an online group\, contact Barbara Braendlein
URL:https://trinitykirk.org/event/5-pm-womens-online-bible-study-8/2025-10-06/
LOCATION:Zoom Meeting
END:VEVENT
BEGIN:VEVENT
DTSTART;TZID=America/Los_Angeles:20251007T101500
DTEND;TZID=America/Los_Angeles:20251007T111500
DTSTAMP:20260424T204320
CREATED:20250925T215221Z
LAST-MODIFIED:20260306T233656Z
UID:10005567-1759832100-1759835700@trinitykirk.org
SUMMARY:10:15 AM Women's Bible Study
DESCRIPTION:“For the weapons of our warfare are not carnal but mighty in God for pulling down strongholds\, casting down arguments and every high thing that exalts itself against the knowledge of God\, bringing every thought into captivity to the obedience of Christ…”  — 2 Corinthians 10:4-5 \nEvery Thought Captive (ETC) studies are back this fall\, with 3 different opportunities for ladies to join together in diligent study of God’s Word. Words fail to describe the beauty of fellowship and the increased fervency of prayer that are the result of women putting themselves under the authority of Scripture\, hungering after Christ and seeking Him through the Word\, that He might bring our every thought captive to Himself… so perhaps you need to come experience it for yourself! \nThe 2025-26 season of ETC is tackling the book of Jeremiah. Watch the back for booklets! \nOnline: \nFridays at 8 am begins September 12 \nMondays at 5 pm begins September 15 \nIn-Person: \nTuesdays at 10 am begins September 16 at the Bell’s residence \nQuestions or to get signed up with an online group\, contact Barbara Braendlein
URL:https://trinitykirk.org/event/10-am-womens-bible-study-9/2025-10-07/
LOCATION:Megan Bell Home\, 23701 3rd PL W\, Bothell\, WA\, 98021
END:VEVENT
BEGIN:VEVENT
DTSTART;TZID=America/Los_Angeles:20251007T193000
DTEND;TZID=America/Los_Angeles:20251007T210000
DTSTAMP:20260424T204320
CREATED:20250925T215221Z
LAST-MODIFIED:20260416T214551Z
UID:10005502-1759865400-1759870800@trinitykirk.org
SUMMARY:7:30 PM Young Women's Bible Study
DESCRIPTION:
URL:https://trinitykirk.org/event/730-pm-young-womens-bible-study/2025-10-07/
LOCATION:Ruiz Home\, 1120 Ave A Unit 207\, Snohomish\, WA
END:VEVENT
BEGIN:VEVENT
DTSTART;VALUE=DATE:20251008
DTEND;VALUE=DATE:20251013
DTSTAMP:20260424T204320
CREATED:20250925T215226Z
LAST-MODIFIED:20250925T215226Z
UID:10005072-1759881600-1760313599@trinitykirk.org
SUMMARY:Hatcher Teaching at a Family Camp in Tucson + Sermon
DESCRIPTION:He will also be visiting family.
URL:https://trinitykirk.org/event/hatcher-teaching-at-a-family-camp-in-tucson-sermon/
LOCATION:WA
CATEGORIES:Internal
END:VEVENT
BEGIN:VEVENT
DTSTART;TZID=America/Los_Angeles:20251008T203000
DTEND;TZID=America/Los_Angeles:20251008T223000
DTSTAMP:20260424T204320
CREATED:20250925T214600Z
LAST-MODIFIED:20260319T212540Z
UID:10001971-1759955400-1759962600@trinitykirk.org
SUMMARY:8:30 PM Elders Meeting
DESCRIPTION:
URL:https://trinitykirk.org/event/830-pm-elders-meeting/2025-10-08/
LOCATION:Church Office
CATEGORIES:Internal,Office
END:VEVENT
BEGIN:VEVENT
DTSTART;TZID=America/Los_Angeles:20251009T190000
DTEND;TZID=America/Los_Angeles:20251009T210000
DTSTAMP:20260424T204320
CREATED:20250925T232043Z
LAST-MODIFIED:20250925T232043Z
UID:10005649-1760036400-1760043600@trinitykirk.org
SUMMARY:7 PM Ladies Book Club
DESCRIPTION:We will be discussing Jayber Crow by Wendell Berry .
URL:https://trinitykirk.org/event/7-pm-ladies-book-club-9/
LOCATION:Bennett Fireside
END:VEVENT
BEGIN:VEVENT
DTSTART;TZID=America/Los_Angeles:20251010T080000
DTEND;TZID=America/Los_Angeles:20251010T090000
DTSTAMP:20260424T204320
CREATED:20250925T215219Z
LAST-MODIFIED:20260305T235804Z
UID:10005084-1760083200-1760086800@trinitykirk.org
SUMMARY:8 AM Women's Online Bible Study
DESCRIPTION:“For the weapons of our warfare are not carnal but mighty in God for pulling down strongholds\, casting down arguments and every high thing that exalts itself against the knowledge of God\, bringing every thought into captivity to the obedience of Christ…”  — 2 Corinthians 10:4-5 \nEvery Thought Captive (ETC) studies are back this fall\, with 3 different opportunities for ladies to join together in diligent study of God’s Word. Words fail to describe the beauty of fellowship and the increased fervency of prayer that are the result of women putting themselves under the authority of Scripture\, hungering after Christ and seeking Him through the Word\, that He might bring our every thought captive to Himself… so perhaps you need to come experience it for yourself! \nThe 2025-26 season of ETC is tackling the book of Jeremiah. Watch the back for booklets! \nOnline: \nFridays at 8 am begins September 12 \nMondays at 5 pm begins September 15 \n  \nIn-Person: \nTuesdays at 10 am begins September 16 at the Bell’s residence \n  \nQuestions or to get signed up with an online group\, contact Barbara Braendlein
URL:https://trinitykirk.org/event/8-am-womens-online-bible-study-5/2025-10-10/
LOCATION:Zoom Meeting
END:VEVENT
BEGIN:VEVENT
DTSTART;VALUE=DATE:20251012
DTEND;VALUE=DATE:20251013
DTSTAMP:20260424T204320
CREATED:20250925T215223Z
LAST-MODIFIED:20250930T001735Z
UID:10005070-1760227200-1760313599@trinitykirk.org
SUMMARY:Sam Davidson Preaching
DESCRIPTION:
URL:https://trinitykirk.org/event/sam-davidson-preaching/
LOCATION:WA
CATEGORIES:Internal
END:VEVENT
BEGIN:VEVENT
DTSTART;TZID=America/Los_Angeles:20251012T100000
DTEND;TZID=America/Los_Angeles:20251012T113000
DTSTAMP:20260424T204320
CREATED:20250925T215219Z
LAST-MODIFIED:20250925T215219Z
UID:10002978-1760263200-1760268600@trinitykirk.org
SUMMARY:10:00 AM Worship Service
DESCRIPTION:Everyone is welcome in this service of prayer\, praise\, and worship of God the Father\, through his Son Jesus Christ\, in the power of the Holy Spirit.
URL:https://trinitykirk.org/event/1000-am-worship-service-2-2/2025-10-12/
LOCATION:Providence North\, 19021 120th Ave NE\, Bothell\, WA\, 98011
END:VEVENT
BEGIN:VEVENT
DTSTART;TZID=America/Los_Angeles:20251012T140000
DTEND;TZID=America/Los_Angeles:20251012T160000
DTSTAMP:20260424T204320
CREATED:20250930T001509Z
LAST-MODIFIED:20250930T001509Z
UID:10005654-1760277600-1760284800@trinitykirk.org
SUMMARY:2 PM Joyful Dancing
DESCRIPTION:Come and learn to dance the basics or expand your skill.\nFor full explanations of what Joyful Dancing is\, please click here to read through our site.\nwww.joyfuldancing.org \n$10 per dancer or $30 per family \nAll minors must have a supervising adult present!
URL:https://trinitykirk.org/event/2-pm-joyful-dancing-5/2025-10-12/
LOCATION:Maltby Community Club\, 8711 206th St SE\, Snohomish\, WA\, 98296
END:VEVENT
BEGIN:VEVENT
DTSTART;TZID=America/Los_Angeles:20251012T190000
DTEND;TZID=America/Los_Angeles:20251012T203000
DTSTAMP:20260424T204320
CREATED:20250925T215220Z
LAST-MODIFIED:20250925T215220Z
UID:10005059-1760295600-1760301000@trinitykirk.org
SUMMARY:7 PM Men's Meeting
DESCRIPTION:
URL:https://trinitykirk.org/event/7-pm-mens-meeting-9/2025-10-12/
LOCATION:Church Office in Woodinville\, 14623 NE North Woodinville Way\, Suite 201\, Woodinville\, WA\, 98072
END:VEVENT
BEGIN:VEVENT
DTSTART;TZID=America/Los_Angeles:20251013T170000
DTEND;TZID=America/Los_Angeles:20251013T180000
DTSTAMP:20260424T204320
CREATED:20250925T215220Z
LAST-MODIFIED:20260306T233519Z
UID:10005165-1760374800-1760378400@trinitykirk.org
SUMMARY:5 PM Women's Online Bible Study
DESCRIPTION:“For the weapons of our warfare are not carnal but mighty in God for pulling down strongholds\, casting down arguments and every high thing that exalts itself against the knowledge of God\, bringing every thought into captivity to the obedience of Christ…”  — 2 Corinthians 10:4-5 \nEvery Thought Captive (ETC) studies are back this fall\, with 3 different opportunities for ladies to join together in diligent study of God’s Word. Words fail to describe the beauty of fellowship and the increased fervency of prayer that are the result of women putting themselves under the authority of Scripture\, hungering after Christ and seeking Him through the Word\, that He might bring our every thought captive to Himself… so perhaps you need to come experience it for yourself! \nThe 2025-26 season of ETC is tackling the book of Jeremiah. Watch the back for booklets! \nOnline: \nFridays at 8 am begins September 12 \nMondays at 5 pm begins September 15 \nIn-Person: \nTuesdays at 10 am begins September 16 at the Bell’s residence \nQuestions or to get signed up with an online group\, contact Barbara Braendlein
URL:https://trinitykirk.org/event/5-pm-womens-online-bible-study-8/2025-10-13/
LOCATION:Zoom Meeting
END:VEVENT
BEGIN:VEVENT
DTSTART;TZID=America/Los_Angeles:20251014T101500
DTEND;TZID=America/Los_Angeles:20251014T111500
DTSTAMP:20260424T204320
CREATED:20250925T215221Z
LAST-MODIFIED:20260306T233656Z
UID:10005568-1760436900-1760440500@trinitykirk.org
SUMMARY:10:15 AM Women's Bible Study
DESCRIPTION:“For the weapons of our warfare are not carnal but mighty in God for pulling down strongholds\, casting down arguments and every high thing that exalts itself against the knowledge of God\, bringing every thought into captivity to the obedience of Christ…”  — 2 Corinthians 10:4-5 \nEvery Thought Captive (ETC) studies are back this fall\, with 3 different opportunities for ladies to join together in diligent study of God’s Word. Words fail to describe the beauty of fellowship and the increased fervency of prayer that are the result of women putting themselves under the authority of Scripture\, hungering after Christ and seeking Him through the Word\, that He might bring our every thought captive to Himself… so perhaps you need to come experience it for yourself! \nThe 2025-26 season of ETC is tackling the book of Jeremiah. Watch the back for booklets! \nOnline: \nFridays at 8 am begins September 12 \nMondays at 5 pm begins September 15 \nIn-Person: \nTuesdays at 10 am begins September 16 at the Bell’s residence \nQuestions or to get signed up with an online group\, contact Barbara Braendlein
URL:https://trinitykirk.org/event/10-am-womens-bible-study-9/2025-10-14/
LOCATION:Megan Bell Home\, 23701 3rd PL W\, Bothell\, WA\, 98021
END:VEVENT
BEGIN:VEVENT
DTSTART;TZID=America/Los_Angeles:20251014T193000
DTEND;TZID=America/Los_Angeles:20251014T210000
DTSTAMP:20260424T204320
CREATED:20250925T215221Z
LAST-MODIFIED:20260416T214551Z
UID:10005503-1760470200-1760475600@trinitykirk.org
SUMMARY:7:30 PM Young Women's Bible Study
DESCRIPTION:
URL:https://trinitykirk.org/event/730-pm-young-womens-bible-study/2025-10-14/
LOCATION:Ruiz Home\, 1120 Ave A Unit 207\, Snohomish\, WA
END:VEVENT
BEGIN:VEVENT
DTSTART;TZID=America/Los_Angeles:20251015T203000
DTEND;TZID=America/Los_Angeles:20251015T223000
DTSTAMP:20260424T204320
CREATED:20250925T214600Z
LAST-MODIFIED:20260319T212540Z
UID:10001972-1760560200-1760567400@trinitykirk.org
SUMMARY:8:30 PM Elders Meeting
DESCRIPTION:
URL:https://trinitykirk.org/event/830-pm-elders-meeting/2025-10-15/
LOCATION:Church Office
CATEGORIES:Internal,Office
END:VEVENT
BEGIN:VEVENT
DTSTART;TZID=America/Los_Angeles:20251017T080000
DTEND;TZID=America/Los_Angeles:20251017T090000
DTSTAMP:20260424T204320
CREATED:20250925T215219Z
LAST-MODIFIED:20260305T235804Z
UID:10005085-1760688000-1760691600@trinitykirk.org
SUMMARY:8 AM Women's Online Bible Study
DESCRIPTION:“For the weapons of our warfare are not carnal but mighty in God for pulling down strongholds\, casting down arguments and every high thing that exalts itself against the knowledge of God\, bringing every thought into captivity to the obedience of Christ…”  — 2 Corinthians 10:4-5 \nEvery Thought Captive (ETC) studies are back this fall\, with 3 different opportunities for ladies to join together in diligent study of God’s Word. Words fail to describe the beauty of fellowship and the increased fervency of prayer that are the result of women putting themselves under the authority of Scripture\, hungering after Christ and seeking Him through the Word\, that He might bring our every thought captive to Himself… so perhaps you need to come experience it for yourself! \nThe 2025-26 season of ETC is tackling the book of Jeremiah. Watch the back for booklets! \nOnline: \nFridays at 8 am begins September 12 \nMondays at 5 pm begins September 15 \n  \nIn-Person: \nTuesdays at 10 am begins September 16 at the Bell’s residence \n  \nQuestions or to get signed up with an online group\, contact Barbara Braendlein
URL:https://trinitykirk.org/event/8-am-womens-online-bible-study-5/2025-10-17/
LOCATION:Zoom Meeting
END:VEVENT
BEGIN:VEVENT
DTSTART;TZID=America/Los_Angeles:20251019T090000
DTEND;TZID=America/Los_Angeles:20251019T094000
DTSTAMP:20260424T204320
CREATED:20250925T215218Z
LAST-MODIFIED:20250930T011345Z
UID:10005328-1760864400-1760866800@trinitykirk.org
SUMMARY:9 AM Sunday School
DESCRIPTION:We will pick up in the Westminster Shorter Catechism in the section on the Ten Commandments. If you weren’t coming last year\, this is a perfect point to jump in as we are beginning a new section. As always\, the Sunday School is great to come week after week\, but works pretty well if you can only come occasionally. I will try to make it interesting for adults and kids alike.
URL:https://trinitykirk.org/event/9-am-sunday-school-9/2025-10-19/
LOCATION:Providence North\, 19021 120th Ave NE\, Bothell\, WA\, 98011
END:VEVENT
BEGIN:VEVENT
DTSTART;TZID=America/Los_Angeles:20251019T100000
DTEND;TZID=America/Los_Angeles:20251019T113000
DTSTAMP:20260424T204320
CREATED:20250925T215219Z
LAST-MODIFIED:20250925T215219Z
UID:10002979-1760868000-1760873400@trinitykirk.org
SUMMARY:10:00 AM Worship Service
DESCRIPTION:Everyone is welcome in this service of prayer\, praise\, and worship of God the Father\, through his Son Jesus Christ\, in the power of the Holy Spirit.
URL:https://trinitykirk.org/event/1000-am-worship-service-2-2/2025-10-19/
LOCATION:Providence North\, 19021 120th Ave NE\, Bothell\, WA\, 98011
END:VEVENT
BEGIN:VEVENT
DTSTART;TZID=America/Los_Angeles:20251019T170000
DTEND;TZID=America/Los_Angeles:20251019T180000
DTSTAMP:20260424T204320
CREATED:20250925T215223Z
LAST-MODIFIED:20250925T215223Z
UID:10005074-1760893200-1760896800@trinitykirk.org
SUMMARY:5 PM Psalm Sing
DESCRIPTION:
URL:https://trinitykirk.org/event/430-psalm-sing-2-4/2025-10-19/
LOCATION:Providence North\, 19021 120th Ave NE\, Bothell\, WA\, 98011
END:VEVENT
BEGIN:VEVENT
DTSTART;TZID=America/Los_Angeles:20251020T170000
DTEND;TZID=America/Los_Angeles:20251020T180000
DTSTAMP:20260424T204320
CREATED:20250925T215220Z
LAST-MODIFIED:20260306T233519Z
UID:10005166-1760979600-1760983200@trinitykirk.org
SUMMARY:5 PM Women's Online Bible Study
DESCRIPTION:“For the weapons of our warfare are not carnal but mighty in God for pulling down strongholds\, casting down arguments and every high thing that exalts itself against the knowledge of God\, bringing every thought into captivity to the obedience of Christ…”  — 2 Corinthians 10:4-5 \nEvery Thought Captive (ETC) studies are back this fall\, with 3 different opportunities for ladies to join together in diligent study of God’s Word. Words fail to describe the beauty of fellowship and the increased fervency of prayer that are the result of women putting themselves under the authority of Scripture\, hungering after Christ and seeking Him through the Word\, that He might bring our every thought captive to Himself… so perhaps you need to come experience it for yourself! \nThe 2025-26 season of ETC is tackling the book of Jeremiah. Watch the back for booklets! \nOnline: \nFridays at 8 am begins September 12 \nMondays at 5 pm begins September 15 \nIn-Person: \nTuesdays at 10 am begins September 16 at the Bell’s residence \nQuestions or to get signed up with an online group\, contact Barbara Braendlein
URL:https://trinitykirk.org/event/5-pm-womens-online-bible-study-8/2025-10-20/
LOCATION:Zoom Meeting
END:VEVENT
END:VCALENDAR