BEGIN:VCALENDAR
VERSION:2.0
PRODID:-//Trinity Church - ECPv6.15.12.2//NONSGML v1.0//EN
CALSCALE:GREGORIAN
METHOD:PUBLISH
X-WR-CALNAME:Trinity Church
X-ORIGINAL-URL:https://trinitykirk.org
X-WR-CALDESC:Events for Trinity Church
REFRESH-INTERVAL;VALUE=DURATION:PT1H
X-Robots-Tag:noindex
X-PUBLISHED-TTL:PT1H
BEGIN:VTIMEZONE
TZID:America/Los_Angeles
BEGIN:DAYLIGHT
TZOFFSETFROM:-0800
TZOFFSETTO:-0700
TZNAME:PDT
DTSTART:20240310T100000
END:DAYLIGHT
BEGIN:STANDARD
TZOFFSETFROM:-0700
TZOFFSETTO:-0800
TZNAME:PST
DTSTART:20241103T090000
END:STANDARD
BEGIN:DAYLIGHT
TZOFFSETFROM:-0800
TZOFFSETTO:-0700
TZNAME:PDT
DTSTART:20250309T100000
END:DAYLIGHT
BEGIN:STANDARD
TZOFFSETFROM:-0700
TZOFFSETTO:-0800
TZNAME:PST
DTSTART:20251102T090000
END:STANDARD
BEGIN:DAYLIGHT
TZOFFSETFROM:-0800
TZOFFSETTO:-0700
TZNAME:PDT
DTSTART:20260308T100000
END:DAYLIGHT
BEGIN:STANDARD
TZOFFSETFROM:-0700
TZOFFSETTO:-0800
TZNAME:PST
DTSTART:20261101T090000
END:STANDARD
BEGIN:DAYLIGHT
TZOFFSETFROM:-0800
TZOFFSETTO:-0700
TZNAME:PDT
DTSTART:20270314T100000
END:DAYLIGHT
BEGIN:STANDARD
TZOFFSETFROM:-0700
TZOFFSETTO:-0800
TZNAME:PST
DTSTART:20271107T090000
END:STANDARD
END:VTIMEZONE
BEGIN:VEVENT
DTSTART;TZID=America/Los_Angeles:20251205T080000
DTEND;TZID=America/Los_Angeles:20251205T090000
DTSTAMP:20260424T171224
CREATED:20250925T215219Z
LAST-MODIFIED:20260305T235804Z
UID:10005092-1764921600-1764925200@trinitykirk.org
SUMMARY:8 AM Women's Online Bible Study
DESCRIPTION:“For the weapons of our warfare are not carnal but mighty in God for pulling down strongholds\, casting down arguments and every high thing that exalts itself against the knowledge of God\, bringing every thought into captivity to the obedience of Christ…”  — 2 Corinthians 10:4-5 \nEvery Thought Captive (ETC) studies are back this fall\, with 3 different opportunities for ladies to join together in diligent study of God’s Word. Words fail to describe the beauty of fellowship and the increased fervency of prayer that are the result of women putting themselves under the authority of Scripture\, hungering after Christ and seeking Him through the Word\, that He might bring our every thought captive to Himself… so perhaps you need to come experience it for yourself! \nThe 2025-26 season of ETC is tackling the book of Jeremiah. Watch the back for booklets! \nOnline: \nFridays at 8 am begins September 12 \nMondays at 5 pm begins September 15 \n  \nIn-Person: \nTuesdays at 10 am begins September 16 at the Bell’s residence \n  \nQuestions or to get signed up with an online group\, contact Barbara Braendlein
URL:https://trinitykirk.org/event/8-am-womens-online-bible-study-5/2025-12-05/
LOCATION:Zoom Meeting
END:VEVENT
BEGIN:VEVENT
DTSTART;TZID=America/Los_Angeles:20251207T100000
DTEND;TZID=America/Los_Angeles:20251207T113000
DTSTAMP:20260424T171224
CREATED:20250925T215219Z
LAST-MODIFIED:20250925T215219Z
UID:10002986-1765101600-1765107000@trinitykirk.org
SUMMARY:10:00 AM Worship Service
DESCRIPTION:Everyone is welcome in this service of prayer\, praise\, and worship of God the Father\, through his Son Jesus Christ\, in the power of the Holy Spirit.
URL:https://trinitykirk.org/event/1000-am-worship-service-2-2/2025-12-07/
LOCATION:Providence North\, 19021 120th Ave NE\, Bothell\, WA\, 98011
END:VEVENT
BEGIN:VEVENT
DTSTART;TZID=America/Los_Angeles:20251207T180000
DTEND;TZID=America/Los_Angeles:20251207T213000
DTSTAMP:20260424T171224
CREATED:20250925T215227Z
LAST-MODIFIED:20251016T202952Z
UID:10005044-1765130400-1765143000@trinitykirk.org
SUMMARY:6:00 PM Christmas Party
DESCRIPTION:
URL:https://trinitykirk.org/event/600-pm-christmas-party/
LOCATION:MaryHill Winery\, 14810 NE 145th St\, Woodinville\, WA\, 98072\, United States
END:VEVENT
BEGIN:VEVENT
DTSTART;TZID=America/Los_Angeles:20251208T170000
DTEND;TZID=America/Los_Angeles:20251208T180000
DTSTAMP:20260424T171224
CREATED:20250925T215220Z
LAST-MODIFIED:20260306T233519Z
UID:10005173-1765213200-1765216800@trinitykirk.org
SUMMARY:5 PM Women's Online Bible Study
DESCRIPTION:“For the weapons of our warfare are not carnal but mighty in God for pulling down strongholds\, casting down arguments and every high thing that exalts itself against the knowledge of God\, bringing every thought into captivity to the obedience of Christ…”  — 2 Corinthians 10:4-5 \nEvery Thought Captive (ETC) studies are back this fall\, with 3 different opportunities for ladies to join together in diligent study of God’s Word. Words fail to describe the beauty of fellowship and the increased fervency of prayer that are the result of women putting themselves under the authority of Scripture\, hungering after Christ and seeking Him through the Word\, that He might bring our every thought captive to Himself… so perhaps you need to come experience it for yourself! \nThe 2025-26 season of ETC is tackling the book of Jeremiah. Watch the back for booklets! \nOnline: \nFridays at 8 am begins September 12 \nMondays at 5 pm begins September 15 \nIn-Person: \nTuesdays at 10 am begins September 16 at the Bell’s residence \nQuestions or to get signed up with an online group\, contact Barbara Braendlein
URL:https://trinitykirk.org/event/5-pm-womens-online-bible-study-8/2025-12-08/
LOCATION:Zoom Meeting
END:VEVENT
BEGIN:VEVENT
DTSTART;TZID=America/Los_Angeles:20251209T101500
DTEND;TZID=America/Los_Angeles:20251209T111500
DTSTAMP:20260424T171224
CREATED:20250925T215221Z
LAST-MODIFIED:20260306T233656Z
UID:10005576-1765275300-1765278900@trinitykirk.org
SUMMARY:10:15 AM Women's Bible Study
DESCRIPTION:“For the weapons of our warfare are not carnal but mighty in God for pulling down strongholds\, casting down arguments and every high thing that exalts itself against the knowledge of God\, bringing every thought into captivity to the obedience of Christ…”  — 2 Corinthians 10:4-5 \nEvery Thought Captive (ETC) studies are back this fall\, with 3 different opportunities for ladies to join together in diligent study of God’s Word. Words fail to describe the beauty of fellowship and the increased fervency of prayer that are the result of women putting themselves under the authority of Scripture\, hungering after Christ and seeking Him through the Word\, that He might bring our every thought captive to Himself… so perhaps you need to come experience it for yourself! \nThe 2025-26 season of ETC is tackling the book of Jeremiah. Watch the back for booklets! \nOnline: \nFridays at 8 am begins September 12 \nMondays at 5 pm begins September 15 \nIn-Person: \nTuesdays at 10 am begins September 16 at the Bell’s residence \nQuestions or to get signed up with an online group\, contact Barbara Braendlein
URL:https://trinitykirk.org/event/10-am-womens-bible-study-9/2025-12-09/
LOCATION:Megan Bell Home\, 23701 3rd PL W\, Bothell\, WA\, 98021
END:VEVENT
BEGIN:VEVENT
DTSTART;TZID=America/Los_Angeles:20251209T174500
DTEND;TZID=America/Los_Angeles:20251209T191500
DTSTAMP:20260424T171224
CREATED:20251029T223135Z
LAST-MODIFIED:20251029T223135Z
UID:10005660-1765302300-1765307700@trinitykirk.org
SUMMARY:5:45 Woodinville Storehouse Volunteering
DESCRIPTION:Trinity Church has a team of volunteers to serve and love those in need in the Woodinville area the second Tuesday of each month\, 5:45pm – 7:20pm. \nOur goal is to have a rotation so people will volunteer three or four times a year. \nThe following link has information about the organization: www.woodinvillestorehouse.org \nTo volunteer\, signup using our Services Mobile App or Webpage or contact Roger Beasley.
URL:https://trinitykirk.org/event/545-woodinville-storehouse-volunteering/2025-12-09/
LOCATION:Woodinville Storehouse\, 17110 140th Ave NE\, Woodinville\, WA\, 98072
END:VEVENT
BEGIN:VEVENT
DTSTART;TZID=America/Los_Angeles:20251209T193000
DTEND;TZID=America/Los_Angeles:20251209T210000
DTSTAMP:20260424T171224
CREATED:20250925T215221Z
LAST-MODIFIED:20260416T214551Z
UID:10005511-1765308600-1765314000@trinitykirk.org
SUMMARY:7:30 PM Young Women's Bible Study
DESCRIPTION:
URL:https://trinitykirk.org/event/730-pm-young-womens-bible-study/2025-12-09/
LOCATION:Ruiz Home\, 1120 Ave A Unit 207\, Snohomish\, WA
END:VEVENT
BEGIN:VEVENT
DTSTART;TZID=America/Los_Angeles:20251210T203000
DTEND;TZID=America/Los_Angeles:20251210T223000
DTSTAMP:20260424T171224
CREATED:20250925T214600Z
LAST-MODIFIED:20260319T212540Z
UID:10001980-1765398600-1765405800@trinitykirk.org
SUMMARY:8:30 PM Elders Meeting
DESCRIPTION:
URL:https://trinitykirk.org/event/830-pm-elders-meeting/2025-12-10/
LOCATION:Church Office
CATEGORIES:Internal,Office
END:VEVENT
BEGIN:VEVENT
DTSTART;TZID=America/Los_Angeles:20251212T080000
DTEND;TZID=America/Los_Angeles:20251212T090000
DTSTAMP:20260424T171224
CREATED:20250925T215219Z
LAST-MODIFIED:20260305T235804Z
UID:10005093-1765526400-1765530000@trinitykirk.org
SUMMARY:8 AM Women's Online Bible Study
DESCRIPTION:“For the weapons of our warfare are not carnal but mighty in God for pulling down strongholds\, casting down arguments and every high thing that exalts itself against the knowledge of God\, bringing every thought into captivity to the obedience of Christ…”  — 2 Corinthians 10:4-5 \nEvery Thought Captive (ETC) studies are back this fall\, with 3 different opportunities for ladies to join together in diligent study of God’s Word. Words fail to describe the beauty of fellowship and the increased fervency of prayer that are the result of women putting themselves under the authority of Scripture\, hungering after Christ and seeking Him through the Word\, that He might bring our every thought captive to Himself… so perhaps you need to come experience it for yourself! \nThe 2025-26 season of ETC is tackling the book of Jeremiah. Watch the back for booklets! \nOnline: \nFridays at 8 am begins September 12 \nMondays at 5 pm begins September 15 \n  \nIn-Person: \nTuesdays at 10 am begins September 16 at the Bell’s residence \n  \nQuestions or to get signed up with an online group\, contact Barbara Braendlein
URL:https://trinitykirk.org/event/8-am-womens-online-bible-study-5/2025-12-12/
LOCATION:Zoom Meeting
END:VEVENT
BEGIN:VEVENT
DTSTART;TZID=America/Los_Angeles:20251213T100000
DTEND;TZID=America/Los_Angeles:20251213T120000
DTSTAMP:20260424T171224
CREATED:20251103T224214Z
LAST-MODIFIED:20251103T224214Z
UID:10005728-1765620000-1765627200@trinitykirk.org
SUMMARY:10 AM Christmas Tea
DESCRIPTION:
URL:https://trinitykirk.org/event/10-am-christmas-tea-2/
LOCATION:Providence North\, 19021 120th Ave NE\, Bothell\, WA\, 98011
END:VEVENT
BEGIN:VEVENT
DTSTART;TZID=America/Los_Angeles:20251214T100000
DTEND;TZID=America/Los_Angeles:20251214T113000
DTSTAMP:20260424T171224
CREATED:20250925T215219Z
LAST-MODIFIED:20250925T215219Z
UID:10002987-1765706400-1765711800@trinitykirk.org
SUMMARY:10:00 AM Worship Service
DESCRIPTION:Everyone is welcome in this service of prayer\, praise\, and worship of God the Father\, through his Son Jesus Christ\, in the power of the Holy Spirit.
URL:https://trinitykirk.org/event/1000-am-worship-service-2-2/2025-12-14/
LOCATION:Providence North\, 19021 120th Ave NE\, Bothell\, WA\, 98011
END:VEVENT
BEGIN:VEVENT
DTSTART;TZID=America/Los_Angeles:20251214T113000
DTEND;TZID=America/Los_Angeles:20251214T123000
DTSTAMP:20260424T171224
CREATED:20250925T215157Z
LAST-MODIFIED:20251016T203205Z
UID:10005657-1765711800-1765715400@trinitykirk.org
SUMMARY:11:30 AM Feast
DESCRIPTION:Lunch will be provided.
URL:https://trinitykirk.org/event/1130-am-feast-3/2025-12-14/
LOCATION:Providence North\, 19021 120th Ave NE\, Bothell\, WA\, 98011
END:VEVENT
BEGIN:VEVENT
DTSTART;TZID=America/Los_Angeles:20251214T140000
DTEND;TZID=America/Los_Angeles:20251214T160000
DTSTAMP:20260424T171224
CREATED:20251113T213302Z
LAST-MODIFIED:20251113T213303Z
UID:10005656-1765720800-1765728000@trinitykirk.org
SUMMARY:2 PM Joyful Dancing
DESCRIPTION:Come and learn to dance the basics or expand your skill.\nFor full explanations of what Joyful Dancing is\, please click here to read through our site.\nwww.joyfuldancing.org \n$10 per dancer or $30 per family \nAll minors must have a supervising adult present!
URL:https://trinitykirk.org/event/2-pm-joyful-dancing-5-2/
LOCATION:Maltby Community Club\, 8711 206th St SE\, Snohomish\, WA\, 98296
END:VEVENT
BEGIN:VEVENT
DTSTART;TZID=America/Los_Angeles:20251217T203000
DTEND;TZID=America/Los_Angeles:20251217T223000
DTSTAMP:20260424T171224
CREATED:20250925T214600Z
LAST-MODIFIED:20260319T212540Z
UID:10001981-1766003400-1766010600@trinitykirk.org
SUMMARY:8:30 PM Elders Meeting
DESCRIPTION:
URL:https://trinitykirk.org/event/830-pm-elders-meeting/2025-12-17/
LOCATION:Church Office
CATEGORIES:Internal,Office
END:VEVENT
BEGIN:VEVENT
DTSTART;TZID=America/Los_Angeles:20251220T200000
DTEND;TZID=America/Los_Angeles:20251220T230000
DTSTAMP:20260424T171224
CREATED:20250925T215227Z
LAST-MODIFIED:20251108T001455Z
UID:10005562-1766260800-1766271600@trinitykirk.org
SUMMARY:8 PM Handel's Messiah Concert
DESCRIPTION:
URL:https://trinitykirk.org/event/8-pm-handels-messiah-concert-2/
LOCATION:Benaroya Hall\, 200 University Street\, Seattle\, WA\, 98101
END:VEVENT
BEGIN:VEVENT
DTSTART;TZID=America/Los_Angeles:20251221T100000
DTEND;TZID=America/Los_Angeles:20251221T113000
DTSTAMP:20260424T171224
CREATED:20250925T215219Z
LAST-MODIFIED:20250925T215219Z
UID:10002988-1766311200-1766316600@trinitykirk.org
SUMMARY:10:00 AM Worship Service
DESCRIPTION:Everyone is welcome in this service of prayer\, praise\, and worship of God the Father\, through his Son Jesus Christ\, in the power of the Holy Spirit.
URL:https://trinitykirk.org/event/1000-am-worship-service-2-2/2025-12-21/
LOCATION:Providence North\, 19021 120th Ave NE\, Bothell\, WA\, 98011
END:VEVENT
BEGIN:VEVENT
DTSTART;VALUE=DATE:20251224
DTEND;VALUE=DATE:20251225
DTSTAMP:20260424T171224
CREATED:20250925T214622Z
LAST-MODIFIED:20250925T214622Z
UID:10002347-1766534400-1766620799@trinitykirk.org
SUMMARY:Christmas Eve
DESCRIPTION:
URL:https://trinitykirk.org/event/christmas-eve/2025-12-24/
CATEGORIES:Internal
END:VEVENT
BEGIN:VEVENT
DTSTART;TZID=America/Los_Angeles:20251224T200000
DTEND;TZID=America/Los_Angeles:20251224T210000
DTSTAMP:20260424T171224
CREATED:20250925T215157Z
LAST-MODIFIED:20251216T034607Z
UID:10005757-1766606400-1766610000@trinitykirk.org
SUMMARY:7 PM Lessons and Carols Service
DESCRIPTION:We will celebrate the coming of our Savior Jesus in our service of Lessons & Carols. This is a celebration of the events of Christmas with readings from Scripture that alternate with Christmas carols. \nEmmanuel Church and Redeemer Church will be joining us for this event.
URL:https://trinitykirk.org/event/7-pm-lessons-carols-service-4/2025-12-24/
LOCATION:Providence North\, 19021 120th Ave NE\, Bothell\, WA\, 98011
END:VEVENT
BEGIN:VEVENT
DTSTART;TZID=America/Los_Angeles:20251224T203000
DTEND;TZID=America/Los_Angeles:20251224T223000
DTSTAMP:20260424T171224
CREATED:20250925T214600Z
LAST-MODIFIED:20260319T212540Z
UID:10005857-1766608200-1766615400@trinitykirk.org
SUMMARY:8:30 PM Elders Meeting
DESCRIPTION:
URL:https://trinitykirk.org/event/830-pm-elders-meeting/2025-12-24/
LOCATION:Church Office
CATEGORIES:Internal,Office
END:VEVENT
BEGIN:VEVENT
DTSTART;VALUE=DATE:20251225
DTEND;VALUE=DATE:20251226
DTSTAMP:20260424T171224
CREATED:20250925T214623Z
LAST-MODIFIED:20250925T214623Z
UID:10002339-1766620800-1766707199@trinitykirk.org
SUMMARY:Christmas
DESCRIPTION:
URL:https://trinitykirk.org/event/christmas/2025-12-25/
END:VEVENT
BEGIN:VEVENT
DTSTART;TZID=America/Los_Angeles:20251225T100000
DTEND;TZID=America/Los_Angeles:20251225T110000
DTSTAMP:20260424T171224
CREATED:20251211T004409Z
LAST-MODIFIED:20251211T004409Z
UID:10005745-1766656800-1766660400@trinitykirk.org
SUMMARY:10 AM Christmas Morning Service
DESCRIPTION:Christmas Morning Service will be held at Emmanuel Church.
URL:https://trinitykirk.org/event/10-am-christmas-morning-service-2/
LOCATION:Providence Classical Christsian School\, 18943 120th Ave NE\, Bothell\, WA\, 98011
END:VEVENT
BEGIN:VEVENT
DTSTART;TZID=America/Los_Angeles:20251228T100000
DTEND;TZID=America/Los_Angeles:20251228T113000
DTSTAMP:20260424T171224
CREATED:20250925T215219Z
LAST-MODIFIED:20250925T215219Z
UID:10002989-1766916000-1766921400@trinitykirk.org
SUMMARY:10:00 AM Worship Service
DESCRIPTION:Everyone is welcome in this service of prayer\, praise\, and worship of God the Father\, through his Son Jesus Christ\, in the power of the Holy Spirit.
URL:https://trinitykirk.org/event/1000-am-worship-service-2-2/2025-12-28/
LOCATION:Providence North\, 19021 120th Ave NE\, Bothell\, WA\, 98011
END:VEVENT
BEGIN:VEVENT
DTSTART;VALUE=DATE:20251231
DTEND;VALUE=DATE:20260101
DTSTAMP:20260424T171224
CREATED:20250925T214623Z
LAST-MODIFIED:20250925T214623Z
UID:10002355-1767139200-1767225599@trinitykirk.org
SUMMARY:New Year's Eve
DESCRIPTION:
URL:https://trinitykirk.org/event/new-years-eve/2025-12-31/
CATEGORIES:Internal
END:VEVENT
BEGIN:VEVENT
DTSTART;TZID=America/Los_Angeles:20251231T203000
DTEND;TZID=America/Los_Angeles:20251231T223000
DTSTAMP:20260424T171224
CREATED:20250925T214600Z
LAST-MODIFIED:20260319T212540Z
UID:10005858-1767213000-1767220200@trinitykirk.org
SUMMARY:8:30 PM Elders Meeting
DESCRIPTION:
URL:https://trinitykirk.org/event/830-pm-elders-meeting/2025-12-31/
LOCATION:Church Office
CATEGORIES:Internal,Office
END:VEVENT
BEGIN:VEVENT
DTSTART;VALUE=DATE:20260101
DTEND;VALUE=DATE:20260102
DTSTAMP:20260424T171224
CREATED:20250925T214553Z
LAST-MODIFIED:20250925T214553Z
UID:10002364-1767225600-1767311999@trinitykirk.org
SUMMARY:New Year's Day
DESCRIPTION:
URL:https://trinitykirk.org/event/new-years-day-2/2026-01-01/
END:VEVENT
BEGIN:VEVENT
DTSTART;TZID=America/Los_Angeles:20260104T100000
DTEND;TZID=America/Los_Angeles:20260104T113000
DTSTAMP:20260424T171224
CREATED:20250925T215219Z
LAST-MODIFIED:20250925T215219Z
UID:10002990-1767520800-1767526200@trinitykirk.org
SUMMARY:10:00 AM Worship Service
DESCRIPTION:Everyone is welcome in this service of prayer\, praise\, and worship of God the Father\, through his Son Jesus Christ\, in the power of the Holy Spirit.
URL:https://trinitykirk.org/event/1000-am-worship-service-2-2/2026-01-04/
LOCATION:Providence North\, 19021 120th Ave NE\, Bothell\, WA\, 98011
END:VEVENT
BEGIN:VEVENT
DTSTART;TZID=America/Los_Angeles:20260105T190000
DTEND;TZID=America/Los_Angeles:20260105T220000
DTSTAMP:20260424T171224
CREATED:20251223T014005Z
LAST-MODIFIED:20251223T014005Z
UID:10005760-1767639600-1767650400@trinitykirk.org
SUMMARY:7 PM Twelfth Night Ball
DESCRIPTION:This is a ticketed event.  Contact Julie Letsche for info.
URL:https://trinitykirk.org/event/7-pm-twelfth-night-ball-3/
LOCATION:The Feather Ballroom in\, 801 1st Street\, Snohomish\, WA
END:VEVENT
BEGIN:VEVENT
DTSTART;TZID=America/Los_Angeles:20260107T203000
DTEND;TZID=America/Los_Angeles:20260107T223000
DTSTAMP:20260424T171224
CREATED:20250925T214600Z
LAST-MODIFIED:20260319T212540Z
UID:10005859-1767817800-1767825000@trinitykirk.org
SUMMARY:8:30 PM Elders Meeting
DESCRIPTION:
URL:https://trinitykirk.org/event/830-pm-elders-meeting/2026-01-07/
LOCATION:Church Office
CATEGORIES:Internal,Office
END:VEVENT
BEGIN:VEVENT
DTSTART;TZID=America/Los_Angeles:20260109T093000
DTEND;TZID=America/Los_Angeles:20260109T170000
DTSTAMP:20260424T171224
CREATED:20260106T002626Z
LAST-MODIFIED:20260106T002626Z
UID:10005768-1767951000-1767978000@trinitykirk.org
SUMMARY:9:30 AM Wallpaper Installation
DESCRIPTION:Emmily McIntosh will be installing wallpaper today.
URL:https://trinitykirk.org/event/930-am-wallpaper-installation/
CATEGORIES:Internal,Office
END:VEVENT
BEGIN:VEVENT
DTSTART;TZID=America/Los_Angeles:20260111T090000
DTEND;TZID=America/Los_Angeles:20260111T094000
DTSTAMP:20260424T171224
CREATED:20260117T013530Z
LAST-MODIFIED:20260117T021149Z
UID:10005777-1768122000-1768124400@trinitykirk.org
SUMMARY:9AM Sunday School
DESCRIPTION:We are studying the Westminster Shorter Catechism. All are welcome “week by week” or as you are able to join us.
URL:https://trinitykirk.org/event/9am-sunday-school/2026-01-11/
LOCATION:Providence North\, 19021 120th Ave NE\, Bothell\, WA\, 98011
END:VEVENT
END:VCALENDAR