BEGIN:VCALENDAR
VERSION:2.0
PRODID:-//Trinity Church - ECPv6.15.12.2//NONSGML v1.0//EN
CALSCALE:GREGORIAN
METHOD:PUBLISH
X-WR-CALNAME:Trinity Church
X-ORIGINAL-URL:https://trinitykirk.org
X-WR-CALDESC:Events for Trinity Church
REFRESH-INTERVAL;VALUE=DURATION:PT1H
X-Robots-Tag:noindex
X-PUBLISHED-TTL:PT1H
BEGIN:VTIMEZONE
TZID:America/Los_Angeles
BEGIN:DAYLIGHT
TZOFFSETFROM:-0800
TZOFFSETTO:-0700
TZNAME:PDT
DTSTART:20250309T100000
END:DAYLIGHT
BEGIN:STANDARD
TZOFFSETFROM:-0700
TZOFFSETTO:-0800
TZNAME:PST
DTSTART:20251102T090000
END:STANDARD
BEGIN:DAYLIGHT
TZOFFSETFROM:-0800
TZOFFSETTO:-0700
TZNAME:PDT
DTSTART:20260308T100000
END:DAYLIGHT
BEGIN:STANDARD
TZOFFSETFROM:-0700
TZOFFSETTO:-0800
TZNAME:PST
DTSTART:20261101T090000
END:STANDARD
BEGIN:DAYLIGHT
TZOFFSETFROM:-0800
TZOFFSETTO:-0700
TZNAME:PDT
DTSTART:20270314T100000
END:DAYLIGHT
BEGIN:STANDARD
TZOFFSETFROM:-0700
TZOFFSETTO:-0800
TZNAME:PST
DTSTART:20271107T090000
END:STANDARD
END:VTIMEZONE
BEGIN:VEVENT
DTSTART;TZID=America/Los_Angeles:20260107T203000
DTEND;TZID=America/Los_Angeles:20260107T223000
DTSTAMP:20260424T172427
CREATED:20250925T214600Z
LAST-MODIFIED:20260319T212540Z
UID:10005859-1767817800-1767825000@trinitykirk.org
SUMMARY:8:30 PM Elders Meeting
DESCRIPTION:
URL:https://trinitykirk.org/event/830-pm-elders-meeting/2026-01-07/
LOCATION:Church Office
CATEGORIES:Internal,Office
END:VEVENT
BEGIN:VEVENT
DTSTART;TZID=America/Los_Angeles:20260109T093000
DTEND;TZID=America/Los_Angeles:20260109T170000
DTSTAMP:20260424T172427
CREATED:20260106T002626Z
LAST-MODIFIED:20260106T002626Z
UID:10005768-1767951000-1767978000@trinitykirk.org
SUMMARY:9:30 AM Wallpaper Installation
DESCRIPTION:Emmily McIntosh will be installing wallpaper today.
URL:https://trinitykirk.org/event/930-am-wallpaper-installation/
CATEGORIES:Internal,Office
END:VEVENT
BEGIN:VEVENT
DTSTART;TZID=America/Los_Angeles:20260111T090000
DTEND;TZID=America/Los_Angeles:20260111T094000
DTSTAMP:20260424T172427
CREATED:20260117T013530Z
LAST-MODIFIED:20260117T021149Z
UID:10005777-1768122000-1768124400@trinitykirk.org
SUMMARY:9AM Sunday School
DESCRIPTION:We are studying the Westminster Shorter Catechism. All are welcome “week by week” or as you are able to join us.
URL:https://trinitykirk.org/event/9am-sunday-school/2026-01-11/
LOCATION:Providence North\, 19021 120th Ave NE\, Bothell\, WA\, 98011
END:VEVENT
BEGIN:VEVENT
DTSTART;TZID=America/Los_Angeles:20260111T100000
DTEND;TZID=America/Los_Angeles:20260111T113000
DTSTAMP:20260424T172427
CREATED:20250925T215219Z
LAST-MODIFIED:20250925T215219Z
UID:10002991-1768125600-1768131000@trinitykirk.org
SUMMARY:10:00 AM Worship Service
DESCRIPTION:Everyone is welcome in this service of prayer\, praise\, and worship of God the Father\, through his Son Jesus Christ\, in the power of the Holy Spirit.
URL:https://trinitykirk.org/event/1000-am-worship-service-2-2/2026-01-11/
LOCATION:Providence North\, 19021 120th Ave NE\, Bothell\, WA\, 98011
END:VEVENT
BEGIN:VEVENT
DTSTART;TZID=America/Los_Angeles:20260111T111500
DTEND;TZID=America/Los_Angeles:20260111T120000
DTSTAMP:20260424T172427
CREATED:20260102T214904Z
LAST-MODIFIED:20260102T215030Z
UID:10005767-1768130100-1768132800@trinitykirk.org
SUMMARY:11:15 AM Directory Photo Day
DESCRIPTION:If you do not currently have a photo in our church directory or you would like an updated photo\, you are invited to have a directory photo taken with Emma Hess following the worship service on Sunday\, Jan. 11th.
URL:https://trinitykirk.org/event/directory-photo-day-4/
END:VEVENT
BEGIN:VEVENT
DTSTART;TZID=America/Los_Angeles:20260111T113000
DTEND;TZID=America/Los_Angeles:20260111T123000
DTSTAMP:20260424T172427
CREATED:20251120T223500Z
LAST-MODIFIED:20251126T011918Z
UID:10005739-1768131000-1768134600@trinitykirk.org
SUMMARY:11:30 AM Feast
DESCRIPTION:
URL:https://trinitykirk.org/event/1130-am-feast-4/2026-01-11/
LOCATION:Providence North\, 19021 120th Ave NE\, Bothell\, WA\, 98011
END:VEVENT
BEGIN:VEVENT
DTSTART;TZID=America/Los_Angeles:20260111T190000
DTEND;TZID=America/Los_Angeles:20260111T203000
DTSTAMP:20260424T172427
CREATED:20251121T002937Z
LAST-MODIFIED:20251121T002937Z
UID:10005740-1768158000-1768163400@trinitykirk.org
SUMMARY:7 PM Men's Meeting
DESCRIPTION:
URL:https://trinitykirk.org/event/7-pm-mens-meeting-10/2026-01-11/
LOCATION:Church Office in Woodinville\, 14623 NE North Woodinville Way\, Suite 201\, Woodinville\, WA\, 98072
END:VEVENT
BEGIN:VEVENT
DTSTART;TZID=America/Los_Angeles:20260112T170000
DTEND;TZID=America/Los_Angeles:20260112T180000
DTSTAMP:20260424T172427
CREATED:20250925T215220Z
LAST-MODIFIED:20260306T233519Z
UID:10005178-1768237200-1768240800@trinitykirk.org
SUMMARY:5 PM Women's Online Bible Study
DESCRIPTION:“For the weapons of our warfare are not carnal but mighty in God for pulling down strongholds\, casting down arguments and every high thing that exalts itself against the knowledge of God\, bringing every thought into captivity to the obedience of Christ…”  — 2 Corinthians 10:4-5 \nEvery Thought Captive (ETC) studies are back this fall\, with 3 different opportunities for ladies to join together in diligent study of God’s Word. Words fail to describe the beauty of fellowship and the increased fervency of prayer that are the result of women putting themselves under the authority of Scripture\, hungering after Christ and seeking Him through the Word\, that He might bring our every thought captive to Himself… so perhaps you need to come experience it for yourself! \nThe 2025-26 season of ETC is tackling the book of Jeremiah. Watch the back for booklets! \nOnline: \nFridays at 8 am begins September 12 \nMondays at 5 pm begins September 15 \nIn-Person: \nTuesdays at 10 am begins September 16 at the Bell’s residence \nQuestions or to get signed up with an online group\, contact Barbara Braendlein
URL:https://trinitykirk.org/event/5-pm-womens-online-bible-study-8/2026-01-12/
LOCATION:Zoom Meeting
END:VEVENT
BEGIN:VEVENT
DTSTART;TZID=America/Los_Angeles:20260113T101500
DTEND;TZID=America/Los_Angeles:20260113T111500
DTSTAMP:20260424T172427
CREATED:20250925T215221Z
LAST-MODIFIED:20260306T233656Z
UID:10005581-1768299300-1768302900@trinitykirk.org
SUMMARY:10:15 AM Women's Bible Study
DESCRIPTION:“For the weapons of our warfare are not carnal but mighty in God for pulling down strongholds\, casting down arguments and every high thing that exalts itself against the knowledge of God\, bringing every thought into captivity to the obedience of Christ…”  — 2 Corinthians 10:4-5 \nEvery Thought Captive (ETC) studies are back this fall\, with 3 different opportunities for ladies to join together in diligent study of God’s Word. Words fail to describe the beauty of fellowship and the increased fervency of prayer that are the result of women putting themselves under the authority of Scripture\, hungering after Christ and seeking Him through the Word\, that He might bring our every thought captive to Himself… so perhaps you need to come experience it for yourself! \nThe 2025-26 season of ETC is tackling the book of Jeremiah. Watch the back for booklets! \nOnline: \nFridays at 8 am begins September 12 \nMondays at 5 pm begins September 15 \nIn-Person: \nTuesdays at 10 am begins September 16 at the Bell’s residence \nQuestions or to get signed up with an online group\, contact Barbara Braendlein
URL:https://trinitykirk.org/event/10-am-womens-bible-study-9/2026-01-13/
LOCATION:Megan Bell Home\, 23701 3rd PL W\, Bothell\, WA\, 98021
END:VEVENT
BEGIN:VEVENT
DTSTART;TZID=America/Los_Angeles:20260113T174500
DTEND;TZID=America/Los_Angeles:20260113T191500
DTSTAMP:20260424T172427
CREATED:20251029T223135Z
LAST-MODIFIED:20251029T223135Z
UID:10005661-1768326300-1768331700@trinitykirk.org
SUMMARY:5:45 Woodinville Storehouse Volunteering
DESCRIPTION:Trinity Church has a team of volunteers to serve and love those in need in the Woodinville area the second Tuesday of each month\, 5:45pm – 7:20pm. \nOur goal is to have a rotation so people will volunteer three or four times a year. \nThe following link has information about the organization: www.woodinvillestorehouse.org \nTo volunteer\, signup using our Services Mobile App or Webpage or contact Roger Beasley.
URL:https://trinitykirk.org/event/545-woodinville-storehouse-volunteering/2026-01-13/
LOCATION:Woodinville Storehouse\, 17110 140th Ave NE\, Woodinville\, WA\, 98072
END:VEVENT
BEGIN:VEVENT
DTSTART;TZID=America/Los_Angeles:20260113T193000
DTEND;TZID=America/Los_Angeles:20260113T210000
DTSTAMP:20260424T172427
CREATED:20250925T215221Z
LAST-MODIFIED:20260416T214551Z
UID:10005516-1768332600-1768338000@trinitykirk.org
SUMMARY:7:30 PM Young Women's Bible Study
DESCRIPTION:
URL:https://trinitykirk.org/event/730-pm-young-womens-bible-study/2026-01-13/
LOCATION:Ruiz Home\, 1120 Ave A Unit 207\, Snohomish\, WA
END:VEVENT
BEGIN:VEVENT
DTSTART;TZID=America/Los_Angeles:20260114T190000
DTEND;TZID=America/Los_Angeles:20260114T200000
DTSTAMP:20260424T172427
CREATED:20251215T231553Z
LAST-MODIFIED:20251215T231554Z
UID:10005747-1768417200-1768420800@trinitykirk.org
SUMMARY:Elder Visitation (1)
DESCRIPTION:Rich & Alice Arneson
URL:https://trinitykirk.org/event/elder-visitation-1-15-3/
CATEGORIES:Internal
END:VEVENT
BEGIN:VEVENT
DTSTART;TZID=America/Los_Angeles:20260114T190000
DTEND;TZID=America/Los_Angeles:20260114T200000
DTSTAMP:20260424T172427
CREATED:20251215T232037Z
LAST-MODIFIED:20251215T232518Z
UID:10005751-1768417200-1768420800@trinitykirk.org
SUMMARY:Elder Visitation (2)
DESCRIPTION:Roger & Barbara Beasley
URL:https://trinitykirk.org/event/elder-visitation-2-13-2/
CATEGORIES:Internal
END:VEVENT
BEGIN:VEVENT
DTSTART;TZID=America/Los_Angeles:20260114T203000
DTEND;TZID=America/Los_Angeles:20260114T223000
DTSTAMP:20260424T172427
CREATED:20250925T214600Z
LAST-MODIFIED:20260319T212540Z
UID:10005860-1768422600-1768429800@trinitykirk.org
SUMMARY:8:30 PM Elders Meeting
DESCRIPTION:
URL:https://trinitykirk.org/event/830-pm-elders-meeting/2026-01-14/
LOCATION:Church Office
CATEGORIES:Internal,Office
END:VEVENT
BEGIN:VEVENT
DTSTART;TZID=America/Los_Angeles:20260115T190000
DTEND;TZID=America/Los_Angeles:20260115T203000
DTSTAMP:20260424T172427
CREATED:20251229T230019Z
LAST-MODIFIED:20260306T232246Z
UID:10005762-1768503600-1768509000@trinitykirk.org
SUMMARY:7 PM Ladies Fellowship
DESCRIPTION:
URL:https://trinitykirk.org/event/7-pm-ladies-fellowship-12/
LOCATION:Church Office
END:VEVENT
BEGIN:VEVENT
DTSTART;TZID=America/Los_Angeles:20260116T080000
DTEND;TZID=America/Los_Angeles:20260116T090000
DTSTAMP:20260424T172427
CREATED:20250925T215219Z
LAST-MODIFIED:20260305T235804Z
UID:10005098-1768550400-1768554000@trinitykirk.org
SUMMARY:8 AM Women's Online Bible Study
DESCRIPTION:“For the weapons of our warfare are not carnal but mighty in God for pulling down strongholds\, casting down arguments and every high thing that exalts itself against the knowledge of God\, bringing every thought into captivity to the obedience of Christ…”  — 2 Corinthians 10:4-5 \nEvery Thought Captive (ETC) studies are back this fall\, with 3 different opportunities for ladies to join together in diligent study of God’s Word. Words fail to describe the beauty of fellowship and the increased fervency of prayer that are the result of women putting themselves under the authority of Scripture\, hungering after Christ and seeking Him through the Word\, that He might bring our every thought captive to Himself… so perhaps you need to come experience it for yourself! \nThe 2025-26 season of ETC is tackling the book of Jeremiah. Watch the back for booklets! \nOnline: \nFridays at 8 am begins September 12 \nMondays at 5 pm begins September 15 \n  \nIn-Person: \nTuesdays at 10 am begins September 16 at the Bell’s residence \n  \nQuestions or to get signed up with an online group\, contact Barbara Braendlein
URL:https://trinitykirk.org/event/8-am-womens-online-bible-study-5/2026-01-16/
LOCATION:Zoom Meeting
END:VEVENT
BEGIN:VEVENT
DTSTART;TZID=America/Los_Angeles:20260118T090000
DTEND;TZID=America/Los_Angeles:20260118T094000
DTSTAMP:20260424T172427
CREATED:20260117T013530Z
LAST-MODIFIED:20260117T021149Z
UID:10005778-1768726800-1768729200@trinitykirk.org
SUMMARY:9AM Sunday School
DESCRIPTION:We are studying the Westminster Shorter Catechism. All are welcome “week by week” or as you are able to join us.
URL:https://trinitykirk.org/event/9am-sunday-school/2026-01-18/
LOCATION:Providence North\, 19021 120th Ave NE\, Bothell\, WA\, 98011
END:VEVENT
BEGIN:VEVENT
DTSTART;TZID=America/Los_Angeles:20260118T100000
DTEND;TZID=America/Los_Angeles:20260118T113000
DTSTAMP:20260424T172427
CREATED:20250925T215219Z
LAST-MODIFIED:20250925T215219Z
UID:10002992-1768730400-1768735800@trinitykirk.org
SUMMARY:10:00 AM Worship Service
DESCRIPTION:Everyone is welcome in this service of prayer\, praise\, and worship of God the Father\, through his Son Jesus Christ\, in the power of the Holy Spirit.
URL:https://trinitykirk.org/event/1000-am-worship-service-2-2/2026-01-18/
LOCATION:Providence North\, 19021 120th Ave NE\, Bothell\, WA\, 98011
END:VEVENT
BEGIN:VEVENT
DTSTART;TZID=America/Los_Angeles:20260118T120000
DTEND;TZID=America/Los_Angeles:20260118T124500
DTSTAMP:20260424T172427
CREATED:20260117T005757Z
LAST-MODIFIED:20260117T005757Z
UID:10005776-1768737600-1768740300@trinitykirk.org
SUMMARY:12 PM Households Meeting
DESCRIPTION:
URL:https://trinitykirk.org/event/12-pm-households-meeting/
LOCATION:Providence North\, 19021 120th Ave NE\, Bothell\, WA\, 98011
END:VEVENT
BEGIN:VEVENT
DTSTART;TZID=America/Los_Angeles:20260118T170000
DTEND;TZID=America/Los_Angeles:20260118T180000
DTSTAMP:20260424T172427
CREATED:20251121T003328Z
LAST-MODIFIED:20260422T231248Z
UID:10005729-1768755600-1768759200@trinitykirk.org
SUMMARY:5 PM Psalm Sing
DESCRIPTION:
URL:https://trinitykirk.org/event/5-pm-psalm-sing-2/2026-01-18/
LOCATION:Providence North\, 19021 120th Ave NE\, Bothell\, WA\, 98011
END:VEVENT
BEGIN:VEVENT
DTSTART;TZID=America/Los_Angeles:20260119T170000
DTEND;TZID=America/Los_Angeles:20260119T180000
DTSTAMP:20260424T172427
CREATED:20250925T215220Z
LAST-MODIFIED:20260306T233519Z
UID:10005179-1768842000-1768845600@trinitykirk.org
SUMMARY:5 PM Women's Online Bible Study
DESCRIPTION:“For the weapons of our warfare are not carnal but mighty in God for pulling down strongholds\, casting down arguments and every high thing that exalts itself against the knowledge of God\, bringing every thought into captivity to the obedience of Christ…”  — 2 Corinthians 10:4-5 \nEvery Thought Captive (ETC) studies are back this fall\, with 3 different opportunities for ladies to join together in diligent study of God’s Word. Words fail to describe the beauty of fellowship and the increased fervency of prayer that are the result of women putting themselves under the authority of Scripture\, hungering after Christ and seeking Him through the Word\, that He might bring our every thought captive to Himself… so perhaps you need to come experience it for yourself! \nThe 2025-26 season of ETC is tackling the book of Jeremiah. Watch the back for booklets! \nOnline: \nFridays at 8 am begins September 12 \nMondays at 5 pm begins September 15 \nIn-Person: \nTuesdays at 10 am begins September 16 at the Bell’s residence \nQuestions or to get signed up with an online group\, contact Barbara Braendlein
URL:https://trinitykirk.org/event/5-pm-womens-online-bible-study-8/2026-01-19/
LOCATION:Zoom Meeting
END:VEVENT
BEGIN:VEVENT
DTSTART;TZID=America/Los_Angeles:20260120T101500
DTEND;TZID=America/Los_Angeles:20260120T111500
DTSTAMP:20260424T172427
CREATED:20250925T215221Z
LAST-MODIFIED:20260306T233656Z
UID:10005582-1768904100-1768907700@trinitykirk.org
SUMMARY:10:15 AM Women's Bible Study
DESCRIPTION:“For the weapons of our warfare are not carnal but mighty in God for pulling down strongholds\, casting down arguments and every high thing that exalts itself against the knowledge of God\, bringing every thought into captivity to the obedience of Christ…”  — 2 Corinthians 10:4-5 \nEvery Thought Captive (ETC) studies are back this fall\, with 3 different opportunities for ladies to join together in diligent study of God’s Word. Words fail to describe the beauty of fellowship and the increased fervency of prayer that are the result of women putting themselves under the authority of Scripture\, hungering after Christ and seeking Him through the Word\, that He might bring our every thought captive to Himself… so perhaps you need to come experience it for yourself! \nThe 2025-26 season of ETC is tackling the book of Jeremiah. Watch the back for booklets! \nOnline: \nFridays at 8 am begins September 12 \nMondays at 5 pm begins September 15 \nIn-Person: \nTuesdays at 10 am begins September 16 at the Bell’s residence \nQuestions or to get signed up with an online group\, contact Barbara Braendlein
URL:https://trinitykirk.org/event/10-am-womens-bible-study-9/2026-01-20/
LOCATION:Megan Bell Home\, 23701 3rd PL W\, Bothell\, WA\, 98021
END:VEVENT
BEGIN:VEVENT
DTSTART;TZID=America/Los_Angeles:20260120T193000
DTEND;TZID=America/Los_Angeles:20260120T210000
DTSTAMP:20260424T172427
CREATED:20250925T215221Z
LAST-MODIFIED:20260416T214551Z
UID:10005517-1768937400-1768942800@trinitykirk.org
SUMMARY:7:30 PM Young Women's Bible Study
DESCRIPTION:
URL:https://trinitykirk.org/event/730-pm-young-womens-bible-study/2026-01-20/
LOCATION:Ruiz Home\, 1120 Ave A Unit 207\, Snohomish\, WA
END:VEVENT
BEGIN:VEVENT
DTSTART;TZID=America/Los_Angeles:20260121T203000
DTEND;TZID=America/Los_Angeles:20260121T223000
DTSTAMP:20260424T172427
CREATED:20250925T214600Z
LAST-MODIFIED:20260319T212540Z
UID:10005861-1769027400-1769034600@trinitykirk.org
SUMMARY:8:30 PM Elders Meeting
DESCRIPTION:
URL:https://trinitykirk.org/event/830-pm-elders-meeting/2026-01-21/
LOCATION:Church Office
CATEGORIES:Internal,Office
END:VEVENT
BEGIN:VEVENT
DTSTART;TZID=America/Los_Angeles:20260122T190000
DTEND;TZID=America/Los_Angeles:20260122T210000
DTSTAMP:20260424T172427
CREATED:20251211T202524Z
LAST-MODIFIED:20251211T202524Z
UID:10005746-1769108400-1769115600@trinitykirk.org
SUMMARY:7 PM Ladies Book Club
DESCRIPTION:We will be discussing The Gifts of the Child Christ by George Macdonald
URL:https://trinitykirk.org/event/7-pm-ladies-book-club-11/
LOCATION:Bennett Fireside
END:VEVENT
BEGIN:VEVENT
DTSTART;VALUE=DATE:20260123
DTEND;VALUE=DATE:20260126
DTSTAMP:20260424T172427
CREATED:20260121T201207Z
LAST-MODIFIED:20260121T201207Z
UID:10006123-1769126400-1769385599@trinitykirk.org
SUMMARY:Hatchers out of town
DESCRIPTION:
URL:https://trinitykirk.org/event/hatchers-out-of-town-5/
CATEGORIES:Internal
END:VEVENT
BEGIN:VEVENT
DTSTART;TZID=America/Los_Angeles:20260123T080000
DTEND;TZID=America/Los_Angeles:20260123T090000
DTSTAMP:20260424T172427
CREATED:20250925T215219Z
LAST-MODIFIED:20260305T235804Z
UID:10005099-1769155200-1769158800@trinitykirk.org
SUMMARY:8 AM Women's Online Bible Study
DESCRIPTION:“For the weapons of our warfare are not carnal but mighty in God for pulling down strongholds\, casting down arguments and every high thing that exalts itself against the knowledge of God\, bringing every thought into captivity to the obedience of Christ…”  — 2 Corinthians 10:4-5 \nEvery Thought Captive (ETC) studies are back this fall\, with 3 different opportunities for ladies to join together in diligent study of God’s Word. Words fail to describe the beauty of fellowship and the increased fervency of prayer that are the result of women putting themselves under the authority of Scripture\, hungering after Christ and seeking Him through the Word\, that He might bring our every thought captive to Himself… so perhaps you need to come experience it for yourself! \nThe 2025-26 season of ETC is tackling the book of Jeremiah. Watch the back for booklets! \nOnline: \nFridays at 8 am begins September 12 \nMondays at 5 pm begins September 15 \n  \nIn-Person: \nTuesdays at 10 am begins September 16 at the Bell’s residence \n  \nQuestions or to get signed up with an online group\, contact Barbara Braendlein
URL:https://trinitykirk.org/event/8-am-womens-online-bible-study-5/2026-01-23/
LOCATION:Zoom Meeting
END:VEVENT
BEGIN:VEVENT
DTSTART;TZID=America/Los_Angeles:20260124T100000
DTEND;TZID=America/Los_Angeles:20260124T140000
DTSTAMP:20260424T172427
CREATED:20260108T005018Z
LAST-MODIFIED:20260108T005027Z
UID:10005769-1769248800-1769263200@trinitykirk.org
SUMMARY:10 AM Game Day
DESCRIPTION:This is a relaxed time to spend time together\, get to know each other\, and play some games.  We will have some simple ones and some that are more complex so that everyone can find something to enjoy. We will have some games available to borrow or try out\, and room for you to bring and play your own games (or puzzles). It will be open from 10 am to 2 pm\, open house style – come for as little or as much of the time as works for you. \nBring your own lunch.  Snacks and soft drinks will be provided. \nIf you have questions check with Roger Rathbun.
URL:https://trinitykirk.org/event/10-am-game-day-8/
LOCATION:Rathbun Home\, 23100 20th Ave SE\, Bothell\, WA\, United States
END:VEVENT
BEGIN:VEVENT
DTSTART;TZID=America/Los_Angeles:20260125T000000
DTEND;TZID=America/Los_Angeles:20260125T235900
DTSTAMP:20260424T172427
CREATED:20260129T025925Z
LAST-MODIFIED:20260129T030034Z
UID:10006126-1769299200-1769385540@trinitykirk.org
SUMMARY:Tyler Preaching
DESCRIPTION:
URL:https://trinitykirk.org/event/tyler-preaching-42/
CATEGORIES:Internal
END:VEVENT
BEGIN:VEVENT
DTSTART;TZID=America/Los_Angeles:20260125T100000
DTEND;TZID=America/Los_Angeles:20260125T113000
DTSTAMP:20260424T172427
CREATED:20250925T215219Z
LAST-MODIFIED:20250925T215219Z
UID:10002993-1769335200-1769340600@trinitykirk.org
SUMMARY:10:00 AM Worship Service
DESCRIPTION:Everyone is welcome in this service of prayer\, praise\, and worship of God the Father\, through his Son Jesus Christ\, in the power of the Holy Spirit.
URL:https://trinitykirk.org/event/1000-am-worship-service-2-2/2026-01-25/
LOCATION:Providence North\, 19021 120th Ave NE\, Bothell\, WA\, 98011
END:VEVENT
END:VCALENDAR