BEGIN:VCALENDAR
VERSION:2.0
PRODID:-//Trinity Church - ECPv6.15.12.2//NONSGML v1.0//EN
CALSCALE:GREGORIAN
METHOD:PUBLISH
X-WR-CALNAME:Trinity Church
X-ORIGINAL-URL:https://trinitykirk.org
X-WR-CALDESC:Events for Trinity Church
REFRESH-INTERVAL;VALUE=DURATION:PT1H
X-Robots-Tag:noindex
X-PUBLISHED-TTL:PT1H
BEGIN:VTIMEZONE
TZID:America/Los_Angeles
BEGIN:DAYLIGHT
TZOFFSETFROM:-0800
TZOFFSETTO:-0700
TZNAME:PDT
DTSTART:20250309T100000
END:DAYLIGHT
BEGIN:STANDARD
TZOFFSETFROM:-0700
TZOFFSETTO:-0800
TZNAME:PST
DTSTART:20251102T090000
END:STANDARD
BEGIN:DAYLIGHT
TZOFFSETFROM:-0800
TZOFFSETTO:-0700
TZNAME:PDT
DTSTART:20260308T100000
END:DAYLIGHT
BEGIN:STANDARD
TZOFFSETFROM:-0700
TZOFFSETTO:-0800
TZNAME:PST
DTSTART:20261101T090000
END:STANDARD
BEGIN:DAYLIGHT
TZOFFSETFROM:-0800
TZOFFSETTO:-0700
TZNAME:PDT
DTSTART:20270314T100000
END:DAYLIGHT
BEGIN:STANDARD
TZOFFSETFROM:-0700
TZOFFSETTO:-0800
TZNAME:PST
DTSTART:20271107T090000
END:STANDARD
END:VTIMEZONE
BEGIN:VEVENT
DTSTART;VALUE=DATE:20260208
DTEND;VALUE=DATE:20260209
DTSTAMP:20260424T172426
CREATED:20250925T214746Z
LAST-MODIFIED:20250925T214746Z
UID:10003793-1770508800-1770595199@trinitykirk.org
SUMMARY:Superbowl
DESCRIPTION:
URL:https://trinitykirk.org/event/superbowl-2022-02-06/2026-02-08/
CATEGORIES:Internal
END:VEVENT
BEGIN:VEVENT
DTSTART;TZID=America/Los_Angeles:20260208T090000
DTEND;TZID=America/Los_Angeles:20260208T094000
DTSTAMP:20260424T172426
CREATED:20260119T223620Z
LAST-MODIFIED:20260325T170025Z
UID:10006188-1770541200-1770543600@trinitykirk.org
SUMMARY:9AM Sunday School
DESCRIPTION:We are studying the Westminster Shorter Catechism. All are welcome “week by week” or as you are able to join us.
URL:https://trinitykirk.org/event/9am-sunday-school-2/2026-02-08/
LOCATION:Providence North\, 19021 120th Ave NE\, Bothell\, WA\, 98011
END:VEVENT
BEGIN:VEVENT
DTSTART;TZID=America/Los_Angeles:20260208T100000
DTEND;TZID=America/Los_Angeles:20260208T113000
DTSTAMP:20260424T172426
CREATED:20250925T215219Z
LAST-MODIFIED:20250925T215219Z
UID:10002995-1770544800-1770550200@trinitykirk.org
SUMMARY:10:00 AM Worship Service
DESCRIPTION:Everyone is welcome in this service of prayer\, praise\, and worship of God the Father\, through his Son Jesus Christ\, in the power of the Holy Spirit.
URL:https://trinitykirk.org/event/1000-am-worship-service-2-2/2026-02-08/
LOCATION:Providence North\, 19021 120th Ave NE\, Bothell\, WA\, 98011
END:VEVENT
BEGIN:VEVENT
DTSTART;TZID=America/Los_Angeles:20260209T170000
DTEND;TZID=America/Los_Angeles:20260209T180000
DTSTAMP:20260424T172426
CREATED:20250925T215220Z
LAST-MODIFIED:20260306T233519Z
UID:10005182-1770656400-1770660000@trinitykirk.org
SUMMARY:5 PM Women's Online Bible Study
DESCRIPTION:“For the weapons of our warfare are not carnal but mighty in God for pulling down strongholds\, casting down arguments and every high thing that exalts itself against the knowledge of God\, bringing every thought into captivity to the obedience of Christ…”  — 2 Corinthians 10:4-5 \nEvery Thought Captive (ETC) studies are back this fall\, with 3 different opportunities for ladies to join together in diligent study of God’s Word. Words fail to describe the beauty of fellowship and the increased fervency of prayer that are the result of women putting themselves under the authority of Scripture\, hungering after Christ and seeking Him through the Word\, that He might bring our every thought captive to Himself… so perhaps you need to come experience it for yourself! \nThe 2025-26 season of ETC is tackling the book of Jeremiah. Watch the back for booklets! \nOnline: \nFridays at 8 am begins September 12 \nMondays at 5 pm begins September 15 \nIn-Person: \nTuesdays at 10 am begins September 16 at the Bell’s residence \nQuestions or to get signed up with an online group\, contact Barbara Braendlein
URL:https://trinitykirk.org/event/5-pm-womens-online-bible-study-8/2026-02-09/
LOCATION:Zoom Meeting
END:VEVENT
BEGIN:VEVENT
DTSTART;TZID=America/Los_Angeles:20260210T101500
DTEND;TZID=America/Los_Angeles:20260210T111500
DTSTAMP:20260424T172426
CREATED:20250925T215221Z
LAST-MODIFIED:20260306T233656Z
UID:10005585-1770718500-1770722100@trinitykirk.org
SUMMARY:10:15 AM Women's Bible Study
DESCRIPTION:“For the weapons of our warfare are not carnal but mighty in God for pulling down strongholds\, casting down arguments and every high thing that exalts itself against the knowledge of God\, bringing every thought into captivity to the obedience of Christ…”  — 2 Corinthians 10:4-5 \nEvery Thought Captive (ETC) studies are back this fall\, with 3 different opportunities for ladies to join together in diligent study of God’s Word. Words fail to describe the beauty of fellowship and the increased fervency of prayer that are the result of women putting themselves under the authority of Scripture\, hungering after Christ and seeking Him through the Word\, that He might bring our every thought captive to Himself… so perhaps you need to come experience it for yourself! \nThe 2025-26 season of ETC is tackling the book of Jeremiah. Watch the back for booklets! \nOnline: \nFridays at 8 am begins September 12 \nMondays at 5 pm begins September 15 \nIn-Person: \nTuesdays at 10 am begins September 16 at the Bell’s residence \nQuestions or to get signed up with an online group\, contact Barbara Braendlein
URL:https://trinitykirk.org/event/10-am-womens-bible-study-9/2026-02-10/
LOCATION:Megan Bell Home\, 23701 3rd PL W\, Bothell\, WA\, 98021
END:VEVENT
BEGIN:VEVENT
DTSTART;TZID=America/Los_Angeles:20260210T174500
DTEND;TZID=America/Los_Angeles:20260210T191500
DTSTAMP:20260424T172426
CREATED:20251029T223135Z
LAST-MODIFIED:20251029T223135Z
UID:10005662-1770745500-1770750900@trinitykirk.org
SUMMARY:5:45 Woodinville Storehouse Volunteering
DESCRIPTION:Trinity Church has a team of volunteers to serve and love those in need in the Woodinville area the second Tuesday of each month\, 5:45pm – 7:20pm. \nOur goal is to have a rotation so people will volunteer three or four times a year. \nThe following link has information about the organization: www.woodinvillestorehouse.org \nTo volunteer\, signup using our Services Mobile App or Webpage or contact Roger Beasley.
URL:https://trinitykirk.org/event/545-woodinville-storehouse-volunteering/2026-02-10/
LOCATION:Woodinville Storehouse\, 17110 140th Ave NE\, Woodinville\, WA\, 98072
END:VEVENT
BEGIN:VEVENT
DTSTART;TZID=America/Los_Angeles:20260210T193000
DTEND;TZID=America/Los_Angeles:20260210T210000
DTSTAMP:20260424T172426
CREATED:20250925T215221Z
LAST-MODIFIED:20260416T214551Z
UID:10005520-1770751800-1770757200@trinitykirk.org
SUMMARY:7:30 PM Young Women's Bible Study
DESCRIPTION:
URL:https://trinitykirk.org/event/730-pm-young-womens-bible-study/2026-02-10/
LOCATION:Ruiz Home\, 1120 Ave A Unit 207\, Snohomish\, WA
END:VEVENT
BEGIN:VEVENT
DTSTART;TZID=America/Los_Angeles:20260211T190000
DTEND;TZID=America/Los_Angeles:20260211T200000
DTSTAMP:20260424T172426
CREATED:20251215T231336Z
LAST-MODIFIED:20251215T231337Z
UID:10005748-1770836400-1770840000@trinitykirk.org
SUMMARY:Elder Visitation (1)
DESCRIPTION:Peter & Megan Bell
URL:https://trinitykirk.org/event/elder-visitation-1-15-2/
CATEGORIES:Internal
END:VEVENT
BEGIN:VEVENT
DTSTART;TZID=America/Los_Angeles:20260211T190000
DTEND;TZID=America/Los_Angeles:20260211T200000
DTSTAMP:20260424T172426
CREATED:20251215T232554Z
LAST-MODIFIED:20251215T232914Z
UID:10005752-1770836400-1770840000@trinitykirk.org
SUMMARY:Elder Visitation (2)
DESCRIPTION:Joseph & Victoria Beasley
URL:https://trinitykirk.org/event/elder-visitation-2-13-3/
CATEGORIES:Internal
END:VEVENT
BEGIN:VEVENT
DTSTART;TZID=America/Los_Angeles:20260213T080000
DTEND;TZID=America/Los_Angeles:20260213T090000
DTSTAMP:20260424T172426
CREATED:20250925T215219Z
LAST-MODIFIED:20260305T235804Z
UID:10005102-1770969600-1770973200@trinitykirk.org
SUMMARY:8 AM Women's Online Bible Study
DESCRIPTION:“For the weapons of our warfare are not carnal but mighty in God for pulling down strongholds\, casting down arguments and every high thing that exalts itself against the knowledge of God\, bringing every thought into captivity to the obedience of Christ…”  — 2 Corinthians 10:4-5 \nEvery Thought Captive (ETC) studies are back this fall\, with 3 different opportunities for ladies to join together in diligent study of God’s Word. Words fail to describe the beauty of fellowship and the increased fervency of prayer that are the result of women putting themselves under the authority of Scripture\, hungering after Christ and seeking Him through the Word\, that He might bring our every thought captive to Himself… so perhaps you need to come experience it for yourself! \nThe 2025-26 season of ETC is tackling the book of Jeremiah. Watch the back for booklets! \nOnline: \nFridays at 8 am begins September 12 \nMondays at 5 pm begins September 15 \n  \nIn-Person: \nTuesdays at 10 am begins September 16 at the Bell’s residence \n  \nQuestions or to get signed up with an online group\, contact Barbara Braendlein
URL:https://trinitykirk.org/event/8-am-womens-online-bible-study-5/2026-02-13/
LOCATION:Zoom Meeting
END:VEVENT
BEGIN:VEVENT
DTSTART;TZID=America/Los_Angeles:20260213T193000
DTEND;TZID=America/Los_Angeles:20260213T210000
DTSTAMP:20260424T172426
CREATED:20260203T010718Z
LAST-MODIFIED:20260203T010905Z
UID:10006130-1771011000-1771016400@trinitykirk.org
SUMMARY:Friday Evening Bible Study
DESCRIPTION:Friday Evening Bible Study and fellowship \nWe want to invite you to a five week\, Friday evening\, Bible Study and fellowship time at our home. It will be a time of simple Basic Christianity talks that are always good to hear\, review\, rethink\, etc.  Stuff like prayer\, being in the Word\, your identity in Christ\, confession of sin\, etc. \nWe will meet at our home for coffee\, tea\, and dessert along with the talks and discussion from 7:30-9:00pm each Friday in February\, 2/6\, 2/13\, 2/20\, 2/27\, 3/6 \n(Sorry – no child care is available) \nPlease RSVP to me or to jacob@trinitykirk.org as space is limited. Hope to see you with us. \nDave and Kim Hatcher
URL:https://trinitykirk.org/event/friday-evening-bible-study/2026-02-13/
LOCATION:Dave Hatcher Home\, 19520 112th Dr. SE\, Snohomish\, WA\, 98296
END:VEVENT
BEGIN:VEVENT
DTSTART;VALUE=DATE:20260214
DTEND;VALUE=DATE:20260215
DTSTAMP:20260424T172426
CREATED:20250925T214558Z
LAST-MODIFIED:20250925T214558Z
UID:10002182-1771027200-1771113599@trinitykirk.org
SUMMARY:Valentines Day
DESCRIPTION:
URL:https://trinitykirk.org/event/valentines-day/2026-02-14/
CATEGORIES:Internal
END:VEVENT
BEGIN:VEVENT
DTSTART;TZID=America/Los_Angeles:20260215T090000
DTEND;TZID=America/Los_Angeles:20260215T094000
DTSTAMP:20260424T172426
CREATED:20260119T223620Z
LAST-MODIFIED:20260325T170025Z
UID:10006189-1771146000-1771148400@trinitykirk.org
SUMMARY:9AM Sunday School
DESCRIPTION:We are studying the Westminster Shorter Catechism. All are welcome “week by week” or as you are able to join us.
URL:https://trinitykirk.org/event/9am-sunday-school-2/2026-02-15/
LOCATION:Providence North\, 19021 120th Ave NE\, Bothell\, WA\, 98011
END:VEVENT
BEGIN:VEVENT
DTSTART;TZID=America/Los_Angeles:20260215T100000
DTEND;TZID=America/Los_Angeles:20260215T113000
DTSTAMP:20260424T172426
CREATED:20250925T215219Z
LAST-MODIFIED:20250925T215219Z
UID:10002996-1771149600-1771155000@trinitykirk.org
SUMMARY:10:00 AM Worship Service
DESCRIPTION:Everyone is welcome in this service of prayer\, praise\, and worship of God the Father\, through his Son Jesus Christ\, in the power of the Holy Spirit.
URL:https://trinitykirk.org/event/1000-am-worship-service-2-2/2026-02-15/
LOCATION:Providence North\, 19021 120th Ave NE\, Bothell\, WA\, 98011
END:VEVENT
BEGIN:VEVENT
DTSTART;TZID=America/Los_Angeles:20260215T170000
DTEND;TZID=America/Los_Angeles:20260215T180000
DTSTAMP:20260424T172426
CREATED:20251121T003328Z
LAST-MODIFIED:20260422T231248Z
UID:10005742-1771174800-1771178400@trinitykirk.org
SUMMARY:5 PM Psalm Sing
DESCRIPTION:
URL:https://trinitykirk.org/event/5-pm-psalm-sing-2/2026-02-15/
LOCATION:Providence North\, 19021 120th Ave NE\, Bothell\, WA\, 98011
END:VEVENT
BEGIN:VEVENT
DTSTART;TZID=America/Los_Angeles:20260216T170000
DTEND;TZID=America/Los_Angeles:20260216T180000
DTSTAMP:20260424T172426
CREATED:20250925T215220Z
LAST-MODIFIED:20260306T233519Z
UID:10005183-1771261200-1771264800@trinitykirk.org
SUMMARY:5 PM Women's Online Bible Study
DESCRIPTION:“For the weapons of our warfare are not carnal but mighty in God for pulling down strongholds\, casting down arguments and every high thing that exalts itself against the knowledge of God\, bringing every thought into captivity to the obedience of Christ…”  — 2 Corinthians 10:4-5 \nEvery Thought Captive (ETC) studies are back this fall\, with 3 different opportunities for ladies to join together in diligent study of God’s Word. Words fail to describe the beauty of fellowship and the increased fervency of prayer that are the result of women putting themselves under the authority of Scripture\, hungering after Christ and seeking Him through the Word\, that He might bring our every thought captive to Himself… so perhaps you need to come experience it for yourself! \nThe 2025-26 season of ETC is tackling the book of Jeremiah. Watch the back for booklets! \nOnline: \nFridays at 8 am begins September 12 \nMondays at 5 pm begins September 15 \nIn-Person: \nTuesdays at 10 am begins September 16 at the Bell’s residence \nQuestions or to get signed up with an online group\, contact Barbara Braendlein
URL:https://trinitykirk.org/event/5-pm-womens-online-bible-study-8/2026-02-16/
LOCATION:Zoom Meeting
END:VEVENT
BEGIN:VEVENT
DTSTART;TZID=America/Los_Angeles:20260217T101500
DTEND;TZID=America/Los_Angeles:20260217T111500
DTSTAMP:20260424T172426
CREATED:20250925T215221Z
LAST-MODIFIED:20260306T233656Z
UID:10005586-1771323300-1771326900@trinitykirk.org
SUMMARY:10:15 AM Women's Bible Study
DESCRIPTION:“For the weapons of our warfare are not carnal but mighty in God for pulling down strongholds\, casting down arguments and every high thing that exalts itself against the knowledge of God\, bringing every thought into captivity to the obedience of Christ…”  — 2 Corinthians 10:4-5 \nEvery Thought Captive (ETC) studies are back this fall\, with 3 different opportunities for ladies to join together in diligent study of God’s Word. Words fail to describe the beauty of fellowship and the increased fervency of prayer that are the result of women putting themselves under the authority of Scripture\, hungering after Christ and seeking Him through the Word\, that He might bring our every thought captive to Himself… so perhaps you need to come experience it for yourself! \nThe 2025-26 season of ETC is tackling the book of Jeremiah. Watch the back for booklets! \nOnline: \nFridays at 8 am begins September 12 \nMondays at 5 pm begins September 15 \nIn-Person: \nTuesdays at 10 am begins September 16 at the Bell’s residence \nQuestions or to get signed up with an online group\, contact Barbara Braendlein
URL:https://trinitykirk.org/event/10-am-womens-bible-study-9/2026-02-17/
LOCATION:Megan Bell Home\, 23701 3rd PL W\, Bothell\, WA\, 98021
END:VEVENT
BEGIN:VEVENT
DTSTART;TZID=America/Los_Angeles:20260217T193000
DTEND;TZID=America/Los_Angeles:20260217T210000
DTSTAMP:20260424T172426
CREATED:20250925T215221Z
LAST-MODIFIED:20260416T214551Z
UID:10005521-1771356600-1771362000@trinitykirk.org
SUMMARY:7:30 PM Young Women's Bible Study
DESCRIPTION:
URL:https://trinitykirk.org/event/730-pm-young-womens-bible-study/2026-02-17/
LOCATION:Ruiz Home\, 1120 Ave A Unit 207\, Snohomish\, WA
END:VEVENT
BEGIN:VEVENT
DTSTART;TZID=America/Los_Angeles:20260218T203000
DTEND;TZID=America/Los_Angeles:20260218T223000
DTSTAMP:20260424T172426
CREATED:20250925T214600Z
LAST-MODIFIED:20260319T212540Z
UID:10005865-1771446600-1771453800@trinitykirk.org
SUMMARY:8:30 PM Elders Meeting
DESCRIPTION:
URL:https://trinitykirk.org/event/830-pm-elders-meeting/2026-02-18/
LOCATION:Church Office
CATEGORIES:Internal,Office
END:VEVENT
BEGIN:VEVENT
DTSTART;TZID=America/Los_Angeles:20260220T080000
DTEND;TZID=America/Los_Angeles:20260220T090000
DTSTAMP:20260424T172426
CREATED:20250925T215219Z
LAST-MODIFIED:20260305T235804Z
UID:10005103-1771574400-1771578000@trinitykirk.org
SUMMARY:8 AM Women's Online Bible Study
DESCRIPTION:“For the weapons of our warfare are not carnal but mighty in God for pulling down strongholds\, casting down arguments and every high thing that exalts itself against the knowledge of God\, bringing every thought into captivity to the obedience of Christ…”  — 2 Corinthians 10:4-5 \nEvery Thought Captive (ETC) studies are back this fall\, with 3 different opportunities for ladies to join together in diligent study of God’s Word. Words fail to describe the beauty of fellowship and the increased fervency of prayer that are the result of women putting themselves under the authority of Scripture\, hungering after Christ and seeking Him through the Word\, that He might bring our every thought captive to Himself… so perhaps you need to come experience it for yourself! \nThe 2025-26 season of ETC is tackling the book of Jeremiah. Watch the back for booklets! \nOnline: \nFridays at 8 am begins September 12 \nMondays at 5 pm begins September 15 \n  \nIn-Person: \nTuesdays at 10 am begins September 16 at the Bell’s residence \n  \nQuestions or to get signed up with an online group\, contact Barbara Braendlein
URL:https://trinitykirk.org/event/8-am-womens-online-bible-study-5/2026-02-20/
LOCATION:Zoom Meeting
END:VEVENT
BEGIN:VEVENT
DTSTART;TZID=America/Los_Angeles:20260220T193000
DTEND;TZID=America/Los_Angeles:20260220T210000
DTSTAMP:20260424T172426
CREATED:20260203T010718Z
LAST-MODIFIED:20260203T010905Z
UID:10006131-1771615800-1771621200@trinitykirk.org
SUMMARY:Friday Evening Bible Study
DESCRIPTION:Friday Evening Bible Study and fellowship \nWe want to invite you to a five week\, Friday evening\, Bible Study and fellowship time at our home. It will be a time of simple Basic Christianity talks that are always good to hear\, review\, rethink\, etc.  Stuff like prayer\, being in the Word\, your identity in Christ\, confession of sin\, etc. \nWe will meet at our home for coffee\, tea\, and dessert along with the talks and discussion from 7:30-9:00pm each Friday in February\, 2/6\, 2/13\, 2/20\, 2/27\, 3/6 \n(Sorry – no child care is available) \nPlease RSVP to me or to jacob@trinitykirk.org as space is limited. Hope to see you with us. \nDave and Kim Hatcher
URL:https://trinitykirk.org/event/friday-evening-bible-study/2026-02-20/
LOCATION:Dave Hatcher Home\, 19520 112th Dr. SE\, Snohomish\, WA\, 98296
END:VEVENT
BEGIN:VEVENT
DTSTART;TZID=America/Los_Angeles:20260221T100000
DTEND;TZID=America/Los_Angeles:20260221T140000
DTSTAMP:20260424T172427
CREATED:20260203T223351Z
LAST-MODIFIED:20260203T223710Z
UID:10006134-1771668000-1771682400@trinitykirk.org
SUMMARY:10 AM Game Day
DESCRIPTION:This is a relaxed time to spend time together\, get to know each other\, and play some games.  We will have some simple ones and some that are more complex so that everyone can find something to enjoy. We will have some games available to borrow or try out\, and room for you to bring and play your own games. Bring your own lunch.
URL:https://trinitykirk.org/event/10-am-game-day-9/
LOCATION:Church Office in Woodinville\, 14623 NE North Woodinville Way\, Suite 201\, Woodinville\, WA\, 98072
CATEGORIES:Office
END:VEVENT
BEGIN:VEVENT
DTSTART;TZID=America/Los_Angeles:20260222T090000
DTEND;TZID=America/Los_Angeles:20260222T094000
DTSTAMP:20260424T172427
CREATED:20260119T223620Z
LAST-MODIFIED:20260325T170025Z
UID:10006190-1771750800-1771753200@trinitykirk.org
SUMMARY:9AM Sunday School
DESCRIPTION:We are studying the Westminster Shorter Catechism. All are welcome “week by week” or as you are able to join us.
URL:https://trinitykirk.org/event/9am-sunday-school-2/2026-02-22/
LOCATION:Providence North\, 19021 120th Ave NE\, Bothell\, WA\, 98011
END:VEVENT
BEGIN:VEVENT
DTSTART;TZID=America/Los_Angeles:20260222T100000
DTEND;TZID=America/Los_Angeles:20260222T113000
DTSTAMP:20260424T172427
CREATED:20250925T215219Z
LAST-MODIFIED:20250925T215219Z
UID:10002997-1771754400-1771759800@trinitykirk.org
SUMMARY:10:00 AM Worship Service
DESCRIPTION:Everyone is welcome in this service of prayer\, praise\, and worship of God the Father\, through his Son Jesus Christ\, in the power of the Holy Spirit.
URL:https://trinitykirk.org/event/1000-am-worship-service-2-2/2026-02-22/
LOCATION:Providence North\, 19021 120th Ave NE\, Bothell\, WA\, 98011
END:VEVENT
BEGIN:VEVENT
DTSTART;TZID=America/Los_Angeles:20260222T190000
DTEND;TZID=America/Los_Angeles:20260222T203000
DTSTAMP:20260424T172427
CREATED:20251121T002937Z
LAST-MODIFIED:20251121T002937Z
UID:10005741-1771786800-1771792200@trinitykirk.org
SUMMARY:7 PM Men's Meeting
DESCRIPTION:
URL:https://trinitykirk.org/event/7-pm-mens-meeting-10/2026-02-22/
LOCATION:Church Office in Woodinville\, 14623 NE North Woodinville Way\, Suite 201\, Woodinville\, WA\, 98072
END:VEVENT
BEGIN:VEVENT
DTSTART;VALUE=DATE:20260223
DTEND;VALUE=DATE:20260227
DTSTAMP:20260424T172427
CREATED:20260224T022322Z
LAST-MODIFIED:20260224T022322Z
UID:10006137-1771804800-1772150399@trinitykirk.org
SUMMARY:Jacob Out of Town
DESCRIPTION:
URL:https://trinitykirk.org/event/jacob-out-of-town/
CATEGORIES:Internal
END:VEVENT
BEGIN:VEVENT
DTSTART;TZID=America/Los_Angeles:20260223T170000
DTEND;TZID=America/Los_Angeles:20260223T180000
DTSTAMP:20260424T172427
CREATED:20250925T215220Z
LAST-MODIFIED:20260306T233519Z
UID:10005184-1771866000-1771869600@trinitykirk.org
SUMMARY:5 PM Women's Online Bible Study
DESCRIPTION:“For the weapons of our warfare are not carnal but mighty in God for pulling down strongholds\, casting down arguments and every high thing that exalts itself against the knowledge of God\, bringing every thought into captivity to the obedience of Christ…”  — 2 Corinthians 10:4-5 \nEvery Thought Captive (ETC) studies are back this fall\, with 3 different opportunities for ladies to join together in diligent study of God’s Word. Words fail to describe the beauty of fellowship and the increased fervency of prayer that are the result of women putting themselves under the authority of Scripture\, hungering after Christ and seeking Him through the Word\, that He might bring our every thought captive to Himself… so perhaps you need to come experience it for yourself! \nThe 2025-26 season of ETC is tackling the book of Jeremiah. Watch the back for booklets! \nOnline: \nFridays at 8 am begins September 12 \nMondays at 5 pm begins September 15 \nIn-Person: \nTuesdays at 10 am begins September 16 at the Bell’s residence \nQuestions or to get signed up with an online group\, contact Barbara Braendlein
URL:https://trinitykirk.org/event/5-pm-womens-online-bible-study-8/2026-02-23/
LOCATION:Zoom Meeting
END:VEVENT
BEGIN:VEVENT
DTSTART;TZID=America/Los_Angeles:20260224T101500
DTEND;TZID=America/Los_Angeles:20260224T111500
DTSTAMP:20260424T172427
CREATED:20250925T215221Z
LAST-MODIFIED:20260306T233656Z
UID:10005587-1771928100-1771931700@trinitykirk.org
SUMMARY:10:15 AM Women's Bible Study
DESCRIPTION:“For the weapons of our warfare are not carnal but mighty in God for pulling down strongholds\, casting down arguments and every high thing that exalts itself against the knowledge of God\, bringing every thought into captivity to the obedience of Christ…”  — 2 Corinthians 10:4-5 \nEvery Thought Captive (ETC) studies are back this fall\, with 3 different opportunities for ladies to join together in diligent study of God’s Word. Words fail to describe the beauty of fellowship and the increased fervency of prayer that are the result of women putting themselves under the authority of Scripture\, hungering after Christ and seeking Him through the Word\, that He might bring our every thought captive to Himself… so perhaps you need to come experience it for yourself! \nThe 2025-26 season of ETC is tackling the book of Jeremiah. Watch the back for booklets! \nOnline: \nFridays at 8 am begins September 12 \nMondays at 5 pm begins September 15 \nIn-Person: \nTuesdays at 10 am begins September 16 at the Bell’s residence \nQuestions or to get signed up with an online group\, contact Barbara Braendlein
URL:https://trinitykirk.org/event/10-am-womens-bible-study-9/2026-02-24/
LOCATION:Megan Bell Home\, 23701 3rd PL W\, Bothell\, WA\, 98021
END:VEVENT
BEGIN:VEVENT
DTSTART;TZID=America/Los_Angeles:20260224T193000
DTEND;TZID=America/Los_Angeles:20260224T210000
DTSTAMP:20260424T172427
CREATED:20250925T215221Z
LAST-MODIFIED:20260416T214551Z
UID:10005522-1771961400-1771966800@trinitykirk.org
SUMMARY:7:30 PM Young Women's Bible Study
DESCRIPTION:
URL:https://trinitykirk.org/event/730-pm-young-womens-bible-study/2026-02-24/
LOCATION:Ruiz Home\, 1120 Ave A Unit 207\, Snohomish\, WA
END:VEVENT
BEGIN:VEVENT
DTSTART;TZID=America/Los_Angeles:20260225T203000
DTEND;TZID=America/Los_Angeles:20260225T223000
DTSTAMP:20260424T172427
CREATED:20250925T214600Z
LAST-MODIFIED:20260319T212540Z
UID:10005866-1772051400-1772058600@trinitykirk.org
SUMMARY:8:30 PM Elders Meeting
DESCRIPTION:
URL:https://trinitykirk.org/event/830-pm-elders-meeting/2026-02-25/
LOCATION:Church Office
CATEGORIES:Internal,Office
END:VEVENT
END:VCALENDAR