BEGIN:VCALENDAR
VERSION:2.0
PRODID:-//Trinity Church - ECPv6.15.12.2//NONSGML v1.0//EN
CALSCALE:GREGORIAN
METHOD:PUBLISH
X-ORIGINAL-URL:https://trinitykirk.org
X-WR-CALDESC:Events for Trinity Church
REFRESH-INTERVAL;VALUE=DURATION:PT1H
X-Robots-Tag:noindex
X-PUBLISHED-TTL:PT1H
BEGIN:VTIMEZONE
TZID:America/Los_Angeles
BEGIN:DAYLIGHT
TZOFFSETFROM:-0800
TZOFFSETTO:-0700
TZNAME:PDT
DTSTART:20250309T100000
END:DAYLIGHT
BEGIN:STANDARD
TZOFFSETFROM:-0700
TZOFFSETTO:-0800
TZNAME:PST
DTSTART:20251102T090000
END:STANDARD
BEGIN:DAYLIGHT
TZOFFSETFROM:-0800
TZOFFSETTO:-0700
TZNAME:PDT
DTSTART:20260308T100000
END:DAYLIGHT
BEGIN:STANDARD
TZOFFSETFROM:-0700
TZOFFSETTO:-0800
TZNAME:PST
DTSTART:20261101T090000
END:STANDARD
BEGIN:DAYLIGHT
TZOFFSETFROM:-0800
TZOFFSETTO:-0700
TZNAME:PDT
DTSTART:20270314T100000
END:DAYLIGHT
BEGIN:STANDARD
TZOFFSETFROM:-0700
TZOFFSETTO:-0800
TZNAME:PST
DTSTART:20271107T090000
END:STANDARD
END:VTIMEZONE
BEGIN:VEVENT
DTSTART;TZID=America/Los_Angeles:20260301T090000
DTEND;TZID=America/Los_Angeles:20260301T094000
DTSTAMP:20260424T090455
CREATED:20260119T223620Z
LAST-MODIFIED:20260325T170025Z
UID:10006191-1772355600-1772358000@trinitykirk.org
SUMMARY:9AM Sunday School
DESCRIPTION:We are studying the Westminster Shorter Catechism. All are welcome “week by week” or as you are able to join us.
URL:https://trinitykirk.org/event/9am-sunday-school-2/2026-03-01/
LOCATION:Providence North\, 19021 120th Ave NE\, Bothell\, WA\, 98011
END:VEVENT
BEGIN:VEVENT
DTSTART;TZID=America/Los_Angeles:20260301T100000
DTEND;TZID=America/Los_Angeles:20260301T113000
DTSTAMP:20260424T090455
CREATED:20250925T215219Z
LAST-MODIFIED:20250925T215219Z
UID:10002998-1772359200-1772364600@trinitykirk.org
SUMMARY:10:00 AM Worship Service
DESCRIPTION:Everyone is welcome in this service of prayer\, praise\, and worship of God the Father\, through his Son Jesus Christ\, in the power of the Holy Spirit.
URL:https://trinitykirk.org/event/1000-am-worship-service-2-2/2026-03-01/
LOCATION:Providence North\, 19021 120th Ave NE\, Bothell\, WA\, 98011
END:VEVENT
BEGIN:VEVENT
DTSTART;TZID=America/Los_Angeles:20260301T113000
DTEND;TZID=America/Los_Angeles:20260301T123000
DTSTAMP:20260424T090455
CREATED:20251120T223500Z
LAST-MODIFIED:20251126T011918Z
UID:10005733-1772364600-1772368200@trinitykirk.org
SUMMARY:11:30 AM Feast
DESCRIPTION:
URL:https://trinitykirk.org/event/1130-am-feast-4/2026-03-01/
LOCATION:Providence North\, 19021 120th Ave NE\, Bothell\, WA\, 98011
END:VEVENT
BEGIN:VEVENT
DTSTART;TZID=America/Los_Angeles:20260302T170000
DTEND;TZID=America/Los_Angeles:20260302T180000
DTSTAMP:20260424T090455
CREATED:20250925T215220Z
LAST-MODIFIED:20260306T233519Z
UID:10005185-1772470800-1772474400@trinitykirk.org
SUMMARY:5 PM Women's Online Bible Study
DESCRIPTION:“For the weapons of our warfare are not carnal but mighty in God for pulling down strongholds\, casting down arguments and every high thing that exalts itself against the knowledge of God\, bringing every thought into captivity to the obedience of Christ…”  — 2 Corinthians 10:4-5 \nEvery Thought Captive (ETC) studies are back this fall\, with 3 different opportunities for ladies to join together in diligent study of God’s Word. Words fail to describe the beauty of fellowship and the increased fervency of prayer that are the result of women putting themselves under the authority of Scripture\, hungering after Christ and seeking Him through the Word\, that He might bring our every thought captive to Himself… so perhaps you need to come experience it for yourself! \nThe 2025-26 season of ETC is tackling the book of Jeremiah. Watch the back for booklets! \nOnline: \nFridays at 8 am begins September 12 \nMondays at 5 pm begins September 15 \nIn-Person: \nTuesdays at 10 am begins September 16 at the Bell’s residence \nQuestions or to get signed up with an online group\, contact Barbara Braendlein
URL:https://trinitykirk.org/event/5-pm-womens-online-bible-study-8/2026-03-02/
LOCATION:Zoom Meeting
END:VEVENT
BEGIN:VEVENT
DTSTART;TZID=America/Los_Angeles:20260303T101500
DTEND;TZID=America/Los_Angeles:20260303T111500
DTSTAMP:20260424T090455
CREATED:20250925T215221Z
LAST-MODIFIED:20260306T233656Z
UID:10005588-1772532900-1772536500@trinitykirk.org
SUMMARY:10:15 AM Women's Bible Study
DESCRIPTION:“For the weapons of our warfare are not carnal but mighty in God for pulling down strongholds\, casting down arguments and every high thing that exalts itself against the knowledge of God\, bringing every thought into captivity to the obedience of Christ…”  — 2 Corinthians 10:4-5 \nEvery Thought Captive (ETC) studies are back this fall\, with 3 different opportunities for ladies to join together in diligent study of God’s Word. Words fail to describe the beauty of fellowship and the increased fervency of prayer that are the result of women putting themselves under the authority of Scripture\, hungering after Christ and seeking Him through the Word\, that He might bring our every thought captive to Himself… so perhaps you need to come experience it for yourself! \nThe 2025-26 season of ETC is tackling the book of Jeremiah. Watch the back for booklets! \nOnline: \nFridays at 8 am begins September 12 \nMondays at 5 pm begins September 15 \nIn-Person: \nTuesdays at 10 am begins September 16 at the Bell’s residence \nQuestions or to get signed up with an online group\, contact Barbara Braendlein
URL:https://trinitykirk.org/event/10-am-womens-bible-study-9/2026-03-03/
LOCATION:Megan Bell Home\, 23701 3rd PL W\, Bothell\, WA\, 98021
END:VEVENT
BEGIN:VEVENT
DTSTART;TZID=America/Los_Angeles:20260303T193000
DTEND;TZID=America/Los_Angeles:20260303T210000
DTSTAMP:20260424T090455
CREATED:20250925T215221Z
LAST-MODIFIED:20260416T214551Z
UID:10005523-1772566200-1772571600@trinitykirk.org
SUMMARY:7:30 PM Young Women's Bible Study
DESCRIPTION:
URL:https://trinitykirk.org/event/730-pm-young-womens-bible-study/2026-03-03/
LOCATION:Ruiz Home\, 1120 Ave A Unit 207\, Snohomish\, WA
END:VEVENT
BEGIN:VEVENT
DTSTART;TZID=America/Los_Angeles:20260304T203000
DTEND;TZID=America/Los_Angeles:20260304T223000
DTSTAMP:20260424T090455
CREATED:20250925T214600Z
LAST-MODIFIED:20260319T212540Z
UID:10005867-1772656200-1772663400@trinitykirk.org
SUMMARY:8:30 PM Elders Meeting
DESCRIPTION:
URL:https://trinitykirk.org/event/830-pm-elders-meeting/2026-03-04/
LOCATION:Church Office
CATEGORIES:Internal,Office
END:VEVENT
BEGIN:VEVENT
DTSTART;TZID=America/Los_Angeles:20260305T190000
DTEND;TZID=America/Los_Angeles:20260305T210000
DTSTAMP:20260424T090455
CREATED:20260227T012050Z
LAST-MODIFIED:20260227T012050Z
UID:10006146-1772737200-1772744400@trinitykirk.org
SUMMARY:7 PM Ladies Book Club
DESCRIPTION:We will be discussing Gilead by Marilynne Robinson.
URL:https://trinitykirk.org/event/7-pm-ladies-book-club-12/
LOCATION:Bennett Fireside
END:VEVENT
BEGIN:VEVENT
DTSTART;TZID=America/Los_Angeles:20260306T080000
DTEND;TZID=America/Los_Angeles:20260306T090000
DTSTAMP:20260424T090455
CREATED:20250925T215219Z
LAST-MODIFIED:20260305T235804Z
UID:10005105-1772784000-1772787600@trinitykirk.org
SUMMARY:8 AM Women's Online Bible Study
DESCRIPTION:“For the weapons of our warfare are not carnal but mighty in God for pulling down strongholds\, casting down arguments and every high thing that exalts itself against the knowledge of God\, bringing every thought into captivity to the obedience of Christ…”  — 2 Corinthians 10:4-5 \nEvery Thought Captive (ETC) studies are back this fall\, with 3 different opportunities for ladies to join together in diligent study of God’s Word. Words fail to describe the beauty of fellowship and the increased fervency of prayer that are the result of women putting themselves under the authority of Scripture\, hungering after Christ and seeking Him through the Word\, that He might bring our every thought captive to Himself… so perhaps you need to come experience it for yourself! \nThe 2025-26 season of ETC is tackling the book of Jeremiah. Watch the back for booklets! \nOnline: \nFridays at 8 am begins September 12 \nMondays at 5 pm begins September 15 \n  \nIn-Person: \nTuesdays at 10 am begins September 16 at the Bell’s residence \n  \nQuestions or to get signed up with an online group\, contact Barbara Braendlein
URL:https://trinitykirk.org/event/8-am-womens-online-bible-study-5/2026-03-06/
LOCATION:Zoom Meeting
END:VEVENT
BEGIN:VEVENT
DTSTART;TZID=America/Los_Angeles:20260306T193000
DTEND;TZID=America/Los_Angeles:20260306T210000
DTSTAMP:20260424T090455
CREATED:20260203T010718Z
LAST-MODIFIED:20260203T010905Z
UID:10006133-1772825400-1772830800@trinitykirk.org
SUMMARY:Friday Evening Bible Study
DESCRIPTION:Friday Evening Bible Study and fellowship \nWe want to invite you to a five week\, Friday evening\, Bible Study and fellowship time at our home. It will be a time of simple Basic Christianity talks that are always good to hear\, review\, rethink\, etc.  Stuff like prayer\, being in the Word\, your identity in Christ\, confession of sin\, etc. \nWe will meet at our home for coffee\, tea\, and dessert along with the talks and discussion from 7:30-9:00pm each Friday in February\, 2/6\, 2/13\, 2/20\, 2/27\, 3/6 \n(Sorry – no child care is available) \nPlease RSVP to me or to jacob@trinitykirk.org as space is limited. Hope to see you with us. \nDave and Kim Hatcher
URL:https://trinitykirk.org/event/friday-evening-bible-study/2026-03-06/
LOCATION:Dave Hatcher Home\, 19520 112th Dr. SE\, Snohomish\, WA\, 98296
END:VEVENT
BEGIN:VEVENT
DTSTART;VALUE=DATE:20260308
DTEND;VALUE=DATE:20260309
DTSTAMP:20260424T090455
CREATED:20250925T214557Z
LAST-MODIFIED:20251030T221752Z
UID:10005726-1772956800-1772989200@trinitykirk.org
SUMMARY:Daylight Savings Time Begins
DESCRIPTION:
URL:https://trinitykirk.org/event/daylight-savings-time-begins/2026-03-08/
LOCATION:WA
END:VEVENT
BEGIN:VEVENT
DTSTART;TZID=America/Los_Angeles:20260308T090000
DTEND;TZID=America/Los_Angeles:20260308T094000
DTSTAMP:20260424T090455
CREATED:20260119T223620Z
LAST-MODIFIED:20260325T170025Z
UID:10006192-1772960400-1772962800@trinitykirk.org
SUMMARY:9AM Sunday School
DESCRIPTION:We are studying the Westminster Shorter Catechism. All are welcome “week by week” or as you are able to join us.
URL:https://trinitykirk.org/event/9am-sunday-school-2/2026-03-08/
LOCATION:Providence North\, 19021 120th Ave NE\, Bothell\, WA\, 98011
END:VEVENT
BEGIN:VEVENT
DTSTART;TZID=America/Los_Angeles:20260308T100000
DTEND;TZID=America/Los_Angeles:20260308T113000
DTSTAMP:20260424T090455
CREATED:20250925T215219Z
LAST-MODIFIED:20250925T215219Z
UID:10002999-1772964000-1772969400@trinitykirk.org
SUMMARY:10:00 AM Worship Service
DESCRIPTION:Everyone is welcome in this service of prayer\, praise\, and worship of God the Father\, through his Son Jesus Christ\, in the power of the Holy Spirit.
URL:https://trinitykirk.org/event/1000-am-worship-service-2-2/2026-03-08/
LOCATION:Providence North\, 19021 120th Ave NE\, Bothell\, WA\, 98011
END:VEVENT
BEGIN:VEVENT
DTSTART;VALUE=DATE:20260309
DTEND;VALUE=DATE:20260312
DTSTAMP:20260424T090455
CREATED:20260131T024627Z
LAST-MODIFIED:20260131T024627Z
UID:10006127-1773014400-1773273599@trinitykirk.org
SUMMARY:Anselm Spring Presbytery
DESCRIPTION:Anselm Spring Presbytery in Tucson Arizona\, March 9-11 \n  \nSample Schedule: \nMonday – Arrive\, check in to your accommodations\, fellowship feast in the evening. \nTuesday – \n8-9 AM Coffee Hour \n9-12 Lectures from C.R. Wiley \n12-1:00 Lunch \n1:00-4:30 Afternoon Business \n6:30 PM Fellowship Feast \nWednesday \n8-9 AM Coffee Hour \n9-12 Lectures from C.R. Wiley \n12-1 Lunch \n1-4:30 Afternoon Business \n  \nIn the evening on Wednesday we will have a venue available for you to bring a bag dinner\, where we will have a more low-key cigar night for those who are still in town. \nThere will be outings scheduled for wives each day\, probably in the lunch-afternoon time frame. If we have enough people travel with children then we will coordinate a great outing for moms and kids one of the days. \nTucson is a wonderful place to be in March. Wildflowers begin sprouting throughout the Sonoran Desert\, which is a diverse ecosystem. Tucson is surrounded by mountain ranges in each of the cardinal directions\, the foremost being the Santa Catalina range which features Mt Lemmon (9171 ft elevation)\, considered a sky island for the diversity of ecosystems you drive through on the way to the top. Some things to consider including in your visit are: \nMt Lemmon \nThe Sonoran Desert Museum \nThe Pima Air and Space Museum \nColossal Cave \nTombstone\, Arizona (yes that one) \nOld Tucson (site of many Western films) \nThe Biosphere 2 \nTohono Chul Gardens (excellent date location with your wife for a meal and garden stroll) \nTucson is also a UNESCO designated city of gastronomy. It’s hard to explain why but we just have really\, really good food here. You can find amazing authentic cuisine from around the world\, but of course our Mexican food is world class and we can give you recommendations for good spots if you’re looking to get into some gastronomía de México. \nIf you choose to travel early\, we worship at 2:30 PM on Sundays followed by a full meal each week. We would be honored to have you visit and worship with us. \n 
URL:https://trinitykirk.org/event/anselm-spring-presbytery/
LOCATION:WA
CATEGORIES:Internal
END:VEVENT
BEGIN:VEVENT
DTSTART;TZID=America/Los_Angeles:20260309T170000
DTEND;TZID=America/Los_Angeles:20260309T180000
DTSTAMP:20260424T090455
CREATED:20250925T215220Z
LAST-MODIFIED:20260306T233519Z
UID:10005186-1773075600-1773079200@trinitykirk.org
SUMMARY:5 PM Women's Online Bible Study
DESCRIPTION:“For the weapons of our warfare are not carnal but mighty in God for pulling down strongholds\, casting down arguments and every high thing that exalts itself against the knowledge of God\, bringing every thought into captivity to the obedience of Christ…”  — 2 Corinthians 10:4-5 \nEvery Thought Captive (ETC) studies are back this fall\, with 3 different opportunities for ladies to join together in diligent study of God’s Word. Words fail to describe the beauty of fellowship and the increased fervency of prayer that are the result of women putting themselves under the authority of Scripture\, hungering after Christ and seeking Him through the Word\, that He might bring our every thought captive to Himself… so perhaps you need to come experience it for yourself! \nThe 2025-26 season of ETC is tackling the book of Jeremiah. Watch the back for booklets! \nOnline: \nFridays at 8 am begins September 12 \nMondays at 5 pm begins September 15 \nIn-Person: \nTuesdays at 10 am begins September 16 at the Bell’s residence \nQuestions or to get signed up with an online group\, contact Barbara Braendlein
URL:https://trinitykirk.org/event/5-pm-womens-online-bible-study-8/2026-03-09/
LOCATION:Zoom Meeting
END:VEVENT
BEGIN:VEVENT
DTSTART;TZID=America/Los_Angeles:20260310T101500
DTEND;TZID=America/Los_Angeles:20260310T111500
DTSTAMP:20260424T090455
CREATED:20250925T215221Z
LAST-MODIFIED:20260306T233656Z
UID:10005589-1773137700-1773141300@trinitykirk.org
SUMMARY:10:15 AM Women's Bible Study
DESCRIPTION:“For the weapons of our warfare are not carnal but mighty in God for pulling down strongholds\, casting down arguments and every high thing that exalts itself against the knowledge of God\, bringing every thought into captivity to the obedience of Christ…”  — 2 Corinthians 10:4-5 \nEvery Thought Captive (ETC) studies are back this fall\, with 3 different opportunities for ladies to join together in diligent study of God’s Word. Words fail to describe the beauty of fellowship and the increased fervency of prayer that are the result of women putting themselves under the authority of Scripture\, hungering after Christ and seeking Him through the Word\, that He might bring our every thought captive to Himself… so perhaps you need to come experience it for yourself! \nThe 2025-26 season of ETC is tackling the book of Jeremiah. Watch the back for booklets! \nOnline: \nFridays at 8 am begins September 12 \nMondays at 5 pm begins September 15 \nIn-Person: \nTuesdays at 10 am begins September 16 at the Bell’s residence \nQuestions or to get signed up with an online group\, contact Barbara Braendlein
URL:https://trinitykirk.org/event/10-am-womens-bible-study-9/2026-03-10/
LOCATION:Megan Bell Home\, 23701 3rd PL W\, Bothell\, WA\, 98021
END:VEVENT
BEGIN:VEVENT
DTSTART;TZID=America/Los_Angeles:20260310T174500
DTEND;TZID=America/Los_Angeles:20260310T191500
DTSTAMP:20260424T090455
CREATED:20251029T223135Z
LAST-MODIFIED:20251029T223135Z
UID:10005663-1773164700-1773170100@trinitykirk.org
SUMMARY:5:45 Woodinville Storehouse Volunteering
DESCRIPTION:Trinity Church has a team of volunteers to serve and love those in need in the Woodinville area the second Tuesday of each month\, 5:45pm – 7:20pm. \nOur goal is to have a rotation so people will volunteer three or four times a year. \nThe following link has information about the organization: www.woodinvillestorehouse.org \nTo volunteer\, signup using our Services Mobile App or Webpage or contact Roger Beasley.
URL:https://trinitykirk.org/event/545-woodinville-storehouse-volunteering/2026-03-10/
LOCATION:Woodinville Storehouse\, 17110 140th Ave NE\, Woodinville\, WA\, 98072
END:VEVENT
BEGIN:VEVENT
DTSTART;TZID=America/Los_Angeles:20260310T193000
DTEND;TZID=America/Los_Angeles:20260310T210000
DTSTAMP:20260424T090455
CREATED:20250925T215221Z
LAST-MODIFIED:20260416T214551Z
UID:10005524-1773171000-1773176400@trinitykirk.org
SUMMARY:7:30 PM Young Women's Bible Study
DESCRIPTION:
URL:https://trinitykirk.org/event/730-pm-young-womens-bible-study/2026-03-10/
LOCATION:Ruiz Home\, 1120 Ave A Unit 207\, Snohomish\, WA
END:VEVENT
BEGIN:VEVENT
DTSTART;TZID=America/Los_Angeles:20260311T190000
DTEND;TZID=America/Los_Angeles:20260311T200000
DTSTAMP:20260424T090455
CREATED:20251220T195624Z
LAST-MODIFIED:20260131T205020Z
UID:10005749-1773255600-1773259200@trinitykirk.org
SUMMARY:Elder Visitation (1)
DESCRIPTION:Gayle Blakeley
URL:https://trinitykirk.org/event/elder-visitation-1-15-4/
LOCATION:WA
CATEGORIES:Internal
END:VEVENT
BEGIN:VEVENT
DTSTART;TZID=America/Los_Angeles:20260311T190000
DTEND;TZID=America/Los_Angeles:20260311T200000
DTSTAMP:20260424T090455
CREATED:20260121T195959Z
LAST-MODIFIED:20260121T195959Z
UID:10005753-1773255600-1773259200@trinitykirk.org
SUMMARY:Elder Visitation (2)
DESCRIPTION:Larry & Julia Badillo
URL:https://trinitykirk.org/event/elder-visitation-2-13-5/
LOCATION:WA
CATEGORIES:Internal
END:VEVENT
BEGIN:VEVENT
DTSTART;TZID=America/Los_Angeles:20260313T080000
DTEND;TZID=America/Los_Angeles:20260313T090000
DTSTAMP:20260424T090455
CREATED:20260306T233945Z
LAST-MODIFIED:20260306T234756Z
UID:10006148-1773388800-1773392400@trinitykirk.org
SUMMARY:8 AM Women's Online Bible Study
DESCRIPTION:This session of ETC is tackling the book of Lamentations. Watch the back for booklets! \n“For the weapons of our warfare are not carnal but mighty in God for pulling down strongholds\, casting down arguments and every high thing that exalts itself against the knowledge of God\, bringing every thought into captivity to the obedience of Christ…”  — 2 Corinthians 10:4-5 \nEvery Thought Captive (ETC) studies offer 3 different opportunities for ladies to join together in diligent study of God’s Word. Words fail to describe the beauty of fellowship and the increased fervency of prayer that are the result of women putting themselves under the authority of Scripture\, hungering after Christ and seeking Him through the Word\, that He might bring our every \nOnline: \nFridays at 8 am begins March 13 \nMondays at 5 pm begins March 16 \nIn-Person: \nTuesdays at 10 am begins March 17 at the Bell’s residence \nQuestions or to get signed up with an online group\, contact Barbara Braendlein
URL:https://trinitykirk.org/event/8-am-womens-online-bible-study-6/2026-03-13/
LOCATION:Zoom Meeting
END:VEVENT
BEGIN:VEVENT
DTSTART;VALUE=DATE:20260315
DTEND;VALUE=DATE:20260316
DTSTAMP:20260424T090455
CREATED:20260312T185826Z
LAST-MODIFIED:20260312T185826Z
UID:10006163-1773532800-1773619199@trinitykirk.org
SUMMARY:Tyler Preaching
DESCRIPTION:
URL:https://trinitykirk.org/event/tyler-preaching-41/
LOCATION:WA
CATEGORIES:Internal
END:VEVENT
BEGIN:VEVENT
DTSTART;TZID=America/Los_Angeles:20260315T090000
DTEND;TZID=America/Los_Angeles:20260315T094000
DTSTAMP:20260424T090455
CREATED:20260119T223620Z
LAST-MODIFIED:20260325T170025Z
UID:10006193-1773565200-1773567600@trinitykirk.org
SUMMARY:9AM Sunday School
DESCRIPTION:We are studying the Westminster Shorter Catechism. All are welcome “week by week” or as you are able to join us.
URL:https://trinitykirk.org/event/9am-sunday-school-2/2026-03-15/
LOCATION:Providence North\, 19021 120th Ave NE\, Bothell\, WA\, 98011
END:VEVENT
BEGIN:VEVENT
DTSTART;TZID=America/Los_Angeles:20260315T100000
DTEND;TZID=America/Los_Angeles:20260315T113000
DTSTAMP:20260424T090455
CREATED:20250925T215219Z
LAST-MODIFIED:20250925T215219Z
UID:10003000-1773568800-1773574200@trinitykirk.org
SUMMARY:10:00 AM Worship Service
DESCRIPTION:Everyone is welcome in this service of prayer\, praise\, and worship of God the Father\, through his Son Jesus Christ\, in the power of the Holy Spirit.
URL:https://trinitykirk.org/event/1000-am-worship-service-2-2/2026-03-15/
LOCATION:Providence North\, 19021 120th Ave NE\, Bothell\, WA\, 98011
END:VEVENT
BEGIN:VEVENT
DTSTART;TZID=America/Los_Angeles:20260315T170000
DTEND;TZID=America/Los_Angeles:20260315T180000
DTSTAMP:20260424T090455
CREATED:20251121T003328Z
LAST-MODIFIED:20260422T231248Z
UID:10006135-1773594000-1773597600@trinitykirk.org
SUMMARY:5 PM Psalm Sing
DESCRIPTION:
URL:https://trinitykirk.org/event/5-pm-psalm-sing-2/2026-03-15/
LOCATION:Providence North\, 19021 120th Ave NE\, Bothell\, WA\, 98011
END:VEVENT
BEGIN:VEVENT
DTSTART;TZID=America/Los_Angeles:20260316T170000
DTEND;TZID=America/Los_Angeles:20260316T180000
DTSTAMP:20260424T090455
CREATED:20260306T234714Z
LAST-MODIFIED:20260306T234859Z
UID:10006153-1773680400-1773684000@trinitykirk.org
SUMMARY:5 PM Women's Online Bible Study
DESCRIPTION:This session of ETC is tackling the book of Lamentations. Watch the back for booklets! \n“For the weapons of our warfare are not carnal but mighty in God for pulling down strongholds\, casting down arguments and every high thing that exalts itself against the knowledge of God\, bringing every thought into captivity to the obedience of Christ…”  — 2 Corinthians 10:4-5 \nEvery Thought Captive (ETC) studies offer 3 different opportunities for ladies to join together in diligent study of God’s Word. Words fail to describe the beauty of fellowship and the increased fervency of prayer that are the result of women putting themselves under the authority of Scripture\, hungering after Christ and seeking Him through the Word\, that He might bring our every \nOnline: \nFridays at 8 am begins March 13 \nMondays at 5 pm begins March 16 \nIn-Person: \nTuesdays at 10 am begins March 17 at the Bell’s residence \nQuestions or to get signed up with an online group\, contact Barbara Braendlein
URL:https://trinitykirk.org/event/5-pm-womens-online-bible-study-9/2026-03-16/
LOCATION:Zoom Meeting
END:VEVENT
BEGIN:VEVENT
DTSTART;TZID=America/Los_Angeles:20260316T190000
DTEND;TZID=America/Los_Angeles:20260316T203000
DTSTAMP:20260424T090455
CREATED:20260228T021317Z
LAST-MODIFIED:20260313T225451Z
UID:10006147-1773687600-1773693000@trinitykirk.org
SUMMARY:7PM Sing For Joy! Choir Concert Choir
DESCRIPTION:Presented by Dr. Erb and the NSA College Choir. \nTickets and info here:
URL:https://trinitykirk.org/event/7pm-sing-for-joy-choir-concert-choir/
LOCATION:Providence North\, 19021 120th Ave NE\, Bothell\, WA\, 98011
END:VEVENT
BEGIN:VEVENT
DTSTART;TZID=America/Los_Angeles:20260317T101500
DTEND;TZID=America/Los_Angeles:20260317T111500
DTSTAMP:20260424T090455
CREATED:20260306T235054Z
LAST-MODIFIED:20260306T235244Z
UID:10006158-1773742500-1773746100@trinitykirk.org
SUMMARY:10:15 AM Women's Bible Study
DESCRIPTION:This session of ETC is tackling the book of Lamentations. Watch the back for booklets! \n“For the weapons of our warfare are not carnal but mighty in God for pulling down strongholds\, casting down arguments and every high thing that exalts itself against the knowledge of God\, bringing every thought into captivity to the obedience of Christ…”  — 2 Corinthians 10:4-5 \nEvery Thought Captive (ETC) studies offer 3 different opportunities for ladies to join together in diligent study of God’s Word. Words fail to describe the beauty of fellowship and the increased fervency of prayer that are the result of women putting themselves under the authority of Scripture\, hungering after Christ and seeking Him through the Word\, that He might bring our every \nOnline: \nFridays at 8 am begins March 13 \nMondays at 5 pm begins March 16 \nIn-Person: \nTuesdays at 10 am begins March 17 at the Bell’s residence \nQuestions or to get signed up with an online group\, contact Barbara Braendlein
URL:https://trinitykirk.org/event/1015-am-womens-bible-study-2/2026-03-17/
LOCATION:Megan Bell Home\, 23701 3rd PL W\, Bothell\, WA\, 98021
END:VEVENT
BEGIN:VEVENT
DTSTART;TZID=America/Los_Angeles:20260317T193000
DTEND;TZID=America/Los_Angeles:20260317T210000
DTSTAMP:20260424T090455
CREATED:20250925T215221Z
LAST-MODIFIED:20260416T214551Z
UID:10005525-1773775800-1773781200@trinitykirk.org
SUMMARY:7:30 PM Young Women's Bible Study
DESCRIPTION:
URL:https://trinitykirk.org/event/730-pm-young-womens-bible-study/2026-03-17/
LOCATION:Ruiz Home\, 1120 Ave A Unit 207\, Snohomish\, WA
END:VEVENT
BEGIN:VEVENT
DTSTART;TZID=America/Los_Angeles:20260318T203000
DTEND;TZID=America/Los_Angeles:20260318T223000
DTSTAMP:20260424T090455
CREATED:20250925T214600Z
LAST-MODIFIED:20260319T212540Z
UID:10005869-1773865800-1773873000@trinitykirk.org
SUMMARY:8:30 PM Elders Meeting
DESCRIPTION:
URL:https://trinitykirk.org/event/830-pm-elders-meeting/2026-03-18/
LOCATION:Church Office
CATEGORIES:Internal,Office
END:VEVENT
END:VCALENDAR