BEGIN:VCALENDAR
VERSION:2.0
PRODID:-//Trinity Church - ECPv6.15.12.2//NONSGML v1.0//EN
CALSCALE:GREGORIAN
METHOD:PUBLISH
X-ORIGINAL-URL:https://trinitykirk.org
X-WR-CALDESC:Events for Trinity Church
REFRESH-INTERVAL;VALUE=DURATION:PT1H
X-Robots-Tag:noindex
X-PUBLISHED-TTL:PT1H
BEGIN:VTIMEZONE
TZID:America/Los_Angeles
BEGIN:DAYLIGHT
TZOFFSETFROM:-0800
TZOFFSETTO:-0700
TZNAME:PDT
DTSTART:20240310T100000
END:DAYLIGHT
BEGIN:STANDARD
TZOFFSETFROM:-0700
TZOFFSETTO:-0800
TZNAME:PST
DTSTART:20241103T090000
END:STANDARD
BEGIN:DAYLIGHT
TZOFFSETFROM:-0800
TZOFFSETTO:-0700
TZNAME:PDT
DTSTART:20250309T100000
END:DAYLIGHT
BEGIN:STANDARD
TZOFFSETFROM:-0700
TZOFFSETTO:-0800
TZNAME:PST
DTSTART:20251102T090000
END:STANDARD
BEGIN:DAYLIGHT
TZOFFSETFROM:-0800
TZOFFSETTO:-0700
TZNAME:PDT
DTSTART:20260308T100000
END:DAYLIGHT
BEGIN:STANDARD
TZOFFSETFROM:-0700
TZOFFSETTO:-0800
TZNAME:PST
DTSTART:20261101T090000
END:STANDARD
END:VTIMEZONE
BEGIN:VEVENT
DTSTART;VALUE=DATE:20251102
DTEND;VALUE=DATE:20251103
DTSTAMP:20260424T184910
CREATED:20250925T214619Z
LAST-MODIFIED:20251030T221929Z
UID:10004971-1762070400-1762102800@trinitykirk.org
SUMMARY:Daylight Savings Time Ends
DESCRIPTION:
URL:https://trinitykirk.org/event/daylight-savings-time-ends/2025-11-02/
LOCATION:WA
END:VEVENT
BEGIN:VEVENT
DTSTART;TZID=America/Los_Angeles:20251102T090000
DTEND;TZID=America/Los_Angeles:20251102T094000
DTSTAMP:20260424T184910
CREATED:20250925T215218Z
LAST-MODIFIED:20250930T011345Z
UID:10005330-1762074000-1762076400@trinitykirk.org
SUMMARY:9 AM Sunday School
DESCRIPTION:We will pick up in the Westminster Shorter Catechism in the section on the Ten Commandments. If you weren’t coming last year\, this is a perfect point to jump in as we are beginning a new section. As always\, the Sunday School is great to come week after week\, but works pretty well if you can only come occasionally. I will try to make it interesting for adults and kids alike.
URL:https://trinitykirk.org/event/9-am-sunday-school-9/2025-11-02/
LOCATION:Providence North\, 19021 120th Ave NE\, Bothell\, WA\, 98011
END:VEVENT
BEGIN:VEVENT
DTSTART;TZID=America/Los_Angeles:20251102T100000
DTEND;TZID=America/Los_Angeles:20251102T113000
DTSTAMP:20260424T184910
CREATED:20250925T215219Z
LAST-MODIFIED:20250925T215219Z
UID:10002981-1762077600-1762083000@trinitykirk.org
SUMMARY:10:00 AM Worship Service
DESCRIPTION:Everyone is welcome in this service of prayer\, praise\, and worship of God the Father\, through his Son Jesus Christ\, in the power of the Holy Spirit.
URL:https://trinitykirk.org/event/1000-am-worship-service-2-2/2025-11-02/
LOCATION:Providence North\, 19021 120th Ave NE\, Bothell\, WA\, 98011
END:VEVENT
BEGIN:VEVENT
DTSTART;TZID=America/Los_Angeles:20251102T113000
DTEND;TZID=America/Los_Angeles:20251102T123000
DTSTAMP:20260424T184910
CREATED:20250925T215157Z
LAST-MODIFIED:20251016T203205Z
UID:10004925-1762083000-1762086600@trinitykirk.org
SUMMARY:11:30 AM Feast
DESCRIPTION:Lunch will be provided.
URL:https://trinitykirk.org/event/1130-am-feast-3/2025-11-02/
LOCATION:Providence North\, 19021 120th Ave NE\, Bothell\, WA\, 98011
END:VEVENT
BEGIN:VEVENT
DTSTART;TZID=America/Los_Angeles:20251103T170000
DTEND;TZID=America/Los_Angeles:20251103T180000
DTSTAMP:20260424T184910
CREATED:20250925T215220Z
LAST-MODIFIED:20260306T233519Z
UID:10005168-1762189200-1762192800@trinitykirk.org
SUMMARY:5 PM Women's Online Bible Study
DESCRIPTION:“For the weapons of our warfare are not carnal but mighty in God for pulling down strongholds\, casting down arguments and every high thing that exalts itself against the knowledge of God\, bringing every thought into captivity to the obedience of Christ…”  — 2 Corinthians 10:4-5 \nEvery Thought Captive (ETC) studies are back this fall\, with 3 different opportunities for ladies to join together in diligent study of God’s Word. Words fail to describe the beauty of fellowship and the increased fervency of prayer that are the result of women putting themselves under the authority of Scripture\, hungering after Christ and seeking Him through the Word\, that He might bring our every thought captive to Himself… so perhaps you need to come experience it for yourself! \nThe 2025-26 season of ETC is tackling the book of Jeremiah. Watch the back for booklets! \nOnline: \nFridays at 8 am begins September 12 \nMondays at 5 pm begins September 15 \nIn-Person: \nTuesdays at 10 am begins September 16 at the Bell’s residence \nQuestions or to get signed up with an online group\, contact Barbara Braendlein
URL:https://trinitykirk.org/event/5-pm-womens-online-bible-study-8/2025-11-03/
LOCATION:Zoom Meeting
END:VEVENT
BEGIN:VEVENT
DTSTART;TZID=America/Los_Angeles:20251104T101500
DTEND;TZID=America/Los_Angeles:20251104T111500
DTSTAMP:20260424T184910
CREATED:20250925T215221Z
LAST-MODIFIED:20260306T233656Z
UID:10005571-1762251300-1762254900@trinitykirk.org
SUMMARY:10:15 AM Women's Bible Study
DESCRIPTION:“For the weapons of our warfare are not carnal but mighty in God for pulling down strongholds\, casting down arguments and every high thing that exalts itself against the knowledge of God\, bringing every thought into captivity to the obedience of Christ…”  — 2 Corinthians 10:4-5 \nEvery Thought Captive (ETC) studies are back this fall\, with 3 different opportunities for ladies to join together in diligent study of God’s Word. Words fail to describe the beauty of fellowship and the increased fervency of prayer that are the result of women putting themselves under the authority of Scripture\, hungering after Christ and seeking Him through the Word\, that He might bring our every thought captive to Himself… so perhaps you need to come experience it for yourself! \nThe 2025-26 season of ETC is tackling the book of Jeremiah. Watch the back for booklets! \nOnline: \nFridays at 8 am begins September 12 \nMondays at 5 pm begins September 15 \nIn-Person: \nTuesdays at 10 am begins September 16 at the Bell’s residence \nQuestions or to get signed up with an online group\, contact Barbara Braendlein
URL:https://trinitykirk.org/event/10-am-womens-bible-study-9/2025-11-04/
LOCATION:Megan Bell Home\, 23701 3rd PL W\, Bothell\, WA\, 98021
END:VEVENT
BEGIN:VEVENT
DTSTART;TZID=America/Los_Angeles:20251104T193000
DTEND;TZID=America/Los_Angeles:20251104T210000
DTSTAMP:20260424T184910
CREATED:20250925T215221Z
LAST-MODIFIED:20260416T214551Z
UID:10005506-1762284600-1762290000@trinitykirk.org
SUMMARY:7:30 PM Young Women's Bible Study
DESCRIPTION:
URL:https://trinitykirk.org/event/730-pm-young-womens-bible-study/2025-11-04/
LOCATION:Ruiz Home\, 1120 Ave A Unit 207\, Snohomish\, WA
END:VEVENT
BEGIN:VEVENT
DTSTART;TZID=America/Los_Angeles:20251105T203000
DTEND;TZID=America/Los_Angeles:20251105T223000
DTSTAMP:20260424T184910
CREATED:20250925T214600Z
LAST-MODIFIED:20260319T212540Z
UID:10001975-1762374600-1762381800@trinitykirk.org
SUMMARY:8:30 PM Elders Meeting
DESCRIPTION:
URL:https://trinitykirk.org/event/830-pm-elders-meeting/2025-11-05/
LOCATION:Church Office
CATEGORIES:Internal,Office
END:VEVENT
BEGIN:VEVENT
DTSTART;TZID=America/Los_Angeles:20251107T080000
DTEND;TZID=America/Los_Angeles:20251107T090000
DTSTAMP:20260424T184910
CREATED:20250925T215219Z
LAST-MODIFIED:20260305T235804Z
UID:10005088-1762502400-1762506000@trinitykirk.org
SUMMARY:8 AM Women's Online Bible Study
DESCRIPTION:“For the weapons of our warfare are not carnal but mighty in God for pulling down strongholds\, casting down arguments and every high thing that exalts itself against the knowledge of God\, bringing every thought into captivity to the obedience of Christ…”  — 2 Corinthians 10:4-5 \nEvery Thought Captive (ETC) studies are back this fall\, with 3 different opportunities for ladies to join together in diligent study of God’s Word. Words fail to describe the beauty of fellowship and the increased fervency of prayer that are the result of women putting themselves under the authority of Scripture\, hungering after Christ and seeking Him through the Word\, that He might bring our every thought captive to Himself… so perhaps you need to come experience it for yourself! \nThe 2025-26 season of ETC is tackling the book of Jeremiah. Watch the back for booklets! \nOnline: \nFridays at 8 am begins September 12 \nMondays at 5 pm begins September 15 \n  \nIn-Person: \nTuesdays at 10 am begins September 16 at the Bell’s residence \n  \nQuestions or to get signed up with an online group\, contact Barbara Braendlein
URL:https://trinitykirk.org/event/8-am-womens-online-bible-study-5/2025-11-07/
LOCATION:Zoom Meeting
END:VEVENT
BEGIN:VEVENT
DTSTART;TZID=America/Los_Angeles:20251107T180000
DTEND;TZID=America/Los_Angeles:20251108T120000
DTSTAMP:20260424T184910
CREATED:20250925T215225Z
LAST-MODIFIED:20250925T215225Z
UID:10005061-1762538400-1762603200@trinitykirk.org
SUMMARY:Fall Conference
DESCRIPTION:Topic: “After the Apostles – Stories from the Early Church”.  Guest speaker: Pastor Troy Martin
URL:https://trinitykirk.org/event/fall-conference-6/
LOCATION:WA
END:VEVENT
END:VCALENDAR