BEGIN:VCALENDAR
VERSION:2.0
PRODID:-//Trinity Church - ECPv6.15.12.2//NONSGML v1.0//EN
CALSCALE:GREGORIAN
METHOD:PUBLISH
X-WR-CALNAME:Trinity Church
X-ORIGINAL-URL:https://trinitykirk.org
X-WR-CALDESC:Events for Trinity Church
REFRESH-INTERVAL;VALUE=DURATION:PT1H
X-Robots-Tag:noindex
X-PUBLISHED-TTL:PT1H
BEGIN:VTIMEZONE
TZID:America/Los_Angeles
BEGIN:DAYLIGHT
TZOFFSETFROM:-0800
TZOFFSETTO:-0700
TZNAME:PDT
DTSTART:20240310T100000
END:DAYLIGHT
BEGIN:STANDARD
TZOFFSETFROM:-0700
TZOFFSETTO:-0800
TZNAME:PST
DTSTART:20241103T090000
END:STANDARD
BEGIN:DAYLIGHT
TZOFFSETFROM:-0800
TZOFFSETTO:-0700
TZNAME:PDT
DTSTART:20250309T100000
END:DAYLIGHT
BEGIN:STANDARD
TZOFFSETFROM:-0700
TZOFFSETTO:-0800
TZNAME:PST
DTSTART:20251102T090000
END:STANDARD
BEGIN:DAYLIGHT
TZOFFSETFROM:-0800
TZOFFSETTO:-0700
TZNAME:PDT
DTSTART:20260308T100000
END:DAYLIGHT
BEGIN:STANDARD
TZOFFSETFROM:-0700
TZOFFSETTO:-0800
TZNAME:PST
DTSTART:20261101T090000
END:STANDARD
END:VTIMEZONE
BEGIN:VEVENT
DTSTART;VALUE=DATE:20251109
DTEND;VALUE=DATE:20251110
DTSTAMP:20260424T184813
CREATED:20250925T215224Z
LAST-MODIFIED:20250925T215224Z
UID:10005062-1762646400-1762732799@trinitykirk.org
SUMMARY:Troy Martin Preaching
DESCRIPTION:
URL:https://trinitykirk.org/event/troy-martin-preaching/
LOCATION:WA
CATEGORIES:Internal
END:VEVENT
BEGIN:VEVENT
DTSTART;TZID=America/Los_Angeles:20251109T090000
DTEND;TZID=America/Los_Angeles:20251109T094000
DTSTAMP:20260424T184813
CREATED:20250925T215218Z
LAST-MODIFIED:20250930T011345Z
UID:10005331-1762678800-1762681200@trinitykirk.org
SUMMARY:9 AM Sunday School
DESCRIPTION:We will pick up in the Westminster Shorter Catechism in the section on the Ten Commandments. If you weren’t coming last year\, this is a perfect point to jump in as we are beginning a new section. As always\, the Sunday School is great to come week after week\, but works pretty well if you can only come occasionally. I will try to make it interesting for adults and kids alike.
URL:https://trinitykirk.org/event/9-am-sunday-school-9/2025-11-09/
LOCATION:Providence North\, 19021 120th Ave NE\, Bothell\, WA\, 98011
END:VEVENT
BEGIN:VEVENT
DTSTART;TZID=America/Los_Angeles:20251109T100000
DTEND;TZID=America/Los_Angeles:20251109T113000
DTSTAMP:20260424T184813
CREATED:20250925T215219Z
LAST-MODIFIED:20250925T215219Z
UID:10002982-1762682400-1762687800@trinitykirk.org
SUMMARY:10:00 AM Worship Service
DESCRIPTION:Everyone is welcome in this service of prayer\, praise\, and worship of God the Father\, through his Son Jesus Christ\, in the power of the Holy Spirit.
URL:https://trinitykirk.org/event/1000-am-worship-service-2-2/2025-11-09/
LOCATION:Providence North\, 19021 120th Ave NE\, Bothell\, WA\, 98011
END:VEVENT
BEGIN:VEVENT
DTSTART;TZID=America/Los_Angeles:20251109T140000
DTEND;TZID=America/Los_Angeles:20251109T160000
DTSTAMP:20260424T184813
CREATED:20250930T001509Z
LAST-MODIFIED:20250930T001509Z
UID:10005655-1762696800-1762704000@trinitykirk.org
SUMMARY:2 PM Joyful Dancing
DESCRIPTION:Come and learn to dance the basics or expand your skill.\nFor full explanations of what Joyful Dancing is\, please click here to read through our site.\nwww.joyfuldancing.org \n$10 per dancer or $30 per family \nAll minors must have a supervising adult present!
URL:https://trinitykirk.org/event/2-pm-joyful-dancing-5/2025-11-09/
LOCATION:Maltby Community Club\, 8711 206th St SE\, Snohomish\, WA\, 98296
END:VEVENT
BEGIN:VEVENT
DTSTART;TZID=America/Los_Angeles:20251110T170000
DTEND;TZID=America/Los_Angeles:20251110T180000
DTSTAMP:20260424T184813
CREATED:20250925T215220Z
LAST-MODIFIED:20260306T233519Z
UID:10005169-1762794000-1762797600@trinitykirk.org
SUMMARY:5 PM Women's Online Bible Study
DESCRIPTION:“For the weapons of our warfare are not carnal but mighty in God for pulling down strongholds\, casting down arguments and every high thing that exalts itself against the knowledge of God\, bringing every thought into captivity to the obedience of Christ…”  — 2 Corinthians 10:4-5 \nEvery Thought Captive (ETC) studies are back this fall\, with 3 different opportunities for ladies to join together in diligent study of God’s Word. Words fail to describe the beauty of fellowship and the increased fervency of prayer that are the result of women putting themselves under the authority of Scripture\, hungering after Christ and seeking Him through the Word\, that He might bring our every thought captive to Himself… so perhaps you need to come experience it for yourself! \nThe 2025-26 season of ETC is tackling the book of Jeremiah. Watch the back for booklets! \nOnline: \nFridays at 8 am begins September 12 \nMondays at 5 pm begins September 15 \nIn-Person: \nTuesdays at 10 am begins September 16 at the Bell’s residence \nQuestions or to get signed up with an online group\, contact Barbara Braendlein
URL:https://trinitykirk.org/event/5-pm-womens-online-bible-study-8/2025-11-10/
LOCATION:Zoom Meeting
END:VEVENT
BEGIN:VEVENT
DTSTART;TZID=America/Los_Angeles:20251111T101500
DTEND;TZID=America/Los_Angeles:20251111T111500
DTSTAMP:20260424T184813
CREATED:20250925T215221Z
LAST-MODIFIED:20260306T233656Z
UID:10005572-1762856100-1762859700@trinitykirk.org
SUMMARY:10:15 AM Women's Bible Study
DESCRIPTION:“For the weapons of our warfare are not carnal but mighty in God for pulling down strongholds\, casting down arguments and every high thing that exalts itself against the knowledge of God\, bringing every thought into captivity to the obedience of Christ…”  — 2 Corinthians 10:4-5 \nEvery Thought Captive (ETC) studies are back this fall\, with 3 different opportunities for ladies to join together in diligent study of God’s Word. Words fail to describe the beauty of fellowship and the increased fervency of prayer that are the result of women putting themselves under the authority of Scripture\, hungering after Christ and seeking Him through the Word\, that He might bring our every thought captive to Himself… so perhaps you need to come experience it for yourself! \nThe 2025-26 season of ETC is tackling the book of Jeremiah. Watch the back for booklets! \nOnline: \nFridays at 8 am begins September 12 \nMondays at 5 pm begins September 15 \nIn-Person: \nTuesdays at 10 am begins September 16 at the Bell’s residence \nQuestions or to get signed up with an online group\, contact Barbara Braendlein
URL:https://trinitykirk.org/event/10-am-womens-bible-study-9/2025-11-11/
LOCATION:Megan Bell Home\, 23701 3rd PL W\, Bothell\, WA\, 98021
END:VEVENT
BEGIN:VEVENT
DTSTART;TZID=America/Los_Angeles:20251111T174500
DTEND;TZID=America/Los_Angeles:20251111T191500
DTSTAMP:20260424T184813
CREATED:20251029T223135Z
LAST-MODIFIED:20251029T223135Z
UID:10005659-1762883100-1762888500@trinitykirk.org
SUMMARY:5:45 Woodinville Storehouse Volunteering
DESCRIPTION:Trinity Church has a team of volunteers to serve and love those in need in the Woodinville area the second Tuesday of each month\, 5:45pm – 7:20pm. \nOur goal is to have a rotation so people will volunteer three or four times a year. \nThe following link has information about the organization: www.woodinvillestorehouse.org \nTo volunteer\, signup using our Services Mobile App or Webpage or contact Roger Beasley.
URL:https://trinitykirk.org/event/545-woodinville-storehouse-volunteering/2025-11-11/
LOCATION:Woodinville Storehouse\, 17110 140th Ave NE\, Woodinville\, WA\, 98072
END:VEVENT
BEGIN:VEVENT
DTSTART;TZID=America/Los_Angeles:20251112T203000
DTEND;TZID=America/Los_Angeles:20251112T223000
DTSTAMP:20260424T184813
CREATED:20250925T214600Z
LAST-MODIFIED:20260319T212540Z
UID:10001976-1762979400-1762986600@trinitykirk.org
SUMMARY:8:30 PM Elders Meeting
DESCRIPTION:
URL:https://trinitykirk.org/event/830-pm-elders-meeting/2025-11-12/
LOCATION:Church Office
CATEGORIES:Internal,Office
END:VEVENT
BEGIN:VEVENT
DTSTART;TZID=America/Los_Angeles:20251114T080000
DTEND;TZID=America/Los_Angeles:20251114T090000
DTSTAMP:20260424T184813
CREATED:20250925T215219Z
LAST-MODIFIED:20260305T235804Z
UID:10005089-1763107200-1763110800@trinitykirk.org
SUMMARY:8 AM Women's Online Bible Study
DESCRIPTION:“For the weapons of our warfare are not carnal but mighty in God for pulling down strongholds\, casting down arguments and every high thing that exalts itself against the knowledge of God\, bringing every thought into captivity to the obedience of Christ…”  — 2 Corinthians 10:4-5 \nEvery Thought Captive (ETC) studies are back this fall\, with 3 different opportunities for ladies to join together in diligent study of God’s Word. Words fail to describe the beauty of fellowship and the increased fervency of prayer that are the result of women putting themselves under the authority of Scripture\, hungering after Christ and seeking Him through the Word\, that He might bring our every thought captive to Himself… so perhaps you need to come experience it for yourself! \nThe 2025-26 season of ETC is tackling the book of Jeremiah. Watch the back for booklets! \nOnline: \nFridays at 8 am begins September 12 \nMondays at 5 pm begins September 15 \n  \nIn-Person: \nTuesdays at 10 am begins September 16 at the Bell’s residence \n  \nQuestions or to get signed up with an online group\, contact Barbara Braendlein
URL:https://trinitykirk.org/event/8-am-womens-online-bible-study-5/2025-11-14/
LOCATION:Zoom Meeting
END:VEVENT
END:VCALENDAR