BEGIN:VCALENDAR
VERSION:2.0
PRODID:-//Trinity Church - ECPv6.15.12.2//NONSGML v1.0//EN
CALSCALE:GREGORIAN
METHOD:PUBLISH
X-WR-CALNAME:Trinity Church
X-ORIGINAL-URL:https://trinitykirk.org
X-WR-CALDESC:Events for Trinity Church
REFRESH-INTERVAL;VALUE=DURATION:PT1H
X-Robots-Tag:noindex
X-PUBLISHED-TTL:PT1H
BEGIN:VTIMEZONE
TZID:America/Los_Angeles
BEGIN:DAYLIGHT
TZOFFSETFROM:-0800
TZOFFSETTO:-0700
TZNAME:PDT
DTSTART:20250309T100000
END:DAYLIGHT
BEGIN:STANDARD
TZOFFSETFROM:-0700
TZOFFSETTO:-0800
TZNAME:PST
DTSTART:20251102T090000
END:STANDARD
BEGIN:DAYLIGHT
TZOFFSETFROM:-0800
TZOFFSETTO:-0700
TZNAME:PDT
DTSTART:20260308T100000
END:DAYLIGHT
BEGIN:STANDARD
TZOFFSETFROM:-0700
TZOFFSETTO:-0800
TZNAME:PST
DTSTART:20261101T090000
END:STANDARD
BEGIN:DAYLIGHT
TZOFFSETFROM:-0800
TZOFFSETTO:-0700
TZNAME:PDT
DTSTART:20270314T100000
END:DAYLIGHT
BEGIN:STANDARD
TZOFFSETFROM:-0700
TZOFFSETTO:-0800
TZNAME:PST
DTSTART:20271107T090000
END:STANDARD
END:VTIMEZONE
BEGIN:VEVENT
DTSTART;TZID=America/Los_Angeles:20260412T090000
DTEND;TZID=America/Los_Angeles:20260412T094000
DTSTAMP:20260424T085142
CREATED:20260119T223620Z
LAST-MODIFIED:20260325T170025Z
UID:10006196-1775984400-1775986800@trinitykirk.org
SUMMARY:9AM Sunday School
DESCRIPTION:We are studying the Westminster Shorter Catechism. All are welcome “week by week” or as you are able to join us.
URL:https://trinitykirk.org/event/9am-sunday-school-2/2026-04-12/
LOCATION:Providence North\, 19021 120th Ave NE\, Bothell\, WA\, 98011
END:VEVENT
BEGIN:VEVENT
DTSTART;TZID=America/Los_Angeles:20260412T100000
DTEND;TZID=America/Los_Angeles:20260412T113000
DTSTAMP:20260424T085142
CREATED:20250925T215219Z
LAST-MODIFIED:20250925T215219Z
UID:10003004-1775988000-1775993400@trinitykirk.org
SUMMARY:10:00 AM Worship Service
DESCRIPTION:Everyone is welcome in this service of prayer\, praise\, and worship of God the Father\, through his Son Jesus Christ\, in the power of the Holy Spirit.
URL:https://trinitykirk.org/event/1000-am-worship-service-2-2/2026-04-12/
LOCATION:Providence North\, 19021 120th Ave NE\, Bothell\, WA\, 98011
END:VEVENT
BEGIN:VEVENT
DTSTART;TZID=America/Los_Angeles:20260412T113000
DTEND;TZID=America/Los_Angeles:20260412T123000
DTSTAMP:20260424T085142
CREATED:20251120T223500Z
LAST-MODIFIED:20251126T011918Z
UID:10005734-1775993400-1775997000@trinitykirk.org
SUMMARY:11:30 AM Feast
DESCRIPTION:
URL:https://trinitykirk.org/event/1130-am-feast-4/2026-04-12/
LOCATION:Providence North\, 19021 120th Ave NE\, Bothell\, WA\, 98011
END:VEVENT
BEGIN:VEVENT
DTSTART;TZID=America/Los_Angeles:20260413T170000
DTEND;TZID=America/Los_Angeles:20260413T180000
DTSTAMP:20260424T085142
CREATED:20260306T234714Z
LAST-MODIFIED:20260306T234859Z
UID:10006157-1776099600-1776103200@trinitykirk.org
SUMMARY:5 PM Women's Online Bible Study
DESCRIPTION:This session of ETC is tackling the book of Lamentations. Watch the back for booklets! \n“For the weapons of our warfare are not carnal but mighty in God for pulling down strongholds\, casting down arguments and every high thing that exalts itself against the knowledge of God\, bringing every thought into captivity to the obedience of Christ…”  — 2 Corinthians 10:4-5 \nEvery Thought Captive (ETC) studies offer 3 different opportunities for ladies to join together in diligent study of God’s Word. Words fail to describe the beauty of fellowship and the increased fervency of prayer that are the result of women putting themselves under the authority of Scripture\, hungering after Christ and seeking Him through the Word\, that He might bring our every \nOnline: \nFridays at 8 am begins March 13 \nMondays at 5 pm begins March 16 \nIn-Person: \nTuesdays at 10 am begins March 17 at the Bell’s residence \nQuestions or to get signed up with an online group\, contact Barbara Braendlein
URL:https://trinitykirk.org/event/5-pm-womens-online-bible-study-9/2026-04-13/
LOCATION:Zoom Meeting
END:VEVENT
BEGIN:VEVENT
DTSTART;TZID=America/Los_Angeles:20260414T174500
DTEND;TZID=America/Los_Angeles:20260414T191500
DTSTAMP:20260424T085142
CREATED:20251029T223135Z
LAST-MODIFIED:20251029T223135Z
UID:10005664-1776188700-1776194100@trinitykirk.org
SUMMARY:5:45 Woodinville Storehouse Volunteering
DESCRIPTION:Trinity Church has a team of volunteers to serve and love those in need in the Woodinville area the second Tuesday of each month\, 5:45pm – 7:20pm. \nOur goal is to have a rotation so people will volunteer three or four times a year. \nThe following link has information about the organization: www.woodinvillestorehouse.org \nTo volunteer\, signup using our Services Mobile App or Webpage or contact Roger Beasley.
URL:https://trinitykirk.org/event/545-woodinville-storehouse-volunteering/2026-04-14/
LOCATION:Woodinville Storehouse\, 17110 140th Ave NE\, Woodinville\, WA\, 98072
END:VEVENT
BEGIN:VEVENT
DTSTART;TZID=America/Los_Angeles:20260414T193000
DTEND;TZID=America/Los_Angeles:20260414T210000
DTSTAMP:20260424T085142
CREATED:20250925T215221Z
LAST-MODIFIED:20260416T214551Z
UID:10005529-1776195000-1776200400@trinitykirk.org
SUMMARY:7:30 PM Young Women's Bible Study
DESCRIPTION:
URL:https://trinitykirk.org/event/730-pm-young-womens-bible-study/2026-04-14/
LOCATION:Ruiz Home\, 1120 Ave A Unit 207\, Snohomish\, WA
END:VEVENT
BEGIN:VEVENT
DTSTART;TZID=America/Los_Angeles:20260415T203000
DTEND;TZID=America/Los_Angeles:20260415T223000
DTSTAMP:20260424T085142
CREATED:20250925T214600Z
LAST-MODIFIED:20260319T212540Z
UID:10005873-1776285000-1776292200@trinitykirk.org
SUMMARY:8:30 PM Elders Meeting
DESCRIPTION:
URL:https://trinitykirk.org/event/830-pm-elders-meeting/2026-04-15/
LOCATION:Church Office
CATEGORIES:Internal,Office
END:VEVENT
BEGIN:VEVENT
DTSTART;VALUE=DATE:20260416
DTEND;VALUE=DATE:20260422
DTSTAMP:20260424T085142
CREATED:20260415T205645Z
LAST-MODIFIED:20260415T205645Z
UID:10006256-1776297600-1776815999@trinitykirk.org
SUMMARY:Hatcher out of Town
DESCRIPTION:
URL:https://trinitykirk.org/event/hatcher-out-of-town-6/
LOCATION:WA
CATEGORIES:Internal
END:VEVENT
END:VCALENDAR