BEGIN:VCALENDAR
VERSION:2.0
PRODID:-//Trinity Church - ECPv6.15.12.2//NONSGML v1.0//EN
CALSCALE:GREGORIAN
METHOD:PUBLISH
X-WR-CALNAME:Trinity Church
X-ORIGINAL-URL:https://trinitykirk.org
X-WR-CALDESC:Events for Trinity Church
REFRESH-INTERVAL;VALUE=DURATION:PT1H
X-Robots-Tag:noindex
X-PUBLISHED-TTL:PT1H
BEGIN:VTIMEZONE
TZID:America/Los_Angeles
BEGIN:DAYLIGHT
TZOFFSETFROM:-0800
TZOFFSETTO:-0700
TZNAME:PDT
DTSTART:20180311T100000
END:DAYLIGHT
BEGIN:STANDARD
TZOFFSETFROM:-0700
TZOFFSETTO:-0800
TZNAME:PST
DTSTART:20181104T090000
END:STANDARD
BEGIN:DAYLIGHT
TZOFFSETFROM:-0800
TZOFFSETTO:-0700
TZNAME:PDT
DTSTART:20190310T100000
END:DAYLIGHT
BEGIN:STANDARD
TZOFFSETFROM:-0700
TZOFFSETTO:-0800
TZNAME:PST
DTSTART:20191103T090000
END:STANDARD
BEGIN:DAYLIGHT
TZOFFSETFROM:-0800
TZOFFSETTO:-0700
TZNAME:PDT
DTSTART:20200308T100000
END:DAYLIGHT
BEGIN:STANDARD
TZOFFSETFROM:-0700
TZOFFSETTO:-0800
TZNAME:PST
DTSTART:20201101T090000
END:STANDARD
BEGIN:DAYLIGHT
TZOFFSETFROM:-0800
TZOFFSETTO:-0700
TZNAME:PDT
DTSTART:20210314T100000
END:DAYLIGHT
BEGIN:STANDARD
TZOFFSETFROM:-0700
TZOFFSETTO:-0800
TZNAME:PST
DTSTART:20211107T090000
END:STANDARD
BEGIN:DAYLIGHT
TZOFFSETFROM:-0800
TZOFFSETTO:-0700
TZNAME:PDT
DTSTART:20220313T100000
END:DAYLIGHT
BEGIN:STANDARD
TZOFFSETFROM:-0700
TZOFFSETTO:-0800
TZNAME:PST
DTSTART:20221106T090000
END:STANDARD
BEGIN:DAYLIGHT
TZOFFSETFROM:-0800
TZOFFSETTO:-0700
TZNAME:PDT
DTSTART:20230312T100000
END:DAYLIGHT
BEGIN:STANDARD
TZOFFSETFROM:-0700
TZOFFSETTO:-0800
TZNAME:PST
DTSTART:20231105T090000
END:STANDARD
BEGIN:DAYLIGHT
TZOFFSETFROM:-0800
TZOFFSETTO:-0700
TZNAME:PDT
DTSTART:20240310T100000
END:DAYLIGHT
BEGIN:STANDARD
TZOFFSETFROM:-0700
TZOFFSETTO:-0800
TZNAME:PST
DTSTART:20241103T090000
END:STANDARD
BEGIN:DAYLIGHT
TZOFFSETFROM:-0800
TZOFFSETTO:-0700
TZNAME:PDT
DTSTART:20250309T100000
END:DAYLIGHT
BEGIN:STANDARD
TZOFFSETFROM:-0700
TZOFFSETTO:-0800
TZNAME:PST
DTSTART:20251102T090000
END:STANDARD
END:VTIMEZONE
BEGIN:VEVENT
DTSTART;TZID=America/Los_Angeles:20241207T110000
DTEND;TZID=America/Los_Angeles:20241207T130000
DTSTAMP:20260424T202847
CREATED:20250925T215155Z
LAST-MODIFIED:20250925T215155Z
UID:10004726-1733569200-1733576400@trinitykirk.org
SUMMARY:11 AM Christmas Tea
DESCRIPTION:
URL:https://trinitykirk.org/event/11-am-christmas-tea/
END:VEVENT
BEGIN:VEVENT
DTSTART;TZID=America/Los_Angeles:20240331T114500
DTEND;TZID=America/Los_Angeles:20240331T121500
DTSTAMP:20260424T202847
CREATED:20250925T214958Z
LAST-MODIFIED:20250925T214958Z
UID:10003938-1711885500-1711887300@trinitykirk.org
SUMMARY:11:45 AM Easter Egg Hunt
DESCRIPTION:Trinity’s annual egg hunt will happen after our Easter service. \nWe’re asking everyone that is able to bring in two dozen filled eggs to be dropped off in the foyer. \nThere will also be an activity for older kids that will take place at the same time as the egg hunt. \nSee Anne Bouckenooghe with questions.
URL:https://trinitykirk.org/event/1130-am-easter-egg-hunt/
LOCATION:Providence North\, 19021 120th Ave NE\, Bothell\, WA\, 98011
END:VEVENT
BEGIN:VEVENT
DTSTART;TZID=America/Los_Angeles:20231216T100000
DTEND;TZID=America/Los_Angeles:20231216T120000
DTSTAMP:20260424T202847
CREATED:20250925T214952Z
LAST-MODIFIED:20250925T214952Z
UID:10003809-1702720800-1702728000@trinitykirk.org
SUMMARY:10 AM Christmas Tea
DESCRIPTION:
URL:https://trinitykirk.org/event/10-am-christmas-tea/
LOCATION:Providence North\, 19021 120th Ave NE\, Bothell\, WA\, 98011
END:VEVENT
BEGIN:VEVENT
DTSTART;TZID=America/Los_Angeles:20230607T190000
DTEND;TZID=America/Los_Angeles:20230607T200000
DTSTAMP:20260424T202847
CREATED:20250925T214930Z
LAST-MODIFIED:20250925T214930Z
UID:10003553-1686164400-1686168000@trinitykirk.org
SUMMARY:7 PM Women's Bible Study
DESCRIPTION:For four weeks we’ll be hosting the bible study that was discussed at our ladies’ retreat. It’s the perfect segue to a summer bible reading challenge. \nWe’ll meet on four Thursdays starting on May 18th at seven o’clock at the Bouckenooghes. Come with Bibles\, most likely there will be cookies. \n \n 
URL:https://trinitykirk.org/event/7-pm-womens-bible-study/2023-06-07/
LOCATION:Bouckeno Home\, 22714 4th Ave SE\, Bothell\, WA
END:VEVENT
BEGIN:VEVENT
DTSTART;TZID=America/Los_Angeles:20230531T190000
DTEND;TZID=America/Los_Angeles:20230531T200000
DTSTAMP:20260424T202847
CREATED:20250925T214930Z
LAST-MODIFIED:20250925T214930Z
UID:10003552-1685559600-1685563200@trinitykirk.org
SUMMARY:7 PM Women's Bible Study
DESCRIPTION:For four weeks we’ll be hosting the bible study that was discussed at our ladies’ retreat. It’s the perfect segue to a summer bible reading challenge. \nWe’ll meet on four Thursdays starting on May 18th at seven o’clock at the Bouckenooghes. Come with Bibles\, most likely there will be cookies. \n \n 
URL:https://trinitykirk.org/event/7-pm-womens-bible-study/2023-05-31/
LOCATION:Bouckeno Home\, 22714 4th Ave SE\, Bothell\, WA
END:VEVENT
BEGIN:VEVENT
DTSTART;TZID=America/Los_Angeles:20230525T190000
DTEND;TZID=America/Los_Angeles:20230525T200000
DTSTAMP:20260424T202847
CREATED:20250925T214930Z
LAST-MODIFIED:20250925T214930Z
UID:10003539-1685041200-1685044800@trinitykirk.org
SUMMARY:7 PM Women's Bible Study
DESCRIPTION:For four weeks we’ll be hosting the bible study that was discussed at our ladies’ retreat. It’s the perfect segue to a summer bible reading challenge. \nWe’ll meet on four Thursdays starting on May 18th at seven o’clock at the Bouckenooghes. Come with Bibles\, most likely there will be cookies. \n \n 
URL:https://trinitykirk.org/event/7-pm-womens-bible-study/2023-05-25/
LOCATION:Bouckeno Home\, 22714 4th Ave SE\, Bothell\, WA
END:VEVENT
BEGIN:VEVENT
DTSTART;TZID=America/Los_Angeles:20230518T190000
DTEND;TZID=America/Los_Angeles:20230518T200000
DTSTAMP:20260424T202847
CREATED:20250925T214930Z
LAST-MODIFIED:20250925T214930Z
UID:10003538-1684436400-1684440000@trinitykirk.org
SUMMARY:7 PM Women's Bible Study
DESCRIPTION:For four weeks we’ll be hosting the bible study that was discussed at our ladies’ retreat. It’s the perfect segue to a summer bible reading challenge. \nWe’ll meet on four Thursdays starting on May 18th at seven o’clock at the Bouckenooghes. Come with Bibles\, most likely there will be cookies. \n \n 
URL:https://trinitykirk.org/event/7-pm-womens-bible-study/2023-05-18/
LOCATION:Bouckeno Home\, 22714 4th Ave SE\, Bothell\, WA
END:VEVENT
BEGIN:VEVENT
DTSTART;TZID=America/Los_Angeles:20230311T100000
DTEND;TZID=America/Los_Angeles:20230311T120000
DTSTAMP:20260424T202847
CREATED:20250925T214923Z
LAST-MODIFIED:20250925T214923Z
UID:10003504-1678528800-1678536000@trinitykirk.org
SUMMARY:10 AM Baby Shower
DESCRIPTION:Tori Beasley a having a baby girl!  Ladies please join us for a baby shower for Tori.  RSVP to Anne.
URL:https://trinitykirk.org/event/10-am-baby-shower-3/
LOCATION:Bouckeno Home\, 22714 4th Ave SE\, Bothell\, WA
END:VEVENT
BEGIN:VEVENT
DTSTART;TZID=America/Los_Angeles:20230208T190000
DTEND;TZID=America/Los_Angeles:20230208T210000
DTSTAMP:20260424T202847
CREATED:20250925T214921Z
LAST-MODIFIED:20250925T214921Z
UID:10003500-1675882800-1675890000@trinitykirk.org
SUMMARY:7 PM Ladies Book Group
DESCRIPTION:Ladies are invited to Anne’s house to discuss the Abolition of Man and how it relates to That Hideous Strength! Contact Anne Bouckeno with any questions!
URL:https://trinitykirk.org/event/7-pm-ladies-book-group/
LOCATION:Bouckeno Home\, 22714 4th Ave SE\, Bothell\, WA
END:VEVENT
BEGIN:VEVENT
DTSTART;TZID=America/Los_Angeles:20221217T103000
DTEND;TZID=America/Los_Angeles:20221217T120000
DTSTAMP:20260424T202847
CREATED:20250925T214919Z
LAST-MODIFIED:20250925T214919Z
UID:10003311-1671273000-1671278400@trinitykirk.org
SUMMARY:10:30 AM Christmas Tea
DESCRIPTION:Ladies of all ages are welcomed to attend. If you would like to host a table or RSVP\, contact Anne Bouckenooghe.
URL:https://trinitykirk.org/event/1030-am-christmas-tea/
LOCATION:Providence North\, 19021 120th Ave NE\, Bothell\, WA\, 98011
END:VEVENT
BEGIN:VEVENT
DTSTART;TZID=America/Los_Angeles:20220417T114500
DTEND;TZID=America/Los_Angeles:20220417T121500
DTSTAMP:20260424T202847
CREATED:20250925T214748Z
LAST-MODIFIED:20250925T214748Z
UID:10003175-1650195900-1650197700@trinitykirk.org
SUMMARY:11:45 Easter Egg Hunt
DESCRIPTION:All children are invited to participate in an egg hunt after church on Easter Sunday! We’ll do a wave of the smallest children first\, then let the older kids participate. There will even be a golden egg! \nWe’re also asking everyone that is able to please bring two dozen filled Easter eggs to church for the hunt. There will be a box for collecting the eggs by the coloring table. \nContact Anne Bouckenooghe with any questions!
URL:https://trinitykirk.org/event/1145-easter-egg-hunt/
LOCATION:Providence North\, 19021 120th Ave NE\, Bothell\, WA\, 98011
END:VEVENT
BEGIN:VEVENT
DTSTART;TZID=America/Los_Angeles:20211212T123000
DTEND;TZID=America/Los_Angeles:20211212T153000
DTSTAMP:20260424T202847
CREATED:20250925T214743Z
LAST-MODIFIED:20250925T214743Z
UID:10003122-1639312200-1639323000@trinitykirk.org
SUMMARY:12:30 JTSF Christmas Party
DESCRIPTION:Junior Trinity Student Fellowship Christmas Party!  We’ll play games\, eat lunch and watch a movie.  RSVP to the Bouckenos.
URL:https://trinitykirk.org/event/1230-jtsf-christmas-party/
LOCATION:Bouckeno Home\, 22714 4th Ave SE\, Bothell\, WA
END:VEVENT
BEGIN:VEVENT
DTSTART;TZID=America/Los_Angeles:20201212T100000
DTEND;TZID=America/Los_Angeles:20201212T120000
DTSTAMP:20260424T202847
CREATED:20250925T214714Z
LAST-MODIFIED:20250925T214714Z
UID:10002645-1607767200-1607774400@trinitykirk.org
SUMMARY:10 AM Hatcher Baby Shower
DESCRIPTION:Even though it’s a little late \nWe can still celebrate \nLittle Gideon Hatcher who has brought much mirth \nwith has arrival and birth \n  \nNothing beyond your well-wishes is needed \nAlthough if this advice is not heeded\, \nYou may contribute to a group gift. \nBut if you don’t have time to search or thrift \nAnd venmo is within your power \nThen you can send it to @codetower \n 
URL:https://trinitykirk.org/event/10-am-hatcher-baby-shower/
LOCATION:Bouckeno Home\, 22714 4th Ave SE\, Bothell\, WA
END:VEVENT
BEGIN:VEVENT
DTSTART;TZID=America/Los_Angeles:20190831T130000
DTEND;TZID=America/Los_Angeles:20190831T150000
DTSTAMP:20260424T202847
CREATED:20250925T214616Z
LAST-MODIFIED:20250925T214616Z
UID:10002310-1567256400-1567263600@trinitykirk.org
SUMMARY:1 PM Summer Feasting & Fellowship
DESCRIPTION:Ladies! You’re invited to a three part ethnic cooking class series. Together we’ll learn how to make a new dish to encourage us in our homemaking and broaden our horizons. Plus it’s just fun! Kelly Morris will teach us about peanut sauce and chicken curry at her residence from 5:00 – 7:00 PM on Saturday\, Aug. 31st. Please RSVP to Anne Bouckeno.
URL:https://trinitykirk.org/event/7-pm-summer-feasting-fellowship-2019-08-09-2019-08-31/
LOCATION:Morris Home\, 8232 207th St SE\, Snohomish\, WA\, 98296
END:VEVENT
BEGIN:VEVENT
DTSTART;TZID=America/Los_Angeles:20190809T190000
DTEND;TZID=America/Los_Angeles:20190809T210000
DTSTAMP:20260424T202847
CREATED:20250925T214613Z
LAST-MODIFIED:20250925T214613Z
UID:10002309-1565377200-1565384400@trinitykirk.org
SUMMARY:7 PM Summer Feasting & Fellowship
DESCRIPTION:Ladies! You’re invited to a three part ethnic cooking class series. Together we’ll learn how to make a new dish to encourage us in our homemaking and broaden our horizons. Plus it’s just fun! Joy Li will guide us for our second class with dumplings and steamed buns on Friday\, Aug 9th from 7-9 PM at the Li residence .  Please RSVP to Anne Bouckeno.
URL:https://trinitykirk.org/event/7-pm-summer-feasting-fellowship-2019-08-09/
LOCATION:Morris Home\, 8232 207th St SE\, Snohomish\, WA\, 98296
END:VEVENT
BEGIN:VEVENT
DTSTART;TZID=America/Los_Angeles:20190731T094500
DTEND;TZID=America/Los_Angeles:20190731T124500
DTSTAMP:20260424T202847
CREATED:20250925T214612Z
LAST-MODIFIED:20250925T214612Z
UID:10002238-1564566300-1564577100@trinitykirk.org
SUMMARY:9:45 AM Park Meet-Up
DESCRIPTION:Wednesdays in summer we’ll have church park meet-ups! Bring a lunch if you’d like. \n\n\n\n\n\n\n\n  \n 
URL:https://trinitykirk.org/event/10-am-park-meet-up-2019-07-31/
LOCATION:Jetty Island
END:VEVENT
BEGIN:VEVENT
DTSTART;TZID=America/Los_Angeles:20190712T190000
DTEND;TZID=America/Los_Angeles:20190712T210000
DTSTAMP:20260424T202847
CREATED:20250925T214610Z
LAST-MODIFIED:20250925T214610Z
UID:10002239-1562958000-1562965200@trinitykirk.org
SUMMARY:7 PM Summer Feasting & Fellowship
DESCRIPTION:Ladies! You’re invited to a three part ethnic cooking class series. Together we’ll learn how to make a new dish to encourage us in our homemaking and broaden our horizons. Plus it’s just fun! Julia Badillo’s mom will start us off with Romanian fare Friday\, July 12th from 7-9 at the Badillo residence.  Please RSVP to Anne Bouckeno.
URL:https://trinitykirk.org/event/7-pm-summer-feasting-fellowship/2019-07-12/
LOCATION:Julia Badillo Home
END:VEVENT
BEGIN:VEVENT
DTSTART;TZID=America/Los_Angeles:20190710T100000
DTEND;TZID=America/Los_Angeles:20190710T120000
DTSTAMP:20260424T202847
CREATED:20250925T214610Z
LAST-MODIFIED:20250925T214610Z
UID:10002235-1562752800-1562760000@trinitykirk.org
SUMMARY:10 AM Park Meet-Up
DESCRIPTION:Wednesdays in July we’ll have church park meet-ups! This Wednesday the 10th from ten to noon we’ll gather at Lake Sammamish. Bring a lunch if you’d like. Contact Lisa White with questions.
URL:https://trinitykirk.org/event/10-am-park-meet-up/
LOCATION:Lake Sammamish State Park\, 2000 NW Sammamish Rd\, Issaquah\, WA\, 98027
END:VEVENT
BEGIN:VEVENT
DTSTART;TZID=America/Los_Angeles:20190505T140000
DTEND;TZID=America/Los_Angeles:20190505T160000
DTSTAMP:20260424T202847
CREATED:20250925T214602Z
LAST-MODIFIED:20250925T214602Z
UID:10002243-1557064800-1557072000@trinitykirk.org
SUMMARY:2 PM Baby Shower for Kristin Strieby
DESCRIPTION:You’re invited to a Great British Bake Off Baby Shower for Kristin Strieby celebrating the birth of their son Lukas on Sunday\, April 28th from 2-4 at the Bouckenooghes. Bring some muffins for the signature bake and be ready for a technical challenge!\nRSVP to Anne Bouckenooghe. Contact Laurie Hyink if interested in contributing to a group gift.
URL:https://trinitykirk.org/event/2-pm-baby-shower-for-kristin-strieby/
LOCATION:Bouckeno Home\, 22714 4th Ave SE\, Bothell\, WA
END:VEVENT
BEGIN:VEVENT
DTSTART;TZID=America/Los_Angeles:20190411T103000
DTEND;TZID=America/Los_Angeles:20190411T123000
DTSTAMP:20260424T202847
CREATED:20250925T214600Z
LAST-MODIFIED:20250925T214600Z
UID:10002205-1554978600-1554985800@trinitykirk.org
SUMMARY:10:30 AM Little Kids Easter Party
DESCRIPTION:A party for little ones and their mamas! \n  \nEat lunch\, dye eggs\, and sing a song!\nRSVP to Anne Bouckeno.
URL:https://trinitykirk.org/event/1030-am-little-kids-easter-party/
LOCATION:Poole Home
END:VEVENT
BEGIN:VEVENT
DTSTART;TZID=America/Los_Angeles:20190225T103000
DTEND;TZID=America/Los_Angeles:20190225T123000
DTSTAMP:20260424T202847
CREATED:20250925T214557Z
LAST-MODIFIED:20250925T214557Z
UID:10002184-1551090600-1551097800@trinitykirk.org
SUMMARY:10:30 AM Kid's Valentines Day Party
DESCRIPTION:Party Time for Little Ones! \n  \nLunch will be served\, crafts made\, and Valentines exchanged.
URL:https://trinitykirk.org/event/1030-am-kids-valentines-day-party/
LOCATION:Poole’s Home
END:VEVENT
END:VCALENDAR