BEGIN:VCALENDAR
VERSION:2.0
PRODID:-//Trinity Church - ECPv6.15.12.2//NONSGML v1.0//EN
CALSCALE:GREGORIAN
METHOD:PUBLISH
X-ORIGINAL-URL:https://trinitykirk.org
X-WR-CALDESC:Events for Trinity Church
REFRESH-INTERVAL;VALUE=DURATION:PT1H
X-Robots-Tag:noindex
X-PUBLISHED-TTL:PT1H
BEGIN:VTIMEZONE
TZID:America/Los_Angeles
BEGIN:DAYLIGHT
TZOFFSETFROM:-0800
TZOFFSETTO:-0700
TZNAME:PDT
DTSTART:20210314T100000
END:DAYLIGHT
BEGIN:STANDARD
TZOFFSETFROM:-0700
TZOFFSETTO:-0800
TZNAME:PST
DTSTART:20211107T090000
END:STANDARD
BEGIN:DAYLIGHT
TZOFFSETFROM:-0800
TZOFFSETTO:-0700
TZNAME:PDT
DTSTART:20220313T100000
END:DAYLIGHT
BEGIN:STANDARD
TZOFFSETFROM:-0700
TZOFFSETTO:-0800
TZNAME:PST
DTSTART:20221106T090000
END:STANDARD
BEGIN:DAYLIGHT
TZOFFSETFROM:-0800
TZOFFSETTO:-0700
TZNAME:PDT
DTSTART:20230312T100000
END:DAYLIGHT
BEGIN:STANDARD
TZOFFSETFROM:-0700
TZOFFSETTO:-0800
TZNAME:PST
DTSTART:20231105T090000
END:STANDARD
BEGIN:DAYLIGHT
TZOFFSETFROM:-0800
TZOFFSETTO:-0700
TZNAME:PDT
DTSTART:20240310T100000
END:DAYLIGHT
BEGIN:STANDARD
TZOFFSETFROM:-0700
TZOFFSETTO:-0800
TZNAME:PST
DTSTART:20241103T090000
END:STANDARD
BEGIN:DAYLIGHT
TZOFFSETFROM:-0800
TZOFFSETTO:-0700
TZNAME:PDT
DTSTART:20250309T100000
END:DAYLIGHT
BEGIN:STANDARD
TZOFFSETFROM:-0700
TZOFFSETTO:-0800
TZNAME:PST
DTSTART:20251102T090000
END:STANDARD
BEGIN:DAYLIGHT
TZOFFSETFROM:-0800
TZOFFSETTO:-0700
TZNAME:PDT
DTSTART:20260308T100000
END:DAYLIGHT
BEGIN:STANDARD
TZOFFSETFROM:-0700
TZOFFSETTO:-0800
TZNAME:PST
DTSTART:20261101T090000
END:STANDARD
BEGIN:DAYLIGHT
TZOFFSETFROM:-0800
TZOFFSETTO:-0700
TZNAME:PDT
DTSTART:20270314T100000
END:DAYLIGHT
BEGIN:STANDARD
TZOFFSETFROM:-0700
TZOFFSETTO:-0800
TZNAME:PST
DTSTART:20271107T090000
END:STANDARD
END:VTIMEZONE
BEGIN:VEVENT
DTSTART;TZID=America/Los_Angeles:20260315T170000
DTEND;TZID=America/Los_Angeles:20260315T180000
DTSTAMP:20260424T132909
CREATED:20251121T003328Z
LAST-MODIFIED:20260422T231248Z
UID:10006135-1773594000-1773597600@trinitykirk.org
SUMMARY:5 PM Psalm Sing
DESCRIPTION:
URL:https://trinitykirk.org/event/5-pm-psalm-sing-2/2026-03-15/
LOCATION:Providence North\, 19021 120th Ave NE\, Bothell\, WA\, 98011
END:VEVENT
BEGIN:VEVENT
DTSTART;TZID=America/Los_Angeles:20260315T090000
DTEND;TZID=America/Los_Angeles:20260315T094000
DTSTAMP:20260424T132909
CREATED:20260119T223620Z
LAST-MODIFIED:20260325T170025Z
UID:10006193-1773565200-1773567600@trinitykirk.org
SUMMARY:9AM Sunday School
DESCRIPTION:We are studying the Westminster Shorter Catechism. All are welcome “week by week” or as you are able to join us.
URL:https://trinitykirk.org/event/9am-sunday-school-2/2026-03-15/
LOCATION:Providence North\, 19021 120th Ave NE\, Bothell\, WA\, 98011
END:VEVENT
BEGIN:VEVENT
DTSTART;TZID=America/Los_Angeles:20260308T090000
DTEND;TZID=America/Los_Angeles:20260308T094000
DTSTAMP:20260424T132909
CREATED:20260119T223620Z
LAST-MODIFIED:20260325T170025Z
UID:10006192-1772960400-1772962800@trinitykirk.org
SUMMARY:9AM Sunday School
DESCRIPTION:We are studying the Westminster Shorter Catechism. All are welcome “week by week” or as you are able to join us.
URL:https://trinitykirk.org/event/9am-sunday-school-2/2026-03-08/
LOCATION:Providence North\, 19021 120th Ave NE\, Bothell\, WA\, 98011
END:VEVENT
BEGIN:VEVENT
DTSTART;TZID=America/Los_Angeles:20260301T090000
DTEND;TZID=America/Los_Angeles:20260301T094000
DTSTAMP:20260424T132909
CREATED:20260119T223620Z
LAST-MODIFIED:20260325T170025Z
UID:10006191-1772355600-1772358000@trinitykirk.org
SUMMARY:9AM Sunday School
DESCRIPTION:We are studying the Westminster Shorter Catechism. All are welcome “week by week” or as you are able to join us.
URL:https://trinitykirk.org/event/9am-sunday-school-2/2026-03-01/
LOCATION:Providence North\, 19021 120th Ave NE\, Bothell\, WA\, 98011
END:VEVENT
BEGIN:VEVENT
DTSTART;TZID=America/Los_Angeles:20260222T090000
DTEND;TZID=America/Los_Angeles:20260222T094000
DTSTAMP:20260424T132909
CREATED:20260119T223620Z
LAST-MODIFIED:20260325T170025Z
UID:10006190-1771750800-1771753200@trinitykirk.org
SUMMARY:9AM Sunday School
DESCRIPTION:We are studying the Westminster Shorter Catechism. All are welcome “week by week” or as you are able to join us.
URL:https://trinitykirk.org/event/9am-sunday-school-2/2026-02-22/
LOCATION:Providence North\, 19021 120th Ave NE\, Bothell\, WA\, 98011
END:VEVENT
BEGIN:VEVENT
DTSTART;TZID=America/Los_Angeles:20260215T170000
DTEND;TZID=America/Los_Angeles:20260215T180000
DTSTAMP:20260424T132909
CREATED:20251121T003328Z
LAST-MODIFIED:20260422T231248Z
UID:10005742-1771174800-1771178400@trinitykirk.org
SUMMARY:5 PM Psalm Sing
DESCRIPTION:
URL:https://trinitykirk.org/event/5-pm-psalm-sing-2/2026-02-15/
LOCATION:Providence North\, 19021 120th Ave NE\, Bothell\, WA\, 98011
END:VEVENT
BEGIN:VEVENT
DTSTART;TZID=America/Los_Angeles:20260215T090000
DTEND;TZID=America/Los_Angeles:20260215T094000
DTSTAMP:20260424T132909
CREATED:20260119T223620Z
LAST-MODIFIED:20260325T170025Z
UID:10006189-1771146000-1771148400@trinitykirk.org
SUMMARY:9AM Sunday School
DESCRIPTION:We are studying the Westminster Shorter Catechism. All are welcome “week by week” or as you are able to join us.
URL:https://trinitykirk.org/event/9am-sunday-school-2/2026-02-15/
LOCATION:Providence North\, 19021 120th Ave NE\, Bothell\, WA\, 98011
END:VEVENT
BEGIN:VEVENT
DTSTART;TZID=America/Los_Angeles:20260208T090000
DTEND;TZID=America/Los_Angeles:20260208T094000
DTSTAMP:20260424T132909
CREATED:20260119T223620Z
LAST-MODIFIED:20260325T170025Z
UID:10006188-1770541200-1770543600@trinitykirk.org
SUMMARY:9AM Sunday School
DESCRIPTION:We are studying the Westminster Shorter Catechism. All are welcome “week by week” or as you are able to join us.
URL:https://trinitykirk.org/event/9am-sunday-school-2/2026-02-08/
LOCATION:Providence North\, 19021 120th Ave NE\, Bothell\, WA\, 98011
END:VEVENT
BEGIN:VEVENT
DTSTART;TZID=America/Los_Angeles:20260201T090000
DTEND;TZID=America/Los_Angeles:20260201T094000
DTSTAMP:20260424T132909
CREATED:20260119T223620Z
LAST-MODIFIED:20260325T170025Z
UID:10005779-1769936400-1769938800@trinitykirk.org
SUMMARY:9AM Sunday School
DESCRIPTION:We are studying the Westminster Shorter Catechism. All are welcome “week by week” or as you are able to join us.
URL:https://trinitykirk.org/event/9am-sunday-school-2/2026-02-01/
LOCATION:Providence North\, 19021 120th Ave NE\, Bothell\, WA\, 98011
END:VEVENT
BEGIN:VEVENT
DTSTART;TZID=America/Los_Angeles:20260131T080000
DTEND;TZID=America/Los_Angeles:20260131T170000
DTSTAMP:20260424T132909
CREATED:20260114T225345Z
LAST-MODIFIED:20260117T021909Z
UID:10005840-1769846400-1769878800@trinitykirk.org
SUMMARY:8:30 AM Foundations Class
DESCRIPTION:This is a class we offer for new attendees at Trinity Church\, those interested in membership\, and anyone interested in the historical\, theological\, philosophical\, and strategic foundations of our church. Bring all of your questions with you. This time we are offering the class\, all three modules\, in one Saturday morning on Saturday\, January 31st\, from 8:30-11:30 including a very nice breakfast. It will be at Dave and Kim Hatcher’s home and we need you to RSVP to hatch@trinitykirk.org so we can plan accordingly. Please do so as soon as possible. \n(Child care is not available so if your little ones are too little for this\, please plan accordingly)
URL:https://trinitykirk.org/event/830-am-foundations-class-2/
LOCATION:Dave Hatcher Home\, 19520 112th Dr. SE\, Snohomish\, WA\, 98296
END:VEVENT
BEGIN:VEVENT
DTSTART;TZID=America/Los_Angeles:20260118T170000
DTEND;TZID=America/Los_Angeles:20260118T180000
DTSTAMP:20260424T132909
CREATED:20251121T003328Z
LAST-MODIFIED:20260422T231248Z
UID:10005729-1768755600-1768759200@trinitykirk.org
SUMMARY:5 PM Psalm Sing
DESCRIPTION:
URL:https://trinitykirk.org/event/5-pm-psalm-sing-2/2026-01-18/
LOCATION:Providence North\, 19021 120th Ave NE\, Bothell\, WA\, 98011
END:VEVENT
BEGIN:VEVENT
DTSTART;TZID=America/Los_Angeles:20260118T090000
DTEND;TZID=America/Los_Angeles:20260118T094000
DTSTAMP:20260424T132909
CREATED:20260117T013530Z
LAST-MODIFIED:20260117T021149Z
UID:10005778-1768726800-1768729200@trinitykirk.org
SUMMARY:9AM Sunday School
DESCRIPTION:We are studying the Westminster Shorter Catechism. All are welcome “week by week” or as you are able to join us.
URL:https://trinitykirk.org/event/9am-sunday-school/2026-01-18/
LOCATION:Providence North\, 19021 120th Ave NE\, Bothell\, WA\, 98011
END:VEVENT
BEGIN:VEVENT
DTSTART;TZID=America/Los_Angeles:20260111T090000
DTEND;TZID=America/Los_Angeles:20260111T094000
DTSTAMP:20260424T132909
CREATED:20260117T013530Z
LAST-MODIFIED:20260117T021149Z
UID:10005777-1768122000-1768124400@trinitykirk.org
SUMMARY:9AM Sunday School
DESCRIPTION:We are studying the Westminster Shorter Catechism. All are welcome “week by week” or as you are able to join us.
URL:https://trinitykirk.org/event/9am-sunday-school/2026-01-11/
LOCATION:Providence North\, 19021 120th Ave NE\, Bothell\, WA\, 98011
END:VEVENT
BEGIN:VEVENT
DTSTART;TZID=America/Los_Angeles:20251123T170000
DTEND;TZID=America/Los_Angeles:20251123T180000
DTSTAMP:20260424T132909
CREATED:20250925T215228Z
LAST-MODIFIED:20250925T215228Z
UID:10005075-1763917200-1763920800@trinitykirk.org
SUMMARY:5 PM Psalm Sing
DESCRIPTION:
URL:https://trinitykirk.org/event/430-psalm-sing-2-4-2/2025-11-23/
LOCATION:Providence North\, 19021 120th Ave NE\, Bothell\, WA\, 98011
END:VEVENT
BEGIN:VEVENT
DTSTART;TZID=America/Los_Angeles:20251019T170000
DTEND;TZID=America/Los_Angeles:20251019T180000
DTSTAMP:20260424T132909
CREATED:20250925T215223Z
LAST-MODIFIED:20250925T215223Z
UID:10005074-1760893200-1760896800@trinitykirk.org
SUMMARY:5 PM Psalm Sing
DESCRIPTION:
URL:https://trinitykirk.org/event/430-psalm-sing-2-4/2025-10-19/
LOCATION:Providence North\, 19021 120th Ave NE\, Bothell\, WA\, 98011
END:VEVENT
BEGIN:VEVENT
DTSTART;TZID=America/Los_Angeles:20250921T170000
DTEND;TZID=America/Los_Angeles:20250921T180000
DTSTAMP:20260424T132909
CREATED:20250925T215223Z
LAST-MODIFIED:20250925T215223Z
UID:10004404-1758474000-1758477600@trinitykirk.org
SUMMARY:5 PM Psalm Sing
DESCRIPTION:
URL:https://trinitykirk.org/event/430-psalm-sing-2-4/2025-09-21/
LOCATION:Providence North\, 19021 120th Ave NE\, Bothell\, WA\, 98011
END:VEVENT
BEGIN:VEVENT
DTSTART;TZID=America/Los_Angeles:20250810T163000
DTEND;TZID=America/Los_Angeles:20250810T173000
DTSTAMP:20260424T132909
CREATED:20250925T215217Z
LAST-MODIFIED:20250925T215217Z
UID:10005050-1754843400-1754847000@trinitykirk.org
SUMMARY:4:30 PM Psalm Sing
DESCRIPTION:
URL:https://trinitykirk.org/event/430-psalm-sing-2-3/
LOCATION:Providence North\, 19021 120th Ave NE\, Bothell\, WA\, 98011
END:VEVENT
BEGIN:VEVENT
DTSTART;TZID=America/Los_Angeles:20250720T163000
DTEND;TZID=America/Los_Angeles:20250720T183000
DTSTAMP:20260424T132909
CREATED:20250925T215216Z
LAST-MODIFIED:20250925T215216Z
UID:10004402-1753029000-1753036200@trinitykirk.org
SUMMARY:4:30 Psalm Sing + Dinner
DESCRIPTION:Psalm Sing at Dave and Kim’s – 19520 112th Dr Se Snohomish WA 98296. \nBring blankets or chairs to sit on (think Chateau St. Michelle) – but we’ll provide a summer dinner and drinks. Park down below or along the road – or up at the  house if you need to be closer. 4:30 Psalm Sing. 5:30 Dinner. \nAlso bring your own Cantus Christi if you have them – we will have some available if you don’t have your own.
URL:https://trinitykirk.org/event/430-psalm-sing-2-2/
LOCATION:Providence North\, 19021 120th Ave NE\, Bothell\, WA\, 98011
END:VEVENT
BEGIN:VEVENT
DTSTART;TZID=America/Los_Angeles:20250715T190000
DTEND;TZID=America/Los_Angeles:20250715T220000
DTSTAMP:20260424T132909
CREATED:20250925T215214Z
LAST-MODIFIED:20250925T215214Z
UID:10005052-1752606000-1752616800@trinitykirk.org
SUMMARY:7 PM Office in Use
DESCRIPTION:
URL:https://trinitykirk.org/event/7-pm-office-in-use/
CATEGORIES:Internal,Office
END:VEVENT
BEGIN:VEVENT
DTSTART;TZID=America/Los_Angeles:20250622T163000
DTEND;TZID=America/Los_Angeles:20250622T173000
DTSTAMP:20260424T132909
CREATED:20250925T215206Z
LAST-MODIFIED:20250925T215206Z
UID:10004408-1750609800-1750613400@trinitykirk.org
SUMMARY:4:30 Psalm Sing
DESCRIPTION:
URL:https://trinitykirk.org/event/430-psalm-sing-2/2025-06-22/
LOCATION:Providence North\, 19021 120th Ave NE\, Bothell\, WA\, 98011
END:VEVENT
BEGIN:VEVENT
DTSTART;TZID=America/Los_Angeles:20250518T163000
DTEND;TZID=America/Los_Angeles:20250518T173000
DTSTAMP:20260424T132909
CREATED:20250925T215206Z
LAST-MODIFIED:20250925T215206Z
UID:10004400-1747585800-1747589400@trinitykirk.org
SUMMARY:4:30 Psalm Sing
DESCRIPTION:
URL:https://trinitykirk.org/event/430-psalm-sing-2/2025-05-18/
LOCATION:Providence North\, 19021 120th Ave NE\, Bothell\, WA\, 98011
END:VEVENT
BEGIN:VEVENT
DTSTART;TZID=America/Los_Angeles:20250316T163000
DTEND;TZID=America/Los_Angeles:20250316T173000
DTSTAMP:20260424T132909
CREATED:20250925T215206Z
LAST-MODIFIED:20250925T215206Z
UID:10004398-1742142600-1742146200@trinitykirk.org
SUMMARY:4:30 Psalm Sing
DESCRIPTION:
URL:https://trinitykirk.org/event/430-psalm-sing-2/2025-03-16/
LOCATION:Providence North\, 19021 120th Ave NE\, Bothell\, WA\, 98011
END:VEVENT
BEGIN:VEVENT
DTSTART;TZID=America/Los_Angeles:20250216T163000
DTEND;TZID=America/Los_Angeles:20250216T173000
DTSTAMP:20260424T132909
CREATED:20250925T215201Z
LAST-MODIFIED:20250925T215201Z
UID:10004397-1739723400-1739727000@trinitykirk.org
SUMMARY:4:30 Psalm Sing
DESCRIPTION:
URL:https://trinitykirk.org/event/430-psalm-sing/2025-02-16/
LOCATION:Providence North\, 19021 120th Ave NE\, Bothell\, WA\, 98011
END:VEVENT
BEGIN:VEVENT
DTSTART;TZID=America/Los_Angeles:20250119T163000
DTEND;TZID=America/Los_Angeles:20250119T173000
DTSTAMP:20260424T132909
CREATED:20250925T215201Z
LAST-MODIFIED:20250925T215201Z
UID:10004396-1737304200-1737307800@trinitykirk.org
SUMMARY:4:30 Psalm Sing
DESCRIPTION:
URL:https://trinitykirk.org/event/430-psalm-sing/2025-01-19/
LOCATION:Providence North\, 19021 120th Ave NE\, Bothell\, WA\, 98011
END:VEVENT
BEGIN:VEVENT
DTSTART;TZID=America/Los_Angeles:20220729T170000
DTEND;TZID=America/Los_Angeles:20220730T170000
DTSTAMP:20260424T132909
CREATED:20250925T214910Z
LAST-MODIFIED:20250925T214910Z
UID:10003219-1659114000-1659200400@trinitykirk.org
SUMMARY:Office Reserved for Hatcher
DESCRIPTION:
URL:https://trinitykirk.org/event/office-reserved-for-hatcher/
CATEGORIES:Internal,Office
END:VEVENT
END:VCALENDAR