BEGIN:VCALENDAR
VERSION:2.0
PRODID:-//Trinity Church - ECPv6.15.12.2//NONSGML v1.0//EN
CALSCALE:GREGORIAN
METHOD:PUBLISH
X-WR-CALNAME:Trinity Church
X-ORIGINAL-URL:https://trinitykirk.org
X-WR-CALDESC:Events for Trinity Church
REFRESH-INTERVAL;VALUE=DURATION:PT1H
X-Robots-Tag:noindex
X-PUBLISHED-TTL:PT1H
BEGIN:VTIMEZONE
TZID:America/Los_Angeles
BEGIN:DAYLIGHT
TZOFFSETFROM:-0800
TZOFFSETTO:-0700
TZNAME:PDT
DTSTART:20250309T100000
END:DAYLIGHT
BEGIN:STANDARD
TZOFFSETFROM:-0700
TZOFFSETTO:-0800
TZNAME:PST
DTSTART:20251102T090000
END:STANDARD
BEGIN:DAYLIGHT
TZOFFSETFROM:-0800
TZOFFSETTO:-0700
TZNAME:PDT
DTSTART:20260308T100000
END:DAYLIGHT
BEGIN:STANDARD
TZOFFSETFROM:-0700
TZOFFSETTO:-0800
TZNAME:PST
DTSTART:20261101T090000
END:STANDARD
BEGIN:DAYLIGHT
TZOFFSETFROM:-0800
TZOFFSETTO:-0700
TZNAME:PDT
DTSTART:20270314T100000
END:DAYLIGHT
BEGIN:STANDARD
TZOFFSETFROM:-0700
TZOFFSETTO:-0800
TZNAME:PST
DTSTART:20271107T090000
END:STANDARD
BEGIN:DAYLIGHT
TZOFFSETFROM:-0800
TZOFFSETTO:-0700
TZNAME:PDT
DTSTART:20280312T100000
END:DAYLIGHT
BEGIN:STANDARD
TZOFFSETFROM:-0700
TZOFFSETTO:-0800
TZNAME:PST
DTSTART:20281105T090000
END:STANDARD
END:VTIMEZONE
BEGIN:VEVENT
DTSTART;TZID=America/Los_Angeles:20260628T090000
DTEND;TZID=America/Los_Angeles:20260628T094000
DTSTAMP:20260424T115503
CREATED:20260119T223620Z
LAST-MODIFIED:20260325T170025Z
UID:10006207-1782637200-1782639600@trinitykirk.org
SUMMARY:9AM Sunday School
DESCRIPTION:We are studying the Westminster Shorter Catechism. All are welcome “week by week” or as you are able to join us.
URL:https://trinitykirk.org/event/9am-sunday-school-2/2026-06-28/
LOCATION:Providence North\, 19021 120th Ave NE\, Bothell\, WA\, 98011
END:VEVENT
BEGIN:VEVENT
DTSTART;TZID=America/Los_Angeles:20260705T090000
DTEND;TZID=America/Los_Angeles:20260705T094000
DTSTAMP:20260424T115503
CREATED:20260119T223620Z
LAST-MODIFIED:20260325T170025Z
UID:10006208-1783242000-1783244400@trinitykirk.org
SUMMARY:9AM Sunday School
DESCRIPTION:We are studying the Westminster Shorter Catechism. All are welcome “week by week” or as you are able to join us.
URL:https://trinitykirk.org/event/9am-sunday-school-2/2026-07-05/
LOCATION:Providence North\, 19021 120th Ave NE\, Bothell\, WA\, 98011
END:VEVENT
BEGIN:VEVENT
DTSTART;TZID=America/Los_Angeles:20260712T090000
DTEND;TZID=America/Los_Angeles:20260712T094000
DTSTAMP:20260424T115503
CREATED:20260119T223620Z
LAST-MODIFIED:20260325T170025Z
UID:10006209-1783846800-1783849200@trinitykirk.org
SUMMARY:9AM Sunday School
DESCRIPTION:We are studying the Westminster Shorter Catechism. All are welcome “week by week” or as you are able to join us.
URL:https://trinitykirk.org/event/9am-sunday-school-2/2026-07-12/
LOCATION:Providence North\, 19021 120th Ave NE\, Bothell\, WA\, 98011
END:VEVENT
BEGIN:VEVENT
DTSTART;TZID=America/Los_Angeles:20260719T090000
DTEND;TZID=America/Los_Angeles:20260719T094000
DTSTAMP:20260424T115503
CREATED:20260119T223620Z
LAST-MODIFIED:20260325T170025Z
UID:10006210-1784451600-1784454000@trinitykirk.org
SUMMARY:9AM Sunday School
DESCRIPTION:We are studying the Westminster Shorter Catechism. All are welcome “week by week” or as you are able to join us.
URL:https://trinitykirk.org/event/9am-sunday-school-2/2026-07-19/
LOCATION:Providence North\, 19021 120th Ave NE\, Bothell\, WA\, 98011
END:VEVENT
BEGIN:VEVENT
DTSTART;TZID=America/Los_Angeles:20260726T090000
DTEND;TZID=America/Los_Angeles:20260726T094000
DTSTAMP:20260424T115503
CREATED:20260119T223620Z
LAST-MODIFIED:20260325T170025Z
UID:10006211-1785056400-1785058800@trinitykirk.org
SUMMARY:9AM Sunday School
DESCRIPTION:We are studying the Westminster Shorter Catechism. All are welcome “week by week” or as you are able to join us.
URL:https://trinitykirk.org/event/9am-sunday-school-2/2026-07-26/
LOCATION:Providence North\, 19021 120th Ave NE\, Bothell\, WA\, 98011
END:VEVENT
BEGIN:VEVENT
DTSTART;TZID=America/Los_Angeles:20260802T090000
DTEND;TZID=America/Los_Angeles:20260802T094000
DTSTAMP:20260424T115503
CREATED:20260119T223620Z
LAST-MODIFIED:20260325T170025Z
UID:10006212-1785661200-1785663600@trinitykirk.org
SUMMARY:9AM Sunday School
DESCRIPTION:We are studying the Westminster Shorter Catechism. All are welcome “week by week” or as you are able to join us.
URL:https://trinitykirk.org/event/9am-sunday-school-2/2026-08-02/
LOCATION:Providence North\, 19021 120th Ave NE\, Bothell\, WA\, 98011
END:VEVENT
BEGIN:VEVENT
DTSTART;TZID=America/Los_Angeles:20260809T090000
DTEND;TZID=America/Los_Angeles:20260809T094000
DTSTAMP:20260424T115503
CREATED:20260119T223620Z
LAST-MODIFIED:20260325T170025Z
UID:10006213-1786266000-1786268400@trinitykirk.org
SUMMARY:9AM Sunday School
DESCRIPTION:We are studying the Westminster Shorter Catechism. All are welcome “week by week” or as you are able to join us.
URL:https://trinitykirk.org/event/9am-sunday-school-2/2026-08-09/
LOCATION:Providence North\, 19021 120th Ave NE\, Bothell\, WA\, 98011
END:VEVENT
BEGIN:VEVENT
DTSTART;TZID=America/Los_Angeles:20260816T090000
DTEND;TZID=America/Los_Angeles:20260816T094000
DTSTAMP:20260424T115503
CREATED:20260119T223620Z
LAST-MODIFIED:20260325T170025Z
UID:10006214-1786870800-1786873200@trinitykirk.org
SUMMARY:9AM Sunday School
DESCRIPTION:We are studying the Westminster Shorter Catechism. All are welcome “week by week” or as you are able to join us.
URL:https://trinitykirk.org/event/9am-sunday-school-2/2026-08-16/
LOCATION:Providence North\, 19021 120th Ave NE\, Bothell\, WA\, 98011
END:VEVENT
BEGIN:VEVENT
DTSTART;TZID=America/Los_Angeles:20260823T090000
DTEND;TZID=America/Los_Angeles:20260823T094000
DTSTAMP:20260424T115503
CREATED:20260119T223620Z
LAST-MODIFIED:20260325T170025Z
UID:10006215-1787475600-1787478000@trinitykirk.org
SUMMARY:9AM Sunday School
DESCRIPTION:We are studying the Westminster Shorter Catechism. All are welcome “week by week” or as you are able to join us.
URL:https://trinitykirk.org/event/9am-sunday-school-2/2026-08-23/
LOCATION:Providence North\, 19021 120th Ave NE\, Bothell\, WA\, 98011
END:VEVENT
BEGIN:VEVENT
DTSTART;TZID=America/Los_Angeles:20260830T090000
DTEND;TZID=America/Los_Angeles:20260830T094000
DTSTAMP:20260424T115503
CREATED:20260119T223620Z
LAST-MODIFIED:20260325T170025Z
UID:10006216-1788080400-1788082800@trinitykirk.org
SUMMARY:9AM Sunday School
DESCRIPTION:We are studying the Westminster Shorter Catechism. All are welcome “week by week” or as you are able to join us.
URL:https://trinitykirk.org/event/9am-sunday-school-2/2026-08-30/
LOCATION:Providence North\, 19021 120th Ave NE\, Bothell\, WA\, 98011
END:VEVENT
BEGIN:VEVENT
DTSTART;TZID=America/Los_Angeles:20260906T090000
DTEND;TZID=America/Los_Angeles:20260906T094000
DTSTAMP:20260424T115503
CREATED:20260119T223620Z
LAST-MODIFIED:20260325T170025Z
UID:10006217-1788685200-1788687600@trinitykirk.org
SUMMARY:9AM Sunday School
DESCRIPTION:We are studying the Westminster Shorter Catechism. All are welcome “week by week” or as you are able to join us.
URL:https://trinitykirk.org/event/9am-sunday-school-2/2026-09-06/
LOCATION:Providence North\, 19021 120th Ave NE\, Bothell\, WA\, 98011
END:VEVENT
BEGIN:VEVENT
DTSTART;TZID=America/Los_Angeles:20260913T090000
DTEND;TZID=America/Los_Angeles:20260913T094000
DTSTAMP:20260424T115503
CREATED:20260119T223620Z
LAST-MODIFIED:20260325T170025Z
UID:10006218-1789290000-1789292400@trinitykirk.org
SUMMARY:9AM Sunday School
DESCRIPTION:We are studying the Westminster Shorter Catechism. All are welcome “week by week” or as you are able to join us.
URL:https://trinitykirk.org/event/9am-sunday-school-2/2026-09-13/
LOCATION:Providence North\, 19021 120th Ave NE\, Bothell\, WA\, 98011
END:VEVENT
BEGIN:VEVENT
DTSTART;TZID=America/Los_Angeles:20260920T090000
DTEND;TZID=America/Los_Angeles:20260920T094000
DTSTAMP:20260424T115503
CREATED:20260119T223620Z
LAST-MODIFIED:20260325T170025Z
UID:10006219-1789894800-1789897200@trinitykirk.org
SUMMARY:9AM Sunday School
DESCRIPTION:We are studying the Westminster Shorter Catechism. All are welcome “week by week” or as you are able to join us.
URL:https://trinitykirk.org/event/9am-sunday-school-2/2026-09-20/
LOCATION:Providence North\, 19021 120th Ave NE\, Bothell\, WA\, 98011
END:VEVENT
BEGIN:VEVENT
DTSTART;TZID=America/Los_Angeles:20260927T090000
DTEND;TZID=America/Los_Angeles:20260927T094000
DTSTAMP:20260424T115503
CREATED:20260119T223620Z
LAST-MODIFIED:20260325T170025Z
UID:10006220-1790499600-1790502000@trinitykirk.org
SUMMARY:9AM Sunday School
DESCRIPTION:We are studying the Westminster Shorter Catechism. All are welcome “week by week” or as you are able to join us.
URL:https://trinitykirk.org/event/9am-sunday-school-2/2026-09-27/
LOCATION:Providence North\, 19021 120th Ave NE\, Bothell\, WA\, 98011
END:VEVENT
BEGIN:VEVENT
DTSTART;TZID=America/Los_Angeles:20261004T090000
DTEND;TZID=America/Los_Angeles:20261004T094000
DTSTAMP:20260424T115504
CREATED:20260119T223620Z
LAST-MODIFIED:20260325T170025Z
UID:10006221-1791104400-1791106800@trinitykirk.org
SUMMARY:9AM Sunday School
DESCRIPTION:We are studying the Westminster Shorter Catechism. All are welcome “week by week” or as you are able to join us.
URL:https://trinitykirk.org/event/9am-sunday-school-2/2026-10-04/
LOCATION:Providence North\, 19021 120th Ave NE\, Bothell\, WA\, 98011
END:VEVENT
BEGIN:VEVENT
DTSTART;TZID=America/Los_Angeles:20261011T090000
DTEND;TZID=America/Los_Angeles:20261011T094000
DTSTAMP:20260424T115504
CREATED:20260119T223620Z
LAST-MODIFIED:20260325T170025Z
UID:10006222-1791709200-1791711600@trinitykirk.org
SUMMARY:9AM Sunday School
DESCRIPTION:We are studying the Westminster Shorter Catechism. All are welcome “week by week” or as you are able to join us.
URL:https://trinitykirk.org/event/9am-sunday-school-2/2026-10-11/
LOCATION:Providence North\, 19021 120th Ave NE\, Bothell\, WA\, 98011
END:VEVENT
BEGIN:VEVENT
DTSTART;TZID=America/Los_Angeles:20261018T090000
DTEND;TZID=America/Los_Angeles:20261018T094000
DTSTAMP:20260424T115504
CREATED:20260119T223620Z
LAST-MODIFIED:20260325T170025Z
UID:10006223-1792314000-1792316400@trinitykirk.org
SUMMARY:9AM Sunday School
DESCRIPTION:We are studying the Westminster Shorter Catechism. All are welcome “week by week” or as you are able to join us.
URL:https://trinitykirk.org/event/9am-sunday-school-2/2026-10-18/
LOCATION:Providence North\, 19021 120th Ave NE\, Bothell\, WA\, 98011
END:VEVENT
BEGIN:VEVENT
DTSTART;TZID=America/Los_Angeles:20261025T090000
DTEND;TZID=America/Los_Angeles:20261025T094000
DTSTAMP:20260424T115504
CREATED:20260119T223620Z
LAST-MODIFIED:20260325T170025Z
UID:10006224-1792918800-1792921200@trinitykirk.org
SUMMARY:9AM Sunday School
DESCRIPTION:We are studying the Westminster Shorter Catechism. All are welcome “week by week” or as you are able to join us.
URL:https://trinitykirk.org/event/9am-sunday-school-2/2026-10-25/
LOCATION:Providence North\, 19021 120th Ave NE\, Bothell\, WA\, 98011
END:VEVENT
BEGIN:VEVENT
DTSTART;TZID=America/Los_Angeles:20261101T090000
DTEND;TZID=America/Los_Angeles:20261101T094000
DTSTAMP:20260424T115504
CREATED:20260119T223620Z
LAST-MODIFIED:20260325T170025Z
UID:10006225-1793523600-1793526000@trinitykirk.org
SUMMARY:9AM Sunday School
DESCRIPTION:We are studying the Westminster Shorter Catechism. All are welcome “week by week” or as you are able to join us.
URL:https://trinitykirk.org/event/9am-sunday-school-2/2026-11-01/
LOCATION:Providence North\, 19021 120th Ave NE\, Bothell\, WA\, 98011
END:VEVENT
BEGIN:VEVENT
DTSTART;TZID=America/Los_Angeles:20261108T090000
DTEND;TZID=America/Los_Angeles:20261108T094000
DTSTAMP:20260424T115504
CREATED:20260119T223620Z
LAST-MODIFIED:20260325T170025Z
UID:10006226-1794128400-1794130800@trinitykirk.org
SUMMARY:9AM Sunday School
DESCRIPTION:We are studying the Westminster Shorter Catechism. All are welcome “week by week” or as you are able to join us.
URL:https://trinitykirk.org/event/9am-sunday-school-2/2026-11-08/
LOCATION:Providence North\, 19021 120th Ave NE\, Bothell\, WA\, 98011
END:VEVENT
BEGIN:VEVENT
DTSTART;TZID=America/Los_Angeles:20261115T090000
DTEND;TZID=America/Los_Angeles:20261115T094000
DTSTAMP:20260424T115504
CREATED:20260119T223620Z
LAST-MODIFIED:20260325T170025Z
UID:10006227-1794733200-1794735600@trinitykirk.org
SUMMARY:9AM Sunday School
DESCRIPTION:We are studying the Westminster Shorter Catechism. All are welcome “week by week” or as you are able to join us.
URL:https://trinitykirk.org/event/9am-sunday-school-2/2026-11-15/
LOCATION:Providence North\, 19021 120th Ave NE\, Bothell\, WA\, 98011
END:VEVENT
BEGIN:VEVENT
DTSTART;TZID=America/Los_Angeles:20261122T090000
DTEND;TZID=America/Los_Angeles:20261122T094000
DTSTAMP:20260424T115504
CREATED:20260119T223620Z
LAST-MODIFIED:20260325T170025Z
UID:10006228-1795338000-1795340400@trinitykirk.org
SUMMARY:9AM Sunday School
DESCRIPTION:We are studying the Westminster Shorter Catechism. All are welcome “week by week” or as you are able to join us.
URL:https://trinitykirk.org/event/9am-sunday-school-2/2026-11-22/
LOCATION:Providence North\, 19021 120th Ave NE\, Bothell\, WA\, 98011
END:VEVENT
BEGIN:VEVENT
DTSTART;TZID=America/Los_Angeles:20261129T090000
DTEND;TZID=America/Los_Angeles:20261129T094000
DTSTAMP:20260424T115504
CREATED:20260119T223620Z
LAST-MODIFIED:20260325T170025Z
UID:10006229-1795942800-1795945200@trinitykirk.org
SUMMARY:9AM Sunday School
DESCRIPTION:We are studying the Westminster Shorter Catechism. All are welcome “week by week” or as you are able to join us.
URL:https://trinitykirk.org/event/9am-sunday-school-2/2026-11-29/
LOCATION:Providence North\, 19021 120th Ave NE\, Bothell\, WA\, 98011
END:VEVENT
BEGIN:VEVENT
DTSTART;TZID=America/Los_Angeles:20261206T090000
DTEND;TZID=America/Los_Angeles:20261206T094000
DTSTAMP:20260424T115504
CREATED:20260119T223620Z
LAST-MODIFIED:20260325T170025Z
UID:10006230-1796547600-1796550000@trinitykirk.org
SUMMARY:9AM Sunday School
DESCRIPTION:We are studying the Westminster Shorter Catechism. All are welcome “week by week” or as you are able to join us.
URL:https://trinitykirk.org/event/9am-sunday-school-2/2026-12-06/
LOCATION:Providence North\, 19021 120th Ave NE\, Bothell\, WA\, 98011
END:VEVENT
BEGIN:VEVENT
DTSTART;TZID=America/Los_Angeles:20261213T090000
DTEND;TZID=America/Los_Angeles:20261213T094000
DTSTAMP:20260424T115504
CREATED:20260119T223620Z
LAST-MODIFIED:20260325T170025Z
UID:10006231-1797152400-1797154800@trinitykirk.org
SUMMARY:9AM Sunday School
DESCRIPTION:We are studying the Westminster Shorter Catechism. All are welcome “week by week” or as you are able to join us.
URL:https://trinitykirk.org/event/9am-sunday-school-2/2026-12-13/
LOCATION:Providence North\, 19021 120th Ave NE\, Bothell\, WA\, 98011
END:VEVENT
BEGIN:VEVENT
DTSTART;TZID=America/Los_Angeles:20261220T090000
DTEND;TZID=America/Los_Angeles:20261220T094000
DTSTAMP:20260424T115504
CREATED:20260119T223620Z
LAST-MODIFIED:20260325T170025Z
UID:10006232-1797757200-1797759600@trinitykirk.org
SUMMARY:9AM Sunday School
DESCRIPTION:We are studying the Westminster Shorter Catechism. All are welcome “week by week” or as you are able to join us.
URL:https://trinitykirk.org/event/9am-sunday-school-2/2026-12-20/
LOCATION:Providence North\, 19021 120th Ave NE\, Bothell\, WA\, 98011
END:VEVENT
BEGIN:VEVENT
DTSTART;TZID=America/Los_Angeles:20261227T090000
DTEND;TZID=America/Los_Angeles:20261227T094000
DTSTAMP:20260424T115504
CREATED:20260119T223620Z
LAST-MODIFIED:20260325T170025Z
UID:10006233-1798362000-1798364400@trinitykirk.org
SUMMARY:9AM Sunday School
DESCRIPTION:We are studying the Westminster Shorter Catechism. All are welcome “week by week” or as you are able to join us.
URL:https://trinitykirk.org/event/9am-sunday-school-2/2026-12-27/
LOCATION:Providence North\, 19021 120th Ave NE\, Bothell\, WA\, 98011
END:VEVENT
BEGIN:VEVENT
DTSTART;TZID=America/Los_Angeles:20270103T090000
DTEND;TZID=America/Los_Angeles:20270103T094000
DTSTAMP:20260424T115504
CREATED:20260119T223620Z
LAST-MODIFIED:20260325T170025Z
UID:10006234-1798966800-1798969200@trinitykirk.org
SUMMARY:9AM Sunday School
DESCRIPTION:We are studying the Westminster Shorter Catechism. All are welcome “week by week” or as you are able to join us.
URL:https://trinitykirk.org/event/9am-sunday-school-2/2027-01-03/
LOCATION:Providence North\, 19021 120th Ave NE\, Bothell\, WA\, 98011
END:VEVENT
BEGIN:VEVENT
DTSTART;TZID=America/Los_Angeles:20270110T090000
DTEND;TZID=America/Los_Angeles:20270110T094000
DTSTAMP:20260424T115504
CREATED:20260119T223620Z
LAST-MODIFIED:20260325T170025Z
UID:10006235-1799571600-1799574000@trinitykirk.org
SUMMARY:9AM Sunday School
DESCRIPTION:We are studying the Westminster Shorter Catechism. All are welcome “week by week” or as you are able to join us.
URL:https://trinitykirk.org/event/9am-sunday-school-2/2027-01-10/
LOCATION:Providence North\, 19021 120th Ave NE\, Bothell\, WA\, 98011
END:VEVENT
BEGIN:VEVENT
DTSTART;TZID=America/Los_Angeles:20270117T090000
DTEND;TZID=America/Los_Angeles:20270117T094000
DTSTAMP:20260424T115504
CREATED:20260119T223620Z
LAST-MODIFIED:20260325T170025Z
UID:10006236-1800176400-1800178800@trinitykirk.org
SUMMARY:9AM Sunday School
DESCRIPTION:We are studying the Westminster Shorter Catechism. All are welcome “week by week” or as you are able to join us.
URL:https://trinitykirk.org/event/9am-sunday-school-2/2027-01-17/
LOCATION:Providence North\, 19021 120th Ave NE\, Bothell\, WA\, 98011
END:VEVENT
END:VCALENDAR