BEGIN:VCALENDAR
VERSION:2.0
PRODID:-//Trinity Church - ECPv6.15.12.2//NONSGML v1.0//EN
CALSCALE:GREGORIAN
METHOD:PUBLISH
X-ORIGINAL-URL:https://trinitykirk.org
X-WR-CALDESC:Events for Trinity Church
REFRESH-INTERVAL;VALUE=DURATION:PT1H
X-Robots-Tag:noindex
X-PUBLISHED-TTL:PT1H
BEGIN:VTIMEZONE
TZID:America/Los_Angeles
BEGIN:DAYLIGHT
TZOFFSETFROM:-0800
TZOFFSETTO:-0700
TZNAME:PDT
DTSTART:20250309T100000
END:DAYLIGHT
BEGIN:STANDARD
TZOFFSETFROM:-0700
TZOFFSETTO:-0800
TZNAME:PST
DTSTART:20251102T090000
END:STANDARD
BEGIN:DAYLIGHT
TZOFFSETFROM:-0800
TZOFFSETTO:-0700
TZNAME:PDT
DTSTART:20260308T100000
END:DAYLIGHT
BEGIN:STANDARD
TZOFFSETFROM:-0700
TZOFFSETTO:-0800
TZNAME:PST
DTSTART:20261101T090000
END:STANDARD
BEGIN:DAYLIGHT
TZOFFSETFROM:-0800
TZOFFSETTO:-0700
TZNAME:PDT
DTSTART:20270314T100000
END:DAYLIGHT
BEGIN:STANDARD
TZOFFSETFROM:-0700
TZOFFSETTO:-0800
TZNAME:PST
DTSTART:20271107T090000
END:STANDARD
BEGIN:DAYLIGHT
TZOFFSETFROM:-0800
TZOFFSETTO:-0700
TZNAME:PDT
DTSTART:20280312T100000
END:DAYLIGHT
BEGIN:STANDARD
TZOFFSETFROM:-0700
TZOFFSETTO:-0800
TZNAME:PST
DTSTART:20281105T090000
END:STANDARD
END:VTIMEZONE
BEGIN:VEVENT
DTSTART;TZID=America/Los_Angeles:20261115T090000
DTEND;TZID=America/Los_Angeles:20261115T094000
DTSTAMP:20260424T182326
CREATED:20260119T223620Z
LAST-MODIFIED:20260325T170025Z
UID:10006227-1794733200-1794735600@trinitykirk.org
SUMMARY:9AM Sunday School
DESCRIPTION:We are studying the Westminster Shorter Catechism. All are welcome “week by week” or as you are able to join us.
URL:https://trinitykirk.org/event/9am-sunday-school-2/2026-11-15/
LOCATION:Providence North\, 19021 120th Ave NE\, Bothell\, WA\, 98011
END:VEVENT
BEGIN:VEVENT
DTSTART;TZID=America/Los_Angeles:20261122T090000
DTEND;TZID=America/Los_Angeles:20261122T094000
DTSTAMP:20260424T182326
CREATED:20260119T223620Z
LAST-MODIFIED:20260325T170025Z
UID:10006228-1795338000-1795340400@trinitykirk.org
SUMMARY:9AM Sunday School
DESCRIPTION:We are studying the Westminster Shorter Catechism. All are welcome “week by week” or as you are able to join us.
URL:https://trinitykirk.org/event/9am-sunday-school-2/2026-11-22/
LOCATION:Providence North\, 19021 120th Ave NE\, Bothell\, WA\, 98011
END:VEVENT
BEGIN:VEVENT
DTSTART;TZID=America/Los_Angeles:20261129T090000
DTEND;TZID=America/Los_Angeles:20261129T094000
DTSTAMP:20260424T182326
CREATED:20260119T223620Z
LAST-MODIFIED:20260325T170025Z
UID:10006229-1795942800-1795945200@trinitykirk.org
SUMMARY:9AM Sunday School
DESCRIPTION:We are studying the Westminster Shorter Catechism. All are welcome “week by week” or as you are able to join us.
URL:https://trinitykirk.org/event/9am-sunday-school-2/2026-11-29/
LOCATION:Providence North\, 19021 120th Ave NE\, Bothell\, WA\, 98011
END:VEVENT
BEGIN:VEVENT
DTSTART;TZID=America/Los_Angeles:20261206T090000
DTEND;TZID=America/Los_Angeles:20261206T094000
DTSTAMP:20260424T182326
CREATED:20260119T223620Z
LAST-MODIFIED:20260325T170025Z
UID:10006230-1796547600-1796550000@trinitykirk.org
SUMMARY:9AM Sunday School
DESCRIPTION:We are studying the Westminster Shorter Catechism. All are welcome “week by week” or as you are able to join us.
URL:https://trinitykirk.org/event/9am-sunday-school-2/2026-12-06/
LOCATION:Providence North\, 19021 120th Ave NE\, Bothell\, WA\, 98011
END:VEVENT
BEGIN:VEVENT
DTSTART;TZID=America/Los_Angeles:20261213T090000
DTEND;TZID=America/Los_Angeles:20261213T094000
DTSTAMP:20260424T182326
CREATED:20260119T223620Z
LAST-MODIFIED:20260325T170025Z
UID:10006231-1797152400-1797154800@trinitykirk.org
SUMMARY:9AM Sunday School
DESCRIPTION:We are studying the Westminster Shorter Catechism. All are welcome “week by week” or as you are able to join us.
URL:https://trinitykirk.org/event/9am-sunday-school-2/2026-12-13/
LOCATION:Providence North\, 19021 120th Ave NE\, Bothell\, WA\, 98011
END:VEVENT
BEGIN:VEVENT
DTSTART;TZID=America/Los_Angeles:20261220T090000
DTEND;TZID=America/Los_Angeles:20261220T094000
DTSTAMP:20260424T182326
CREATED:20260119T223620Z
LAST-MODIFIED:20260325T170025Z
UID:10006232-1797757200-1797759600@trinitykirk.org
SUMMARY:9AM Sunday School
DESCRIPTION:We are studying the Westminster Shorter Catechism. All are welcome “week by week” or as you are able to join us.
URL:https://trinitykirk.org/event/9am-sunday-school-2/2026-12-20/
LOCATION:Providence North\, 19021 120th Ave NE\, Bothell\, WA\, 98011
END:VEVENT
BEGIN:VEVENT
DTSTART;TZID=America/Los_Angeles:20261227T090000
DTEND;TZID=America/Los_Angeles:20261227T094000
DTSTAMP:20260424T182326
CREATED:20260119T223620Z
LAST-MODIFIED:20260325T170025Z
UID:10006233-1798362000-1798364400@trinitykirk.org
SUMMARY:9AM Sunday School
DESCRIPTION:We are studying the Westminster Shorter Catechism. All are welcome “week by week” or as you are able to join us.
URL:https://trinitykirk.org/event/9am-sunday-school-2/2026-12-27/
LOCATION:Providence North\, 19021 120th Ave NE\, Bothell\, WA\, 98011
END:VEVENT
BEGIN:VEVENT
DTSTART;TZID=America/Los_Angeles:20270103T090000
DTEND;TZID=America/Los_Angeles:20270103T094000
DTSTAMP:20260424T182326
CREATED:20260119T223620Z
LAST-MODIFIED:20260325T170025Z
UID:10006234-1798966800-1798969200@trinitykirk.org
SUMMARY:9AM Sunday School
DESCRIPTION:We are studying the Westminster Shorter Catechism. All are welcome “week by week” or as you are able to join us.
URL:https://trinitykirk.org/event/9am-sunday-school-2/2027-01-03/
LOCATION:Providence North\, 19021 120th Ave NE\, Bothell\, WA\, 98011
END:VEVENT
BEGIN:VEVENT
DTSTART;TZID=America/Los_Angeles:20270110T090000
DTEND;TZID=America/Los_Angeles:20270110T094000
DTSTAMP:20260424T182326
CREATED:20260119T223620Z
LAST-MODIFIED:20260325T170025Z
UID:10006235-1799571600-1799574000@trinitykirk.org
SUMMARY:9AM Sunday School
DESCRIPTION:We are studying the Westminster Shorter Catechism. All are welcome “week by week” or as you are able to join us.
URL:https://trinitykirk.org/event/9am-sunday-school-2/2027-01-10/
LOCATION:Providence North\, 19021 120th Ave NE\, Bothell\, WA\, 98011
END:VEVENT
BEGIN:VEVENT
DTSTART;TZID=America/Los_Angeles:20270117T090000
DTEND;TZID=America/Los_Angeles:20270117T094000
DTSTAMP:20260424T182326
CREATED:20260119T223620Z
LAST-MODIFIED:20260325T170025Z
UID:10006236-1800176400-1800178800@trinitykirk.org
SUMMARY:9AM Sunday School
DESCRIPTION:We are studying the Westminster Shorter Catechism. All are welcome “week by week” or as you are able to join us.
URL:https://trinitykirk.org/event/9am-sunday-school-2/2027-01-17/
LOCATION:Providence North\, 19021 120th Ave NE\, Bothell\, WA\, 98011
END:VEVENT
BEGIN:VEVENT
DTSTART;TZID=America/Los_Angeles:20270124T090000
DTEND;TZID=America/Los_Angeles:20270124T094000
DTSTAMP:20260424T182326
CREATED:20260119T223620Z
LAST-MODIFIED:20260325T170025Z
UID:10006237-1800781200-1800783600@trinitykirk.org
SUMMARY:9AM Sunday School
DESCRIPTION:We are studying the Westminster Shorter Catechism. All are welcome “week by week” or as you are able to join us.
URL:https://trinitykirk.org/event/9am-sunday-school-2/2027-01-24/
LOCATION:Providence North\, 19021 120th Ave NE\, Bothell\, WA\, 98011
END:VEVENT
BEGIN:VEVENT
DTSTART;TZID=America/Los_Angeles:20270131T090000
DTEND;TZID=America/Los_Angeles:20270131T094000
DTSTAMP:20260424T182326
CREATED:20260119T223620Z
LAST-MODIFIED:20260325T170025Z
UID:10006238-1801386000-1801388400@trinitykirk.org
SUMMARY:9AM Sunday School
DESCRIPTION:We are studying the Westminster Shorter Catechism. All are welcome “week by week” or as you are able to join us.
URL:https://trinitykirk.org/event/9am-sunday-school-2/2027-01-31/
LOCATION:Providence North\, 19021 120th Ave NE\, Bothell\, WA\, 98011
END:VEVENT
BEGIN:VEVENT
DTSTART;TZID=America/Los_Angeles:20270207T090000
DTEND;TZID=America/Los_Angeles:20270207T094000
DTSTAMP:20260424T182326
CREATED:20260119T223620Z
LAST-MODIFIED:20260325T170025Z
UID:10006239-1801990800-1801993200@trinitykirk.org
SUMMARY:9AM Sunday School
DESCRIPTION:We are studying the Westminster Shorter Catechism. All are welcome “week by week” or as you are able to join us.
URL:https://trinitykirk.org/event/9am-sunday-school-2/2027-02-07/
LOCATION:Providence North\, 19021 120th Ave NE\, Bothell\, WA\, 98011
END:VEVENT
BEGIN:VEVENT
DTSTART;TZID=America/Los_Angeles:20270214T090000
DTEND;TZID=America/Los_Angeles:20270214T094000
DTSTAMP:20260424T182326
CREATED:20260119T223620Z
LAST-MODIFIED:20260325T170025Z
UID:10006240-1802595600-1802598000@trinitykirk.org
SUMMARY:9AM Sunday School
DESCRIPTION:We are studying the Westminster Shorter Catechism. All are welcome “week by week” or as you are able to join us.
URL:https://trinitykirk.org/event/9am-sunday-school-2/2027-02-14/
LOCATION:Providence North\, 19021 120th Ave NE\, Bothell\, WA\, 98011
END:VEVENT
BEGIN:VEVENT
DTSTART;TZID=America/Los_Angeles:20270221T090000
DTEND;TZID=America/Los_Angeles:20270221T094000
DTSTAMP:20260424T182326
CREATED:20260119T223620Z
LAST-MODIFIED:20260325T170025Z
UID:10006241-1803200400-1803202800@trinitykirk.org
SUMMARY:9AM Sunday School
DESCRIPTION:We are studying the Westminster Shorter Catechism. All are welcome “week by week” or as you are able to join us.
URL:https://trinitykirk.org/event/9am-sunday-school-2/2027-02-21/
LOCATION:Providence North\, 19021 120th Ave NE\, Bothell\, WA\, 98011
END:VEVENT
BEGIN:VEVENT
DTSTART;TZID=America/Los_Angeles:20270228T090000
DTEND;TZID=America/Los_Angeles:20270228T094000
DTSTAMP:20260424T182326
CREATED:20260119T223620Z
LAST-MODIFIED:20260325T170025Z
UID:10006242-1803805200-1803807600@trinitykirk.org
SUMMARY:9AM Sunday School
DESCRIPTION:We are studying the Westminster Shorter Catechism. All are welcome “week by week” or as you are able to join us.
URL:https://trinitykirk.org/event/9am-sunday-school-2/2027-02-28/
LOCATION:Providence North\, 19021 120th Ave NE\, Bothell\, WA\, 98011
END:VEVENT
BEGIN:VEVENT
DTSTART;TZID=America/Los_Angeles:20270307T090000
DTEND;TZID=America/Los_Angeles:20270307T094000
DTSTAMP:20260424T182326
CREATED:20260119T223620Z
LAST-MODIFIED:20260325T170025Z
UID:10006243-1804410000-1804412400@trinitykirk.org
SUMMARY:9AM Sunday School
DESCRIPTION:We are studying the Westminster Shorter Catechism. All are welcome “week by week” or as you are able to join us.
URL:https://trinitykirk.org/event/9am-sunday-school-2/2027-03-07/
LOCATION:Providence North\, 19021 120th Ave NE\, Bothell\, WA\, 98011
END:VEVENT
BEGIN:VEVENT
DTSTART;TZID=America/Los_Angeles:20270314T090000
DTEND;TZID=America/Los_Angeles:20270314T094000
DTSTAMP:20260424T182327
CREATED:20260119T223620Z
LAST-MODIFIED:20260325T170025Z
UID:10006244-1805014800-1805017200@trinitykirk.org
SUMMARY:9AM Sunday School
DESCRIPTION:We are studying the Westminster Shorter Catechism. All are welcome “week by week” or as you are able to join us.
URL:https://trinitykirk.org/event/9am-sunday-school-2/2027-03-14/
LOCATION:Providence North\, 19021 120th Ave NE\, Bothell\, WA\, 98011
END:VEVENT
BEGIN:VEVENT
DTSTART;TZID=America/Los_Angeles:20270321T090000
DTEND;TZID=America/Los_Angeles:20270321T094000
DTSTAMP:20260424T182327
CREATED:20260119T223620Z
LAST-MODIFIED:20260325T170025Z
UID:10006245-1805619600-1805622000@trinitykirk.org
SUMMARY:9AM Sunday School
DESCRIPTION:We are studying the Westminster Shorter Catechism. All are welcome “week by week” or as you are able to join us.
URL:https://trinitykirk.org/event/9am-sunday-school-2/2027-03-21/
LOCATION:Providence North\, 19021 120th Ave NE\, Bothell\, WA\, 98011
END:VEVENT
BEGIN:VEVENT
DTSTART;TZID=America/Los_Angeles:20270328T090000
DTEND;TZID=America/Los_Angeles:20270328T094000
DTSTAMP:20260424T182327
CREATED:20260119T223620Z
LAST-MODIFIED:20260325T170025Z
UID:10006246-1806224400-1806226800@trinitykirk.org
SUMMARY:9AM Sunday School
DESCRIPTION:We are studying the Westminster Shorter Catechism. All are welcome “week by week” or as you are able to join us.
URL:https://trinitykirk.org/event/9am-sunday-school-2/2027-03-28/
LOCATION:Providence North\, 19021 120th Ave NE\, Bothell\, WA\, 98011
END:VEVENT
BEGIN:VEVENT
DTSTART;TZID=America/Los_Angeles:20270404T090000
DTEND;TZID=America/Los_Angeles:20270404T094000
DTSTAMP:20260424T182327
CREATED:20260119T223620Z
LAST-MODIFIED:20260325T170025Z
UID:10006247-1806829200-1806831600@trinitykirk.org
SUMMARY:9AM Sunday School
DESCRIPTION:We are studying the Westminster Shorter Catechism. All are welcome “week by week” or as you are able to join us.
URL:https://trinitykirk.org/event/9am-sunday-school-2/2027-04-04/
LOCATION:Providence North\, 19021 120th Ave NE\, Bothell\, WA\, 98011
END:VEVENT
BEGIN:VEVENT
DTSTART;TZID=America/Los_Angeles:20270411T090000
DTEND;TZID=America/Los_Angeles:20270411T094000
DTSTAMP:20260424T182327
CREATED:20260119T223620Z
LAST-MODIFIED:20260325T170025Z
UID:10006248-1807434000-1807436400@trinitykirk.org
SUMMARY:9AM Sunday School
DESCRIPTION:We are studying the Westminster Shorter Catechism. All are welcome “week by week” or as you are able to join us.
URL:https://trinitykirk.org/event/9am-sunday-school-2/2027-04-11/
LOCATION:Providence North\, 19021 120th Ave NE\, Bothell\, WA\, 98011
END:VEVENT
BEGIN:VEVENT
DTSTART;TZID=America/Los_Angeles:20270418T090000
DTEND;TZID=America/Los_Angeles:20270418T094000
DTSTAMP:20260424T182327
CREATED:20260119T223620Z
LAST-MODIFIED:20260325T170025Z
UID:10006249-1808038800-1808041200@trinitykirk.org
SUMMARY:9AM Sunday School
DESCRIPTION:We are studying the Westminster Shorter Catechism. All are welcome “week by week” or as you are able to join us.
URL:https://trinitykirk.org/event/9am-sunday-school-2/2027-04-18/
LOCATION:Providence North\, 19021 120th Ave NE\, Bothell\, WA\, 98011
END:VEVENT
BEGIN:VEVENT
DTSTART;TZID=America/Los_Angeles:20270425T090000
DTEND;TZID=America/Los_Angeles:20270425T094000
DTSTAMP:20260424T182327
CREATED:20260119T223620Z
LAST-MODIFIED:20260325T170025Z
UID:10006250-1808643600-1808646000@trinitykirk.org
SUMMARY:9AM Sunday School
DESCRIPTION:We are studying the Westminster Shorter Catechism. All are welcome “week by week” or as you are able to join us.
URL:https://trinitykirk.org/event/9am-sunday-school-2/2027-04-25/
LOCATION:Providence North\, 19021 120th Ave NE\, Bothell\, WA\, 98011
END:VEVENT
END:VCALENDAR