BEGIN:VCALENDAR
VERSION:2.0
PRODID:-//Trinity Church - ECPv6.15.12.2//NONSGML v1.0//EN
CALSCALE:GREGORIAN
METHOD:PUBLISH
X-WR-CALNAME:Trinity Church
X-ORIGINAL-URL:https://trinitykirk.org
X-WR-CALDESC:Events for Trinity Church
REFRESH-INTERVAL;VALUE=DURATION:PT1H
X-Robots-Tag:noindex
X-PUBLISHED-TTL:PT1H
BEGIN:VTIMEZONE
TZID:America/Los_Angeles
BEGIN:DAYLIGHT
TZOFFSETFROM:-0800
TZOFFSETTO:-0700
TZNAME:PDT
DTSTART:20250309T100000
END:DAYLIGHT
BEGIN:STANDARD
TZOFFSETFROM:-0700
TZOFFSETTO:-0800
TZNAME:PST
DTSTART:20251102T090000
END:STANDARD
BEGIN:DAYLIGHT
TZOFFSETFROM:-0800
TZOFFSETTO:-0700
TZNAME:PDT
DTSTART:20260308T100000
END:DAYLIGHT
BEGIN:STANDARD
TZOFFSETFROM:-0700
TZOFFSETTO:-0800
TZNAME:PST
DTSTART:20261101T090000
END:STANDARD
BEGIN:DAYLIGHT
TZOFFSETFROM:-0800
TZOFFSETTO:-0700
TZNAME:PDT
DTSTART:20270314T100000
END:DAYLIGHT
BEGIN:STANDARD
TZOFFSETFROM:-0700
TZOFFSETTO:-0800
TZNAME:PST
DTSTART:20271107T090000
END:STANDARD
END:VTIMEZONE
BEGIN:VEVENT
DTSTART;TZID=America/Los_Angeles:20261206T113000
DTEND;TZID=America/Los_Angeles:20261206T123000
DTSTAMP:20260424T133353
CREATED:20251120T223500Z
LAST-MODIFIED:20251126T011918Z
UID:10005738-1796556600-1796560200@trinitykirk.org
SUMMARY:11:30 AM Feast
DESCRIPTION:
URL:https://trinitykirk.org/event/1130-am-feast-4/2026-12-06/
LOCATION:Providence North\, 19021 120th Ave NE\, Bothell\, WA\, 98011
END:VEVENT
END:VCALENDAR