BEGIN:VCALENDAR
VERSION:2.0
PRODID:-//Trinity Church - ECPv6.15.12.2//NONSGML v1.0//EN
CALSCALE:GREGORIAN
METHOD:PUBLISH
X-ORIGINAL-URL:https://trinitykirk.org
X-WR-CALDESC:Events for Trinity Church
REFRESH-INTERVAL;VALUE=DURATION:PT1H
X-Robots-Tag:noindex
X-PUBLISHED-TTL:PT1H
BEGIN:VTIMEZONE
TZID:America/Los_Angeles
BEGIN:DAYLIGHT
TZOFFSETFROM:-0800
TZOFFSETTO:-0700
TZNAME:PDT
DTSTART:20210314T100000
END:DAYLIGHT
BEGIN:STANDARD
TZOFFSETFROM:-0700
TZOFFSETTO:-0800
TZNAME:PST
DTSTART:20211107T090000
END:STANDARD
BEGIN:DAYLIGHT
TZOFFSETFROM:-0800
TZOFFSETTO:-0700
TZNAME:PDT
DTSTART:20220313T100000
END:DAYLIGHT
BEGIN:STANDARD
TZOFFSETFROM:-0700
TZOFFSETTO:-0800
TZNAME:PST
DTSTART:20221106T090000
END:STANDARD
BEGIN:DAYLIGHT
TZOFFSETFROM:-0800
TZOFFSETTO:-0700
TZNAME:PDT
DTSTART:20230312T100000
END:DAYLIGHT
BEGIN:STANDARD
TZOFFSETFROM:-0700
TZOFFSETTO:-0800
TZNAME:PST
DTSTART:20231105T090000
END:STANDARD
BEGIN:DAYLIGHT
TZOFFSETFROM:-0800
TZOFFSETTO:-0700
TZNAME:PDT
DTSTART:20240310T100000
END:DAYLIGHT
BEGIN:STANDARD
TZOFFSETFROM:-0700
TZOFFSETTO:-0800
TZNAME:PST
DTSTART:20241103T090000
END:STANDARD
BEGIN:DAYLIGHT
TZOFFSETFROM:-0800
TZOFFSETTO:-0700
TZNAME:PDT
DTSTART:20250309T100000
END:DAYLIGHT
BEGIN:STANDARD
TZOFFSETFROM:-0700
TZOFFSETTO:-0800
TZNAME:PST
DTSTART:20251102T090000
END:STANDARD
END:VTIMEZONE
BEGIN:VEVENT
DTSTART;TZID=America/Los_Angeles:20241103T113000
DTEND;TZID=America/Los_Angeles:20241103T123000
DTSTAMP:20260424T182438
CREATED:20250925T215152Z
LAST-MODIFIED:20250925T215152Z
UID:10004443-1730633400-1730637000@trinitykirk.org
SUMMARY:11:30 Feast
DESCRIPTION:Lunch will be provided.
URL:https://trinitykirk.org/event/1130-feast-4-2-2-2-2/
LOCATION:Providence North\, 19021 120th Ave NE\, Bothell\, WA\, 98011
END:VEVENT
BEGIN:VEVENT
DTSTART;TZID=America/Los_Angeles:20241027T180000
DTEND;TZID=America/Los_Angeles:20241027T200000
DTSTAMP:20260424T182438
CREATED:20250925T215151Z
LAST-MODIFIED:20250925T215151Z
UID:10004504-1730052000-1730059200@trinitykirk.org
SUMMARY:6 PM Reformation Celebration
DESCRIPTION:
URL:https://trinitykirk.org/event/6-pm-reformation-celebration-5/
LOCATION:Watts Brewing Company\, 15510 Woodinville Redmond Rd NE\, Woodinville\, WA 98072
END:VEVENT
BEGIN:VEVENT
DTSTART;TZID=America/Los_Angeles:20241013T113000
DTEND;TZID=America/Los_Angeles:20241013T123000
DTSTAMP:20260424T182438
CREATED:20250925T215146Z
LAST-MODIFIED:20250925T215146Z
UID:10004442-1728819000-1728822600@trinitykirk.org
SUMMARY:11:30 Feast
DESCRIPTION:Lunch will be provided.
URL:https://trinitykirk.org/event/1130-feast-4-2-2-2/2024-10-13/
LOCATION:Providence North\, 19021 120th Ave NE\, Bothell\, WA\, 98011
END:VEVENT
BEGIN:VEVENT
DTSTART;TZID=America/Los_Angeles:20240908T113000
DTEND;TZID=America/Los_Angeles:20240908T123000
DTSTAMP:20260424T182438
CREATED:20250925T215146Z
LAST-MODIFIED:20250925T215146Z
UID:10004312-1725795000-1725798600@trinitykirk.org
SUMMARY:11:30 Feast
DESCRIPTION:Lunch will be provided.
URL:https://trinitykirk.org/event/1130-feast-4-2-2-2/2024-09-08/
LOCATION:Providence North\, 19021 120th Ave NE\, Bothell\, WA\, 98011
END:VEVENT
BEGIN:VEVENT
DTSTART;TZID=America/Los_Angeles:20240804T113000
DTEND;TZID=America/Los_Angeles:20240804T123000
DTSTAMP:20260424T182438
CREATED:20250925T215058Z
LAST-MODIFIED:20250925T215058Z
UID:10004147-1722771000-1722774600@trinitykirk.org
SUMMARY:11:30 Feast
DESCRIPTION:Lunch will be provided.
URL:https://trinitykirk.org/event/1130-feast-4-2-2/
LOCATION:Providence North\, 19021 120th Ave NE\, Bothell\, WA\, 98011
END:VEVENT
BEGIN:VEVENT
DTSTART;VALUE=DATE:20240705
DTEND;VALUE=DATE:20240708
DTSTAMP:20260424T182438
CREATED:20250925T215052Z
LAST-MODIFIED:20250925T215052Z
UID:10003694-1720137600-1720396799@trinitykirk.org
SUMMARY:Family Camp
DESCRIPTION:Family camp provides a lengthier time for the body to be together. We want it to be a ‘getaway’ without being too far away. During this time\, the elders will provide teaching\, there will be fun family activities\, and lots of free time to just hang out. Meals will be provided as well. \nOur goal is to provide an opportunity for individuals and families to get to know one another better\, to enjoy some additional time of fellowship and singing\, and to come together around the Word in a slightly different context. Come as early as 2 pm on Friday. Camp ends on Sunday immediately after the church service. \nFor more info and to Register\, visit our Family Camp webpage here.
URL:https://trinitykirk.org/event/family-camp-5/
LOCATION:Black Lake Bible Camp\, 6521 Fairview Road Southwest\, Olympia\, WA\, 98512
END:VEVENT
BEGIN:VEVENT
DTSTART;TZID=America/Los_Angeles:20240609T113000
DTEND;TZID=America/Los_Angeles:20240609T123000
DTSTAMP:20260424T182438
CREATED:20250925T215050Z
LAST-MODIFIED:20250925T215050Z
UID:10003442-1717932600-1717936200@trinitykirk.org
SUMMARY:11:30 Feast
DESCRIPTION:Lunch will be provided.
URL:https://trinitykirk.org/event/1130-feast-4-2/
LOCATION:Providence North\, 19021 120th Ave NE\, Bothell\, WA\, 98011
END:VEVENT
BEGIN:VEVENT
DTSTART;TZID=America/Los_Angeles:20240407T113000
DTEND;TZID=America/Los_Angeles:20240407T123000
DTSTAMP:20260424T182438
CREATED:20250925T214921Z
LAST-MODIFIED:20250925T214921Z
UID:10003440-1712489400-1712493000@trinitykirk.org
SUMMARY:11:30 Feast
DESCRIPTION:Lunch will be provided.
URL:https://trinitykirk.org/event/1130-feast-4/2024-04-07/
LOCATION:Providence North\, 19021 120th Ave NE\, Bothell\, WA\, 98011
END:VEVENT
BEGIN:VEVENT
DTSTART;TZID=America/Los_Angeles:20240303T113000
DTEND;TZID=America/Los_Angeles:20240303T123000
DTSTAMP:20260424T182438
CREATED:20250925T214921Z
LAST-MODIFIED:20250925T214921Z
UID:10003439-1709465400-1709469000@trinitykirk.org
SUMMARY:11:30 Feast
DESCRIPTION:Lunch will be provided.
URL:https://trinitykirk.org/event/1130-feast-4/2024-03-03/
LOCATION:Providence North\, 19021 120th Ave NE\, Bothell\, WA\, 98011
END:VEVENT
BEGIN:VEVENT
DTSTART;TZID=America/Los_Angeles:20240204T113000
DTEND;TZID=America/Los_Angeles:20240204T123000
DTSTAMP:20260424T182439
CREATED:20250925T214921Z
LAST-MODIFIED:20250925T214921Z
UID:10003438-1707046200-1707049800@trinitykirk.org
SUMMARY:11:30 Feast
DESCRIPTION:Lunch will be provided.
URL:https://trinitykirk.org/event/1130-feast-4/2024-02-04/
LOCATION:Providence North\, 19021 120th Ave NE\, Bothell\, WA\, 98011
END:VEVENT
BEGIN:VEVENT
DTSTART;TZID=America/Los_Angeles:20240107T113000
DTEND;TZID=America/Los_Angeles:20240107T123000
DTSTAMP:20260424T182439
CREATED:20250925T214921Z
LAST-MODIFIED:20250925T214921Z
UID:10003437-1704627000-1704630600@trinitykirk.org
SUMMARY:11:30 Feast
DESCRIPTION:Lunch will be provided.
URL:https://trinitykirk.org/event/1130-feast-4/2024-01-07/
LOCATION:Providence North\, 19021 120th Ave NE\, Bothell\, WA\, 98011
END:VEVENT
BEGIN:VEVENT
DTSTART;TZID=America/Los_Angeles:20231203T113000
DTEND;TZID=America/Los_Angeles:20231203T123000
DTSTAMP:20260424T182439
CREATED:20250925T214921Z
LAST-MODIFIED:20250925T214921Z
UID:10003436-1701603000-1701606600@trinitykirk.org
SUMMARY:11:30 Feast
DESCRIPTION:Lunch will be provided.
URL:https://trinitykirk.org/event/1130-feast-4/2023-12-03/
LOCATION:Providence North\, 19021 120th Ave NE\, Bothell\, WA\, 98011
END:VEVENT
BEGIN:VEVENT
DTSTART;TZID=America/Los_Angeles:20231008T113000
DTEND;TZID=America/Los_Angeles:20231008T123000
DTSTAMP:20260424T182439
CREATED:20250925T214921Z
LAST-MODIFIED:20250925T214921Z
UID:10003487-1696764600-1696768200@trinitykirk.org
SUMMARY:11:30 Feast
DESCRIPTION:Lunch will be provided.
URL:https://trinitykirk.org/event/1130-feast-4/2023-10-08/
LOCATION:Providence North\, 19021 120th Ave NE\, Bothell\, WA\, 98011
END:VEVENT
BEGIN:VEVENT
DTSTART;TZID=America/Los_Angeles:20230910T113000
DTEND;TZID=America/Los_Angeles:20230910T140000
DTSTAMP:20260424T182439
CREATED:20250925T214943Z
LAST-MODIFIED:20250925T214943Z
UID:10003548-1694345400-1694354400@trinitykirk.org
SUMMARY:11:30 AM Church Anniversary Picnic
DESCRIPTION:Come celebrate our church’s 30th anniversary! Lunch will be provided. You may want to bring lawn chairs\, beach blankets\, & outdoor game equipment. Sorry – the park doesn’t allow alcohol. Dogs must remain on a leash at all times.
URL:https://trinitykirk.org/event/1130-am-church-anniversary-picnic/
LOCATION:Cottage Lake Park\, 18831 NE Woodinville Duvall Rd\, Woodinville\, WA\, 98072
END:VEVENT
BEGIN:VEVENT
DTSTART;TZID=America/Los_Angeles:20230806T113000
DTEND;TZID=America/Los_Angeles:20230806T123000
DTSTAMP:20260424T182439
CREATED:20250925T214921Z
LAST-MODIFIED:20250925T214921Z
UID:10003432-1691321400-1691325000@trinitykirk.org
SUMMARY:11:30 Feast
DESCRIPTION:Lunch will be provided.
URL:https://trinitykirk.org/event/1130-feast-4/2023-08-06/
LOCATION:Providence North\, 19021 120th Ave NE\, Bothell\, WA\, 98011
END:VEVENT
BEGIN:VEVENT
DTSTART;VALUE=DATE:20230707
DTEND;VALUE=DATE:20230710
DTSTAMP:20260424T182439
CREATED:20250925T214937Z
LAST-MODIFIED:20250925T214937Z
UID:10003233-1688688000-1688947199@trinitykirk.org
SUMMARY:Family Camp
DESCRIPTION:Family camp provides a lengthier time for the body to be together. We want it to be a ‘getaway’ without being too far away. During this time\, the elders will provide teaching\, there will be fun family activities\, and lots of free time to just hang out. Meals will be provided as well. \nOur goal is to provide an opportunity for individuals and families to get to know one another better\, to enjoy some additional time of fellowship and singing\, and to come together around the Word in a slightly different context. Come as early as 2 pm on Friday. Camp ends on Sunday immediately after the church service. \nFor more info and to Register\, visit our Family Camp webpage here.
URL:https://trinitykirk.org/event/family-camp-4/
LOCATION:Black Lake Bible Camp\, 6521 Fairview Road Southwest\, Olympia\, WA\, 98512
END:VEVENT
BEGIN:VEVENT
DTSTART;TZID=America/Los_Angeles:20230528T173000
DTEND;TZID=America/Los_Angeles:20230528T203000
DTSTAMP:20260424T182439
CREATED:20250925T214932Z
LAST-MODIFIED:20250925T214932Z
UID:10003549-1685295000-1685305800@trinitykirk.org
SUMMARY:5:30 PM Pentecost Party
DESCRIPTION:Tacos\, beverages\, and ice cream provided. \nBring an international dessert to share if you’d like. \nThis is a fun event for the whole family!
URL:https://trinitykirk.org/event/530-pm-pentecost-party-2/
LOCATION:Providence North\, 19021 120th Ave NE\, Bothell\, WA\, 98011
END:VEVENT
BEGIN:VEVENT
DTSTART;TZID=America/Los_Angeles:20230507T113000
DTEND;TZID=America/Los_Angeles:20230507T123000
DTSTAMP:20260424T182439
CREATED:20250925T214921Z
LAST-MODIFIED:20250925T214921Z
UID:10003429-1683459000-1683462600@trinitykirk.org
SUMMARY:11:30 Feast
DESCRIPTION:Lunch will be provided.
URL:https://trinitykirk.org/event/1130-feast-4/2023-05-07/
LOCATION:Providence North\, 19021 120th Ave NE\, Bothell\, WA\, 98011
END:VEVENT
BEGIN:VEVENT
DTSTART;TZID=America/Los_Angeles:20230402T113000
DTEND;TZID=America/Los_Angeles:20230402T123000
DTSTAMP:20260424T182439
CREATED:20250925T214921Z
LAST-MODIFIED:20250925T214921Z
UID:10003428-1680435000-1680438600@trinitykirk.org
SUMMARY:11:30 Feast
DESCRIPTION:Lunch will be provided.
URL:https://trinitykirk.org/event/1130-feast-4/2023-04-02/
LOCATION:Providence North\, 19021 120th Ave NE\, Bothell\, WA\, 98011
END:VEVENT
BEGIN:VEVENT
DTSTART;TZID=America/Los_Angeles:20230305T113000
DTEND;TZID=America/Los_Angeles:20230305T123000
DTSTAMP:20260424T182439
CREATED:20250925T214921Z
LAST-MODIFIED:20250925T214921Z
UID:10003427-1678015800-1678019400@trinitykirk.org
SUMMARY:11:30 Feast
DESCRIPTION:Lunch will be provided.
URL:https://trinitykirk.org/event/1130-feast-4/2023-03-05/
LOCATION:Providence North\, 19021 120th Ave NE\, Bothell\, WA\, 98011
END:VEVENT
BEGIN:VEVENT
DTSTART;TZID=America/Los_Angeles:20230205T113000
DTEND;TZID=America/Los_Angeles:20230205T123000
DTSTAMP:20260424T182439
CREATED:20250925T214921Z
LAST-MODIFIED:20250925T214921Z
UID:10003426-1675596600-1675600200@trinitykirk.org
SUMMARY:11:30 Feast
DESCRIPTION:Lunch will be provided.
URL:https://trinitykirk.org/event/1130-feast-4/2023-02-05/
LOCATION:Providence North\, 19021 120th Ave NE\, Bothell\, WA\, 98011
END:VEVENT
BEGIN:VEVENT
DTSTART;TZID=America/Los_Angeles:20230108T113000
DTEND;TZID=America/Los_Angeles:20230108T123000
DTSTAMP:20260424T182439
CREATED:20250925T214921Z
LAST-MODIFIED:20250925T214921Z
UID:10003486-1673177400-1673181000@trinitykirk.org
SUMMARY:11:30 Feast
DESCRIPTION:Lunch will be provided.
URL:https://trinitykirk.org/event/1130-feast-4/2023-01-08/
LOCATION:Providence North\, 19021 120th Ave NE\, Bothell\, WA\, 98011
END:VEVENT
BEGIN:VEVENT
DTSTART;TZID=America/Los_Angeles:20221204T113000
DTEND;TZID=America/Los_Angeles:20221204T123000
DTSTAMP:20260424T182439
CREATED:20250925T214744Z
LAST-MODIFIED:20250925T214744Z
UID:10003133-1670153400-1670157000@trinitykirk.org
SUMMARY:11:30 Feast
DESCRIPTION:Lunch will be provided.
URL:https://trinitykirk.org/event/1130-feast-2/2022-12-04/
LOCATION:Providence North\, 19021 120th Ave NE\, Bothell\, WA\, 98011
END:VEVENT
BEGIN:VEVENT
DTSTART;TZID=America/Los_Angeles:20221002T113000
DTEND;TZID=America/Los_Angeles:20221002T123000
DTSTAMP:20260424T182439
CREATED:20250925T214744Z
LAST-MODIFIED:20250925T214744Z
UID:10003131-1664710200-1664713800@trinitykirk.org
SUMMARY:11:30 Feast
DESCRIPTION:Lunch will be provided.
URL:https://trinitykirk.org/event/1130-feast-2/2022-10-02/
LOCATION:Providence North\, 19021 120th Ave NE\, Bothell\, WA\, 98011
END:VEVENT
BEGIN:VEVENT
DTSTART;TZID=America/Los_Angeles:20220911T113000
DTEND;TZID=America/Los_Angeles:20220911T140000
DTSTAMP:20260424T182439
CREATED:20250925T214734Z
LAST-MODIFIED:20250925T214734Z
UID:10002716-1662895800-1662904800@trinitykirk.org
SUMMARY:11:30 AM Church Anniversary Picnic
DESCRIPTION:Come celebrate our church’s 29th anniversary! Lunch will be provided. You may want to bring lawn chairs\, beach blankets\, & outdoor game equipment. Sorry – the park doesn’t allow alcohol. Dogs must remain on a leash at all times.
URL:https://trinitykirk.org/event/1100-am-church-anniversary-picnic/2022-09-11/
LOCATION:Cottage Lake Park\, 18831 NE Woodinville Duvall Rd\, Woodinville\, WA\, 98072
END:VEVENT
BEGIN:VEVENT
DTSTART;TZID=America/Los_Angeles:20220807T113000
DTEND;TZID=America/Los_Angeles:20220807T123000
DTSTAMP:20260424T182439
CREATED:20250925T214744Z
LAST-MODIFIED:20250925T214744Z
UID:10003130-1659871800-1659875400@trinitykirk.org
SUMMARY:11:30 Feast
DESCRIPTION:Lunch will be provided.
URL:https://trinitykirk.org/event/1130-feast-2/2022-08-07/
LOCATION:Providence North\, 19021 120th Ave NE\, Bothell\, WA\, 98011
END:VEVENT
BEGIN:VEVENT
DTSTART;TZID=America/Los_Angeles:20220703T113000
DTEND;TZID=America/Los_Angeles:20220703T123000
DTSTAMP:20260424T182439
CREATED:20250925T214744Z
LAST-MODIFIED:20250925T214744Z
UID:10003129-1656847800-1656851400@trinitykirk.org
SUMMARY:11:30 Feast
DESCRIPTION:Lunch will be provided.
URL:https://trinitykirk.org/event/1130-feast-2/2022-07-03/
LOCATION:Providence North\, 19021 120th Ave NE\, Bothell\, WA\, 98011
END:VEVENT
BEGIN:VEVENT
DTSTART;TZID=America/Los_Angeles:20220605T170000
DTEND;TZID=America/Los_Angeles:20220605T193000
DTSTAMP:20260424T182439
CREATED:20250925T214751Z
LAST-MODIFIED:20250925T214751Z
UID:10003183-1654448400-1654457400@trinitykirk.org
SUMMARY:5 PM Pentecost Party
DESCRIPTION:Pentecost Feast will be a potluck.  Please sign-up and bring an international dish.  Signup sheets are at in the foyer. \nDinner will start at 5:30 PM\, followed by a missions report\, singing\, a message\, more singing\, and then desserts and fellowship.
URL:https://trinitykirk.org/event/pentecost-party/
LOCATION:Providence North\, 19021 120th Ave NE\, Bothell\, WA\, 98011
END:VEVENT
BEGIN:VEVENT
DTSTART;TZID=America/Los_Angeles:20220501T113000
DTEND;TZID=America/Los_Angeles:20220501T123000
DTSTAMP:20260424T182439
CREATED:20250925T214744Z
LAST-MODIFIED:20250925T214744Z
UID:10003128-1651404600-1651408200@trinitykirk.org
SUMMARY:11:30 Feast
DESCRIPTION:Lunch will be provided.
URL:https://trinitykirk.org/event/1130-feast-2/2022-05-01/
LOCATION:Providence North\, 19021 120th Ave NE\, Bothell\, WA\, 98011
END:VEVENT
BEGIN:VEVENT
DTSTART;TZID=America/Los_Angeles:20220403T113000
DTEND;TZID=America/Los_Angeles:20220403T123000
DTSTAMP:20260424T182439
CREATED:20250925T214744Z
LAST-MODIFIED:20250925T214744Z
UID:10003127-1648985400-1648989000@trinitykirk.org
SUMMARY:11:30 Feast
DESCRIPTION:Lunch will be provided.
URL:https://trinitykirk.org/event/1130-feast-2/2022-04-03/
LOCATION:Providence North\, 19021 120th Ave NE\, Bothell\, WA\, 98011
END:VEVENT
END:VCALENDAR