BEGIN:VCALENDAR
VERSION:2.0
PRODID:-//Trinity Church - ECPv6.15.12.2//NONSGML v1.0//EN
CALSCALE:GREGORIAN
METHOD:PUBLISH
X-WR-CALNAME:Trinity Church
X-ORIGINAL-URL:https://trinitykirk.org
X-WR-CALDESC:Events for Trinity Church
REFRESH-INTERVAL;VALUE=DURATION:PT1H
X-Robots-Tag:noindex
X-PUBLISHED-TTL:PT1H
BEGIN:VTIMEZONE
TZID:America/Los_Angeles
BEGIN:DAYLIGHT
TZOFFSETFROM:-0800
TZOFFSETTO:-0700
TZNAME:PDT
DTSTART:20250309T100000
END:DAYLIGHT
BEGIN:STANDARD
TZOFFSETFROM:-0700
TZOFFSETTO:-0800
TZNAME:PST
DTSTART:20251102T090000
END:STANDARD
BEGIN:DAYLIGHT
TZOFFSETFROM:-0800
TZOFFSETTO:-0700
TZNAME:PDT
DTSTART:20260308T100000
END:DAYLIGHT
BEGIN:STANDARD
TZOFFSETFROM:-0700
TZOFFSETTO:-0800
TZNAME:PST
DTSTART:20261101T090000
END:STANDARD
BEGIN:DAYLIGHT
TZOFFSETFROM:-0800
TZOFFSETTO:-0700
TZNAME:PDT
DTSTART:20270314T100000
END:DAYLIGHT
BEGIN:STANDARD
TZOFFSETFROM:-0700
TZOFFSETTO:-0800
TZNAME:PST
DTSTART:20271107T090000
END:STANDARD
END:VTIMEZONE
BEGIN:VEVENT
DTSTART;TZID=America/Los_Angeles:20260426T100000
DTEND;TZID=America/Los_Angeles:20260426T113000
DTSTAMP:20260424T085506
CREATED:20250925T215219Z
LAST-MODIFIED:20250925T215219Z
UID:10003006-1777197600-1777203000@trinitykirk.org
SUMMARY:10:00 AM Worship Service
DESCRIPTION:Everyone is welcome in this service of prayer\, praise\, and worship of God the Father\, through his Son Jesus Christ\, in the power of the Holy Spirit.
URL:https://trinitykirk.org/event/1000-am-worship-service-2-2/2026-04-26/
LOCATION:Providence North\, 19021 120th Ave NE\, Bothell\, WA\, 98011
END:VEVENT
BEGIN:VEVENT
DTSTART;TZID=America/Los_Angeles:20260503T100000
DTEND;TZID=America/Los_Angeles:20260503T113000
DTSTAMP:20260424T085506
CREATED:20250925T215219Z
LAST-MODIFIED:20250925T215219Z
UID:10003007-1777802400-1777807800@trinitykirk.org
SUMMARY:10:00 AM Worship Service
DESCRIPTION:Everyone is welcome in this service of prayer\, praise\, and worship of God the Father\, through his Son Jesus Christ\, in the power of the Holy Spirit.
URL:https://trinitykirk.org/event/1000-am-worship-service-2-2/2026-05-03/
LOCATION:Providence North\, 19021 120th Ave NE\, Bothell\, WA\, 98011
END:VEVENT
BEGIN:VEVENT
DTSTART;TZID=America/Los_Angeles:20260510T100000
DTEND;TZID=America/Los_Angeles:20260510T113000
DTSTAMP:20260424T085506
CREATED:20250925T215219Z
LAST-MODIFIED:20250925T215219Z
UID:10003008-1778407200-1778412600@trinitykirk.org
SUMMARY:10:00 AM Worship Service
DESCRIPTION:Everyone is welcome in this service of prayer\, praise\, and worship of God the Father\, through his Son Jesus Christ\, in the power of the Holy Spirit.
URL:https://trinitykirk.org/event/1000-am-worship-service-2-2/2026-05-10/
LOCATION:Providence North\, 19021 120th Ave NE\, Bothell\, WA\, 98011
END:VEVENT
BEGIN:VEVENT
DTSTART;TZID=America/Los_Angeles:20260517T100000
DTEND;TZID=America/Los_Angeles:20260517T113000
DTSTAMP:20260424T085506
CREATED:20250925T215219Z
LAST-MODIFIED:20250925T215219Z
UID:10003009-1779012000-1779017400@trinitykirk.org
SUMMARY:10:00 AM Worship Service
DESCRIPTION:Everyone is welcome in this service of prayer\, praise\, and worship of God the Father\, through his Son Jesus Christ\, in the power of the Holy Spirit.
URL:https://trinitykirk.org/event/1000-am-worship-service-2-2/2026-05-17/
LOCATION:Providence North\, 19021 120th Ave NE\, Bothell\, WA\, 98011
END:VEVENT
BEGIN:VEVENT
DTSTART;TZID=America/Los_Angeles:20260524T100000
DTEND;TZID=America/Los_Angeles:20260524T113000
DTSTAMP:20260424T085506
CREATED:20250925T215219Z
LAST-MODIFIED:20250925T215219Z
UID:10003010-1779616800-1779622200@trinitykirk.org
SUMMARY:10:00 AM Worship Service
DESCRIPTION:Everyone is welcome in this service of prayer\, praise\, and worship of God the Father\, through his Son Jesus Christ\, in the power of the Holy Spirit.
URL:https://trinitykirk.org/event/1000-am-worship-service-2-2/2026-05-24/
LOCATION:Providence North\, 19021 120th Ave NE\, Bothell\, WA\, 98011
END:VEVENT
BEGIN:VEVENT
DTSTART;TZID=America/Los_Angeles:20260531T100000
DTEND;TZID=America/Los_Angeles:20260531T113000
DTSTAMP:20260424T085506
CREATED:20250925T215219Z
LAST-MODIFIED:20250925T215219Z
UID:10003011-1780221600-1780227000@trinitykirk.org
SUMMARY:10:00 AM Worship Service
DESCRIPTION:Everyone is welcome in this service of prayer\, praise\, and worship of God the Father\, through his Son Jesus Christ\, in the power of the Holy Spirit.
URL:https://trinitykirk.org/event/1000-am-worship-service-2-2/2026-05-31/
LOCATION:Providence North\, 19021 120th Ave NE\, Bothell\, WA\, 98011
END:VEVENT
BEGIN:VEVENT
DTSTART;TZID=America/Los_Angeles:20260607T100000
DTEND;TZID=America/Los_Angeles:20260607T113000
DTSTAMP:20260424T085506
CREATED:20250925T215219Z
LAST-MODIFIED:20250925T215219Z
UID:10003012-1780826400-1780831800@trinitykirk.org
SUMMARY:10:00 AM Worship Service
DESCRIPTION:Everyone is welcome in this service of prayer\, praise\, and worship of God the Father\, through his Son Jesus Christ\, in the power of the Holy Spirit.
URL:https://trinitykirk.org/event/1000-am-worship-service-2-2/2026-06-07/
LOCATION:Providence North\, 19021 120th Ave NE\, Bothell\, WA\, 98011
END:VEVENT
BEGIN:VEVENT
DTSTART;TZID=America/Los_Angeles:20260614T100000
DTEND;TZID=America/Los_Angeles:20260614T113000
DTSTAMP:20260424T085506
CREATED:20250925T215219Z
LAST-MODIFIED:20250925T215219Z
UID:10003013-1781431200-1781436600@trinitykirk.org
SUMMARY:10:00 AM Worship Service
DESCRIPTION:Everyone is welcome in this service of prayer\, praise\, and worship of God the Father\, through his Son Jesus Christ\, in the power of the Holy Spirit.
URL:https://trinitykirk.org/event/1000-am-worship-service-2-2/2026-06-14/
LOCATION:Providence North\, 19021 120th Ave NE\, Bothell\, WA\, 98011
END:VEVENT
BEGIN:VEVENT
DTSTART;TZID=America/Los_Angeles:20260621T100000
DTEND;TZID=America/Los_Angeles:20260621T113000
DTSTAMP:20260424T085506
CREATED:20250925T215219Z
LAST-MODIFIED:20250925T215219Z
UID:10003014-1782036000-1782041400@trinitykirk.org
SUMMARY:10:00 AM Worship Service
DESCRIPTION:Everyone is welcome in this service of prayer\, praise\, and worship of God the Father\, through his Son Jesus Christ\, in the power of the Holy Spirit.
URL:https://trinitykirk.org/event/1000-am-worship-service-2-2/2026-06-21/
LOCATION:Providence North\, 19021 120th Ave NE\, Bothell\, WA\, 98011
END:VEVENT
BEGIN:VEVENT
DTSTART;TZID=America/Los_Angeles:20260628T100000
DTEND;TZID=America/Los_Angeles:20260628T113000
DTSTAMP:20260424T085506
CREATED:20250925T215219Z
LAST-MODIFIED:20250925T215219Z
UID:10003015-1782640800-1782646200@trinitykirk.org
SUMMARY:10:00 AM Worship Service
DESCRIPTION:Everyone is welcome in this service of prayer\, praise\, and worship of God the Father\, through his Son Jesus Christ\, in the power of the Holy Spirit.
URL:https://trinitykirk.org/event/1000-am-worship-service-2-2/2026-06-28/
LOCATION:Providence North\, 19021 120th Ave NE\, Bothell\, WA\, 98011
END:VEVENT
BEGIN:VEVENT
DTSTART;TZID=America/Los_Angeles:20260705T100000
DTEND;TZID=America/Los_Angeles:20260705T113000
DTSTAMP:20260424T085506
CREATED:20250925T215219Z
LAST-MODIFIED:20250925T215219Z
UID:10003016-1783245600-1783251000@trinitykirk.org
SUMMARY:10:00 AM Worship Service
DESCRIPTION:Everyone is welcome in this service of prayer\, praise\, and worship of God the Father\, through his Son Jesus Christ\, in the power of the Holy Spirit.
URL:https://trinitykirk.org/event/1000-am-worship-service-2-2/2026-07-05/
LOCATION:Providence North\, 19021 120th Ave NE\, Bothell\, WA\, 98011
END:VEVENT
BEGIN:VEVENT
DTSTART;TZID=America/Los_Angeles:20260712T100000
DTEND;TZID=America/Los_Angeles:20260712T113000
DTSTAMP:20260424T085506
CREATED:20250925T215219Z
LAST-MODIFIED:20250925T215219Z
UID:10003017-1783850400-1783855800@trinitykirk.org
SUMMARY:10:00 AM Worship Service
DESCRIPTION:Everyone is welcome in this service of prayer\, praise\, and worship of God the Father\, through his Son Jesus Christ\, in the power of the Holy Spirit.
URL:https://trinitykirk.org/event/1000-am-worship-service-2-2/2026-07-12/
LOCATION:Providence North\, 19021 120th Ave NE\, Bothell\, WA\, 98011
END:VEVENT
BEGIN:VEVENT
DTSTART;TZID=America/Los_Angeles:20260719T100000
DTEND;TZID=America/Los_Angeles:20260719T113000
DTSTAMP:20260424T085506
CREATED:20250925T215219Z
LAST-MODIFIED:20250925T215219Z
UID:10003018-1784455200-1784460600@trinitykirk.org
SUMMARY:10:00 AM Worship Service
DESCRIPTION:Everyone is welcome in this service of prayer\, praise\, and worship of God the Father\, through his Son Jesus Christ\, in the power of the Holy Spirit.
URL:https://trinitykirk.org/event/1000-am-worship-service-2-2/2026-07-19/
LOCATION:Providence North\, 19021 120th Ave NE\, Bothell\, WA\, 98011
END:VEVENT
BEGIN:VEVENT
DTSTART;TZID=America/Los_Angeles:20260726T100000
DTEND;TZID=America/Los_Angeles:20260726T113000
DTSTAMP:20260424T085506
CREATED:20250925T215219Z
LAST-MODIFIED:20250925T215219Z
UID:10003019-1785060000-1785065400@trinitykirk.org
SUMMARY:10:00 AM Worship Service
DESCRIPTION:Everyone is welcome in this service of prayer\, praise\, and worship of God the Father\, through his Son Jesus Christ\, in the power of the Holy Spirit.
URL:https://trinitykirk.org/event/1000-am-worship-service-2-2/2026-07-26/
LOCATION:Providence North\, 19021 120th Ave NE\, Bothell\, WA\, 98011
END:VEVENT
BEGIN:VEVENT
DTSTART;TZID=America/Los_Angeles:20260802T100000
DTEND;TZID=America/Los_Angeles:20260802T113000
DTSTAMP:20260424T085506
CREATED:20250925T215219Z
LAST-MODIFIED:20250925T215219Z
UID:10003020-1785664800-1785670200@trinitykirk.org
SUMMARY:10:00 AM Worship Service
DESCRIPTION:Everyone is welcome in this service of prayer\, praise\, and worship of God the Father\, through his Son Jesus Christ\, in the power of the Holy Spirit.
URL:https://trinitykirk.org/event/1000-am-worship-service-2-2/2026-08-02/
LOCATION:Providence North\, 19021 120th Ave NE\, Bothell\, WA\, 98011
END:VEVENT
BEGIN:VEVENT
DTSTART;TZID=America/Los_Angeles:20260809T100000
DTEND;TZID=America/Los_Angeles:20260809T113000
DTSTAMP:20260424T085506
CREATED:20250925T215219Z
LAST-MODIFIED:20250925T215219Z
UID:10003021-1786269600-1786275000@trinitykirk.org
SUMMARY:10:00 AM Worship Service
DESCRIPTION:Everyone is welcome in this service of prayer\, praise\, and worship of God the Father\, through his Son Jesus Christ\, in the power of the Holy Spirit.
URL:https://trinitykirk.org/event/1000-am-worship-service-2-2/2026-08-09/
LOCATION:Providence North\, 19021 120th Ave NE\, Bothell\, WA\, 98011
END:VEVENT
BEGIN:VEVENT
DTSTART;TZID=America/Los_Angeles:20260816T100000
DTEND;TZID=America/Los_Angeles:20260816T113000
DTSTAMP:20260424T085506
CREATED:20250925T215219Z
LAST-MODIFIED:20250925T215219Z
UID:10003022-1786874400-1786879800@trinitykirk.org
SUMMARY:10:00 AM Worship Service
DESCRIPTION:Everyone is welcome in this service of prayer\, praise\, and worship of God the Father\, through his Son Jesus Christ\, in the power of the Holy Spirit.
URL:https://trinitykirk.org/event/1000-am-worship-service-2-2/2026-08-16/
LOCATION:Providence North\, 19021 120th Ave NE\, Bothell\, WA\, 98011
END:VEVENT
BEGIN:VEVENT
DTSTART;TZID=America/Los_Angeles:20260823T100000
DTEND;TZID=America/Los_Angeles:20260823T113000
DTSTAMP:20260424T085506
CREATED:20250925T215219Z
LAST-MODIFIED:20250925T215219Z
UID:10003023-1787479200-1787484600@trinitykirk.org
SUMMARY:10:00 AM Worship Service
DESCRIPTION:Everyone is welcome in this service of prayer\, praise\, and worship of God the Father\, through his Son Jesus Christ\, in the power of the Holy Spirit.
URL:https://trinitykirk.org/event/1000-am-worship-service-2-2/2026-08-23/
LOCATION:Providence North\, 19021 120th Ave NE\, Bothell\, WA\, 98011
END:VEVENT
BEGIN:VEVENT
DTSTART;TZID=America/Los_Angeles:20260830T100000
DTEND;TZID=America/Los_Angeles:20260830T113000
DTSTAMP:20260424T085506
CREATED:20250925T215219Z
LAST-MODIFIED:20250925T215219Z
UID:10003024-1788084000-1788089400@trinitykirk.org
SUMMARY:10:00 AM Worship Service
DESCRIPTION:Everyone is welcome in this service of prayer\, praise\, and worship of God the Father\, through his Son Jesus Christ\, in the power of the Holy Spirit.
URL:https://trinitykirk.org/event/1000-am-worship-service-2-2/2026-08-30/
LOCATION:Providence North\, 19021 120th Ave NE\, Bothell\, WA\, 98011
END:VEVENT
BEGIN:VEVENT
DTSTART;TZID=America/Los_Angeles:20260906T100000
DTEND;TZID=America/Los_Angeles:20260906T113000
DTSTAMP:20260424T085506
CREATED:20250925T215219Z
LAST-MODIFIED:20250925T215219Z
UID:10003025-1788688800-1788694200@trinitykirk.org
SUMMARY:10:00 AM Worship Service
DESCRIPTION:Everyone is welcome in this service of prayer\, praise\, and worship of God the Father\, through his Son Jesus Christ\, in the power of the Holy Spirit.
URL:https://trinitykirk.org/event/1000-am-worship-service-2-2/2026-09-06/
LOCATION:Providence North\, 19021 120th Ave NE\, Bothell\, WA\, 98011
END:VEVENT
BEGIN:VEVENT
DTSTART;TZID=America/Los_Angeles:20260913T100000
DTEND;TZID=America/Los_Angeles:20260913T113000
DTSTAMP:20260424T085506
CREATED:20250925T215219Z
LAST-MODIFIED:20250925T215219Z
UID:10003026-1789293600-1789299000@trinitykirk.org
SUMMARY:10:00 AM Worship Service
DESCRIPTION:Everyone is welcome in this service of prayer\, praise\, and worship of God the Father\, through his Son Jesus Christ\, in the power of the Holy Spirit.
URL:https://trinitykirk.org/event/1000-am-worship-service-2-2/2026-09-13/
LOCATION:Providence North\, 19021 120th Ave NE\, Bothell\, WA\, 98011
END:VEVENT
BEGIN:VEVENT
DTSTART;TZID=America/Los_Angeles:20260920T100000
DTEND;TZID=America/Los_Angeles:20260920T113000
DTSTAMP:20260424T085506
CREATED:20250925T215219Z
LAST-MODIFIED:20250925T215219Z
UID:10003027-1789898400-1789903800@trinitykirk.org
SUMMARY:10:00 AM Worship Service
DESCRIPTION:Everyone is welcome in this service of prayer\, praise\, and worship of God the Father\, through his Son Jesus Christ\, in the power of the Holy Spirit.
URL:https://trinitykirk.org/event/1000-am-worship-service-2-2/2026-09-20/
LOCATION:Providence North\, 19021 120th Ave NE\, Bothell\, WA\, 98011
END:VEVENT
BEGIN:VEVENT
DTSTART;TZID=America/Los_Angeles:20260927T100000
DTEND;TZID=America/Los_Angeles:20260927T113000
DTSTAMP:20260424T085506
CREATED:20250925T215219Z
LAST-MODIFIED:20250925T215219Z
UID:10003028-1790503200-1790508600@trinitykirk.org
SUMMARY:10:00 AM Worship Service
DESCRIPTION:Everyone is welcome in this service of prayer\, praise\, and worship of God the Father\, through his Son Jesus Christ\, in the power of the Holy Spirit.
URL:https://trinitykirk.org/event/1000-am-worship-service-2-2/2026-09-27/
LOCATION:Providence North\, 19021 120th Ave NE\, Bothell\, WA\, 98011
END:VEVENT
BEGIN:VEVENT
DTSTART;TZID=America/Los_Angeles:20261004T100000
DTEND;TZID=America/Los_Angeles:20261004T113000
DTSTAMP:20260424T085506
CREATED:20250925T215219Z
LAST-MODIFIED:20250925T215219Z
UID:10003029-1791108000-1791113400@trinitykirk.org
SUMMARY:10:00 AM Worship Service
DESCRIPTION:Everyone is welcome in this service of prayer\, praise\, and worship of God the Father\, through his Son Jesus Christ\, in the power of the Holy Spirit.
URL:https://trinitykirk.org/event/1000-am-worship-service-2-2/2026-10-04/
LOCATION:Providence North\, 19021 120th Ave NE\, Bothell\, WA\, 98011
END:VEVENT
BEGIN:VEVENT
DTSTART;TZID=America/Los_Angeles:20261011T100000
DTEND;TZID=America/Los_Angeles:20261011T113000
DTSTAMP:20260424T085506
CREATED:20250925T215219Z
LAST-MODIFIED:20250925T215219Z
UID:10003030-1791712800-1791718200@trinitykirk.org
SUMMARY:10:00 AM Worship Service
DESCRIPTION:Everyone is welcome in this service of prayer\, praise\, and worship of God the Father\, through his Son Jesus Christ\, in the power of the Holy Spirit.
URL:https://trinitykirk.org/event/1000-am-worship-service-2-2/2026-10-11/
LOCATION:Providence North\, 19021 120th Ave NE\, Bothell\, WA\, 98011
END:VEVENT
BEGIN:VEVENT
DTSTART;TZID=America/Los_Angeles:20261018T100000
DTEND;TZID=America/Los_Angeles:20261018T113000
DTSTAMP:20260424T085506
CREATED:20250925T215219Z
LAST-MODIFIED:20250925T215219Z
UID:10003031-1792317600-1792323000@trinitykirk.org
SUMMARY:10:00 AM Worship Service
DESCRIPTION:Everyone is welcome in this service of prayer\, praise\, and worship of God the Father\, through his Son Jesus Christ\, in the power of the Holy Spirit.
URL:https://trinitykirk.org/event/1000-am-worship-service-2-2/2026-10-18/
LOCATION:Providence North\, 19021 120th Ave NE\, Bothell\, WA\, 98011
END:VEVENT
BEGIN:VEVENT
DTSTART;TZID=America/Los_Angeles:20261025T100000
DTEND;TZID=America/Los_Angeles:20261025T113000
DTSTAMP:20260424T085506
CREATED:20250925T215219Z
LAST-MODIFIED:20250925T215219Z
UID:10003032-1792922400-1792927800@trinitykirk.org
SUMMARY:10:00 AM Worship Service
DESCRIPTION:Everyone is welcome in this service of prayer\, praise\, and worship of God the Father\, through his Son Jesus Christ\, in the power of the Holy Spirit.
URL:https://trinitykirk.org/event/1000-am-worship-service-2-2/2026-10-25/
LOCATION:Providence North\, 19021 120th Ave NE\, Bothell\, WA\, 98011
END:VEVENT
BEGIN:VEVENT
DTSTART;TZID=America/Los_Angeles:20261101T100000
DTEND;TZID=America/Los_Angeles:20261101T113000
DTSTAMP:20260424T085506
CREATED:20250925T215219Z
LAST-MODIFIED:20250925T215219Z
UID:10003033-1793527200-1793532600@trinitykirk.org
SUMMARY:10:00 AM Worship Service
DESCRIPTION:Everyone is welcome in this service of prayer\, praise\, and worship of God the Father\, through his Son Jesus Christ\, in the power of the Holy Spirit.
URL:https://trinitykirk.org/event/1000-am-worship-service-2-2/2026-11-01/
LOCATION:Providence North\, 19021 120th Ave NE\, Bothell\, WA\, 98011
END:VEVENT
BEGIN:VEVENT
DTSTART;TZID=America/Los_Angeles:20261108T100000
DTEND;TZID=America/Los_Angeles:20261108T113000
DTSTAMP:20260424T085506
CREATED:20250925T215219Z
LAST-MODIFIED:20250925T215219Z
UID:10003034-1794132000-1794137400@trinitykirk.org
SUMMARY:10:00 AM Worship Service
DESCRIPTION:Everyone is welcome in this service of prayer\, praise\, and worship of God the Father\, through his Son Jesus Christ\, in the power of the Holy Spirit.
URL:https://trinitykirk.org/event/1000-am-worship-service-2-2/2026-11-08/
LOCATION:Providence North\, 19021 120th Ave NE\, Bothell\, WA\, 98011
END:VEVENT
BEGIN:VEVENT
DTSTART;TZID=America/Los_Angeles:20261115T100000
DTEND;TZID=America/Los_Angeles:20261115T113000
DTSTAMP:20260424T085506
CREATED:20250925T215219Z
LAST-MODIFIED:20250925T215219Z
UID:10003035-1794736800-1794742200@trinitykirk.org
SUMMARY:10:00 AM Worship Service
DESCRIPTION:Everyone is welcome in this service of prayer\, praise\, and worship of God the Father\, through his Son Jesus Christ\, in the power of the Holy Spirit.
URL:https://trinitykirk.org/event/1000-am-worship-service-2-2/2026-11-15/
LOCATION:Providence North\, 19021 120th Ave NE\, Bothell\, WA\, 98011
END:VEVENT
END:VCALENDAR