BEGIN:VCALENDAR
VERSION:2.0
PRODID:-//Trinity Church - ECPv6.15.12.2//NONSGML v1.0//EN
CALSCALE:GREGORIAN
METHOD:PUBLISH
X-WR-CALNAME:Trinity Church
X-ORIGINAL-URL:https://trinitykirk.org
X-WR-CALDESC:Events for Trinity Church
REFRESH-INTERVAL;VALUE=DURATION:PT1H
X-Robots-Tag:noindex
X-PUBLISHED-TTL:PT1H
BEGIN:VTIMEZONE
TZID:America/Los_Angeles
BEGIN:DAYLIGHT
TZOFFSETFROM:-0800
TZOFFSETTO:-0700
TZNAME:PDT
DTSTART:20240310T100000
END:DAYLIGHT
BEGIN:STANDARD
TZOFFSETFROM:-0700
TZOFFSETTO:-0800
TZNAME:PST
DTSTART:20241103T090000
END:STANDARD
BEGIN:DAYLIGHT
TZOFFSETFROM:-0800
TZOFFSETTO:-0700
TZNAME:PDT
DTSTART:20250309T100000
END:DAYLIGHT
BEGIN:STANDARD
TZOFFSETFROM:-0700
TZOFFSETTO:-0800
TZNAME:PST
DTSTART:20251102T090000
END:STANDARD
BEGIN:DAYLIGHT
TZOFFSETFROM:-0800
TZOFFSETTO:-0700
TZNAME:PDT
DTSTART:20260308T100000
END:DAYLIGHT
BEGIN:STANDARD
TZOFFSETFROM:-0700
TZOFFSETTO:-0800
TZNAME:PST
DTSTART:20261101T090000
END:STANDARD
END:VTIMEZONE
BEGIN:VEVENT
DTSTART;TZID=America/Los_Angeles:20251214T100000
DTEND;TZID=America/Los_Angeles:20251214T113000
DTSTAMP:20260424T202028
CREATED:20250925T215219Z
LAST-MODIFIED:20250925T215219Z
UID:10002987-1765706400-1765711800@trinitykirk.org
SUMMARY:10:00 AM Worship Service
DESCRIPTION:Everyone is welcome in this service of prayer\, praise\, and worship of God the Father\, through his Son Jesus Christ\, in the power of the Holy Spirit.
URL:https://trinitykirk.org/event/1000-am-worship-service-2-2/2025-12-14/
LOCATION:Providence North\, 19021 120th Ave NE\, Bothell\, WA\, 98011
END:VEVENT
BEGIN:VEVENT
DTSTART;TZID=America/Los_Angeles:20251207T100000
DTEND;TZID=America/Los_Angeles:20251207T113000
DTSTAMP:20260424T202028
CREATED:20250925T215219Z
LAST-MODIFIED:20250925T215219Z
UID:10002986-1765101600-1765107000@trinitykirk.org
SUMMARY:10:00 AM Worship Service
DESCRIPTION:Everyone is welcome in this service of prayer\, praise\, and worship of God the Father\, through his Son Jesus Christ\, in the power of the Holy Spirit.
URL:https://trinitykirk.org/event/1000-am-worship-service-2-2/2025-12-07/
LOCATION:Providence North\, 19021 120th Ave NE\, Bothell\, WA\, 98011
END:VEVENT
BEGIN:VEVENT
DTSTART;TZID=America/Los_Angeles:20251130T100000
DTEND;TZID=America/Los_Angeles:20251130T113000
DTSTAMP:20260424T202028
CREATED:20250925T215219Z
LAST-MODIFIED:20250925T215219Z
UID:10002985-1764496800-1764502200@trinitykirk.org
SUMMARY:10:00 AM Worship Service
DESCRIPTION:Everyone is welcome in this service of prayer\, praise\, and worship of God the Father\, through his Son Jesus Christ\, in the power of the Holy Spirit.
URL:https://trinitykirk.org/event/1000-am-worship-service-2-2/2025-11-30/
LOCATION:Providence North\, 19021 120th Ave NE\, Bothell\, WA\, 98011
END:VEVENT
BEGIN:VEVENT
DTSTART;TZID=America/Los_Angeles:20251123T100000
DTEND;TZID=America/Los_Angeles:20251123T113000
DTSTAMP:20260424T202028
CREATED:20250925T215219Z
LAST-MODIFIED:20250925T215219Z
UID:10002984-1763892000-1763897400@trinitykirk.org
SUMMARY:10:00 AM Worship Service
DESCRIPTION:Everyone is welcome in this service of prayer\, praise\, and worship of God the Father\, through his Son Jesus Christ\, in the power of the Holy Spirit.
URL:https://trinitykirk.org/event/1000-am-worship-service-2-2/2025-11-23/
LOCATION:Providence North\, 19021 120th Ave NE\, Bothell\, WA\, 98011
END:VEVENT
BEGIN:VEVENT
DTSTART;TZID=America/Los_Angeles:20251123T090000
DTEND;TZID=America/Los_Angeles:20251123T094000
DTSTAMP:20260424T202028
CREATED:20250925T215218Z
LAST-MODIFIED:20250930T011345Z
UID:10005333-1763888400-1763890800@trinitykirk.org
SUMMARY:9 AM Sunday School
DESCRIPTION:We will pick up in the Westminster Shorter Catechism in the section on the Ten Commandments. If you weren’t coming last year\, this is a perfect point to jump in as we are beginning a new section. As always\, the Sunday School is great to come week after week\, but works pretty well if you can only come occasionally. I will try to make it interesting for adults and kids alike.
URL:https://trinitykirk.org/event/9-am-sunday-school-9/2025-11-23/
LOCATION:Providence North\, 19021 120th Ave NE\, Bothell\, WA\, 98011
END:VEVENT
BEGIN:VEVENT
DTSTART;TZID=America/Los_Angeles:20251116T190000
DTEND;TZID=America/Los_Angeles:20251116T203000
DTSTAMP:20260424T202028
CREATED:20250925T215220Z
LAST-MODIFIED:20250925T215220Z
UID:10005060-1763319600-1763325000@trinitykirk.org
SUMMARY:7 PM Men's Meeting
DESCRIPTION:
URL:https://trinitykirk.org/event/7-pm-mens-meeting-9/2025-11-16/
LOCATION:Church Office in Woodinville\, 14623 NE North Woodinville Way\, Suite 201\, Woodinville\, WA\, 98072
END:VEVENT
BEGIN:VEVENT
DTSTART;TZID=America/Los_Angeles:20251116T100000
DTEND;TZID=America/Los_Angeles:20251116T113000
DTSTAMP:20260424T202028
CREATED:20250925T215219Z
LAST-MODIFIED:20250925T215219Z
UID:10002983-1763287200-1763292600@trinitykirk.org
SUMMARY:10:00 AM Worship Service
DESCRIPTION:Everyone is welcome in this service of prayer\, praise\, and worship of God the Father\, through his Son Jesus Christ\, in the power of the Holy Spirit.
URL:https://trinitykirk.org/event/1000-am-worship-service-2-2/2025-11-16/
LOCATION:Providence North\, 19021 120th Ave NE\, Bothell\, WA\, 98011
END:VEVENT
BEGIN:VEVENT
DTSTART;TZID=America/Los_Angeles:20251116T090000
DTEND;TZID=America/Los_Angeles:20251116T094000
DTSTAMP:20260424T202028
CREATED:20250925T215218Z
LAST-MODIFIED:20250930T011345Z
UID:10005332-1763283600-1763286000@trinitykirk.org
SUMMARY:9 AM Sunday School
DESCRIPTION:We will pick up in the Westminster Shorter Catechism in the section on the Ten Commandments. If you weren’t coming last year\, this is a perfect point to jump in as we are beginning a new section. As always\, the Sunday School is great to come week after week\, but works pretty well if you can only come occasionally. I will try to make it interesting for adults and kids alike.
URL:https://trinitykirk.org/event/9-am-sunday-school-9/2025-11-16/
LOCATION:Providence North\, 19021 120th Ave NE\, Bothell\, WA\, 98011
END:VEVENT
BEGIN:VEVENT
DTSTART;TZID=America/Los_Angeles:20251109T100000
DTEND;TZID=America/Los_Angeles:20251109T113000
DTSTAMP:20260424T202028
CREATED:20250925T215219Z
LAST-MODIFIED:20250925T215219Z
UID:10002982-1762682400-1762687800@trinitykirk.org
SUMMARY:10:00 AM Worship Service
DESCRIPTION:Everyone is welcome in this service of prayer\, praise\, and worship of God the Father\, through his Son Jesus Christ\, in the power of the Holy Spirit.
URL:https://trinitykirk.org/event/1000-am-worship-service-2-2/2025-11-09/
LOCATION:Providence North\, 19021 120th Ave NE\, Bothell\, WA\, 98011
END:VEVENT
BEGIN:VEVENT
DTSTART;TZID=America/Los_Angeles:20251109T090000
DTEND;TZID=America/Los_Angeles:20251109T094000
DTSTAMP:20260424T202028
CREATED:20250925T215218Z
LAST-MODIFIED:20250930T011345Z
UID:10005331-1762678800-1762681200@trinitykirk.org
SUMMARY:9 AM Sunday School
DESCRIPTION:We will pick up in the Westminster Shorter Catechism in the section on the Ten Commandments. If you weren’t coming last year\, this is a perfect point to jump in as we are beginning a new section. As always\, the Sunday School is great to come week after week\, but works pretty well if you can only come occasionally. I will try to make it interesting for adults and kids alike.
URL:https://trinitykirk.org/event/9-am-sunday-school-9/2025-11-09/
LOCATION:Providence North\, 19021 120th Ave NE\, Bothell\, WA\, 98011
END:VEVENT
BEGIN:VEVENT
DTSTART;TZID=America/Los_Angeles:20251102T100000
DTEND;TZID=America/Los_Angeles:20251102T113000
DTSTAMP:20260424T202028
CREATED:20250925T215219Z
LAST-MODIFIED:20250925T215219Z
UID:10002981-1762077600-1762083000@trinitykirk.org
SUMMARY:10:00 AM Worship Service
DESCRIPTION:Everyone is welcome in this service of prayer\, praise\, and worship of God the Father\, through his Son Jesus Christ\, in the power of the Holy Spirit.
URL:https://trinitykirk.org/event/1000-am-worship-service-2-2/2025-11-02/
LOCATION:Providence North\, 19021 120th Ave NE\, Bothell\, WA\, 98011
END:VEVENT
BEGIN:VEVENT
DTSTART;TZID=America/Los_Angeles:20251102T090000
DTEND;TZID=America/Los_Angeles:20251102T094000
DTSTAMP:20260424T202028
CREATED:20250925T215218Z
LAST-MODIFIED:20250930T011345Z
UID:10005330-1762074000-1762076400@trinitykirk.org
SUMMARY:9 AM Sunday School
DESCRIPTION:We will pick up in the Westminster Shorter Catechism in the section on the Ten Commandments. If you weren’t coming last year\, this is a perfect point to jump in as we are beginning a new section. As always\, the Sunday School is great to come week after week\, but works pretty well if you can only come occasionally. I will try to make it interesting for adults and kids alike.
URL:https://trinitykirk.org/event/9-am-sunday-school-9/2025-11-02/
LOCATION:Providence North\, 19021 120th Ave NE\, Bothell\, WA\, 98011
END:VEVENT
BEGIN:VEVENT
DTSTART;TZID=America/Los_Angeles:20251026T100000
DTEND;TZID=America/Los_Angeles:20251026T113000
DTSTAMP:20260424T202028
CREATED:20250925T215219Z
LAST-MODIFIED:20250925T215219Z
UID:10002980-1761472800-1761478200@trinitykirk.org
SUMMARY:10:00 AM Worship Service
DESCRIPTION:Everyone is welcome in this service of prayer\, praise\, and worship of God the Father\, through his Son Jesus Christ\, in the power of the Holy Spirit.
URL:https://trinitykirk.org/event/1000-am-worship-service-2-2/2025-10-26/
LOCATION:Providence North\, 19021 120th Ave NE\, Bothell\, WA\, 98011
END:VEVENT
BEGIN:VEVENT
DTSTART;TZID=America/Los_Angeles:20251019T100000
DTEND;TZID=America/Los_Angeles:20251019T113000
DTSTAMP:20260424T202028
CREATED:20250925T215219Z
LAST-MODIFIED:20250925T215219Z
UID:10002979-1760868000-1760873400@trinitykirk.org
SUMMARY:10:00 AM Worship Service
DESCRIPTION:Everyone is welcome in this service of prayer\, praise\, and worship of God the Father\, through his Son Jesus Christ\, in the power of the Holy Spirit.
URL:https://trinitykirk.org/event/1000-am-worship-service-2-2/2025-10-19/
LOCATION:Providence North\, 19021 120th Ave NE\, Bothell\, WA\, 98011
END:VEVENT
BEGIN:VEVENT
DTSTART;TZID=America/Los_Angeles:20251019T090000
DTEND;TZID=America/Los_Angeles:20251019T094000
DTSTAMP:20260424T202028
CREATED:20250925T215218Z
LAST-MODIFIED:20250930T011345Z
UID:10005328-1760864400-1760866800@trinitykirk.org
SUMMARY:9 AM Sunday School
DESCRIPTION:We will pick up in the Westminster Shorter Catechism in the section on the Ten Commandments. If you weren’t coming last year\, this is a perfect point to jump in as we are beginning a new section. As always\, the Sunday School is great to come week after week\, but works pretty well if you can only come occasionally. I will try to make it interesting for adults and kids alike.
URL:https://trinitykirk.org/event/9-am-sunday-school-9/2025-10-19/
LOCATION:Providence North\, 19021 120th Ave NE\, Bothell\, WA\, 98011
END:VEVENT
BEGIN:VEVENT
DTSTART;TZID=America/Los_Angeles:20251012T190000
DTEND;TZID=America/Los_Angeles:20251012T203000
DTSTAMP:20260424T202028
CREATED:20250925T215220Z
LAST-MODIFIED:20250925T215220Z
UID:10005059-1760295600-1760301000@trinitykirk.org
SUMMARY:7 PM Men's Meeting
DESCRIPTION:
URL:https://trinitykirk.org/event/7-pm-mens-meeting-9/2025-10-12/
LOCATION:Church Office in Woodinville\, 14623 NE North Woodinville Way\, Suite 201\, Woodinville\, WA\, 98072
END:VEVENT
BEGIN:VEVENT
DTSTART;TZID=America/Los_Angeles:20251012T100000
DTEND;TZID=America/Los_Angeles:20251012T113000
DTSTAMP:20260424T202028
CREATED:20250925T215219Z
LAST-MODIFIED:20250925T215219Z
UID:10002978-1760263200-1760268600@trinitykirk.org
SUMMARY:10:00 AM Worship Service
DESCRIPTION:Everyone is welcome in this service of prayer\, praise\, and worship of God the Father\, through his Son Jesus Christ\, in the power of the Holy Spirit.
URL:https://trinitykirk.org/event/1000-am-worship-service-2-2/2025-10-12/
LOCATION:Providence North\, 19021 120th Ave NE\, Bothell\, WA\, 98011
END:VEVENT
BEGIN:VEVENT
DTSTART;TZID=America/Los_Angeles:20251005T100000
DTEND;TZID=America/Los_Angeles:20251005T113000
DTSTAMP:20260424T202028
CREATED:20250925T215219Z
LAST-MODIFIED:20250925T215219Z
UID:10002977-1759658400-1759663800@trinitykirk.org
SUMMARY:10:00 AM Worship Service
DESCRIPTION:Everyone is welcome in this service of prayer\, praise\, and worship of God the Father\, through his Son Jesus Christ\, in the power of the Holy Spirit.
URL:https://trinitykirk.org/event/1000-am-worship-service-2-2/2025-10-05/
LOCATION:Providence North\, 19021 120th Ave NE\, Bothell\, WA\, 98011
END:VEVENT
BEGIN:VEVENT
DTSTART;TZID=America/Los_Angeles:20251005T090000
DTEND;TZID=America/Los_Angeles:20251005T094000
DTSTAMP:20260424T202028
CREATED:20250925T215218Z
LAST-MODIFIED:20250930T011345Z
UID:10005326-1759654800-1759657200@trinitykirk.org
SUMMARY:9 AM Sunday School
DESCRIPTION:We will pick up in the Westminster Shorter Catechism in the section on the Ten Commandments. If you weren’t coming last year\, this is a perfect point to jump in as we are beginning a new section. As always\, the Sunday School is great to come week after week\, but works pretty well if you can only come occasionally. I will try to make it interesting for adults and kids alike.
URL:https://trinitykirk.org/event/9-am-sunday-school-9/2025-10-05/
LOCATION:Providence North\, 19021 120th Ave NE\, Bothell\, WA\, 98011
END:VEVENT
BEGIN:VEVENT
DTSTART;TZID=America/Los_Angeles:20250928T120000
DTEND;TZID=America/Los_Angeles:20250928T124500
DTSTAMP:20260424T202028
CREATED:20250925T215221Z
LAST-MODIFIED:20250925T215221Z
UID:10005498-1759060800-1759063500@trinitykirk.org
SUMMARY:12 PM Households Meeting
DESCRIPTION:
URL:https://trinitykirk.org/event/12-pm-households-meeting-8/
LOCATION:Providence North\, 19021 120th Ave NE\, Bothell\, WA\, 98011
END:VEVENT
BEGIN:VEVENT
DTSTART;TZID=America/Los_Angeles:20250928T100000
DTEND;TZID=America/Los_Angeles:20250928T113000
DTSTAMP:20260424T202028
CREATED:20250925T215219Z
LAST-MODIFIED:20250925T215219Z
UID:10002976-1759053600-1759059000@trinitykirk.org
SUMMARY:10:00 AM Worship Service
DESCRIPTION:Everyone is welcome in this service of prayer\, praise\, and worship of God the Father\, through his Son Jesus Christ\, in the power of the Holy Spirit.
URL:https://trinitykirk.org/event/1000-am-worship-service-2-2/2025-09-28/
LOCATION:Providence North\, 19021 120th Ave NE\, Bothell\, WA\, 98011
END:VEVENT
BEGIN:VEVENT
DTSTART;TZID=America/Los_Angeles:20250928T090000
DTEND;TZID=America/Los_Angeles:20250928T094000
DTSTAMP:20260424T202028
CREATED:20250925T215218Z
LAST-MODIFIED:20250930T011345Z
UID:10005325-1759050000-1759052400@trinitykirk.org
SUMMARY:9 AM Sunday School
DESCRIPTION:We will pick up in the Westminster Shorter Catechism in the section on the Ten Commandments. If you weren’t coming last year\, this is a perfect point to jump in as we are beginning a new section. As always\, the Sunday School is great to come week after week\, but works pretty well if you can only come occasionally. I will try to make it interesting for adults and kids alike.
URL:https://trinitykirk.org/event/9-am-sunday-school-9/2025-09-28/
LOCATION:Providence North\, 19021 120th Ave NE\, Bothell\, WA\, 98011
END:VEVENT
BEGIN:VEVENT
DTSTART;TZID=America/Los_Angeles:20250921T100000
DTEND;TZID=America/Los_Angeles:20250921T113000
DTSTAMP:20260424T202028
CREATED:20250925T215219Z
LAST-MODIFIED:20250925T215219Z
UID:10002975-1758448800-1758454200@trinitykirk.org
SUMMARY:10:00 AM Worship Service
DESCRIPTION:Everyone is welcome in this service of prayer\, praise\, and worship of God the Father\, through his Son Jesus Christ\, in the power of the Holy Spirit.
URL:https://trinitykirk.org/event/1000-am-worship-service-2-2/2025-09-21/
LOCATION:Providence North\, 19021 120th Ave NE\, Bothell\, WA\, 98011
END:VEVENT
BEGIN:VEVENT
DTSTART;TZID=America/Los_Angeles:20250921T090000
DTEND;TZID=America/Los_Angeles:20250921T094000
DTSTAMP:20260424T202028
CREATED:20250925T215218Z
LAST-MODIFIED:20250930T011345Z
UID:10005324-1758445200-1758447600@trinitykirk.org
SUMMARY:9 AM Sunday School
DESCRIPTION:We will pick up in the Westminster Shorter Catechism in the section on the Ten Commandments. If you weren’t coming last year\, this is a perfect point to jump in as we are beginning a new section. As always\, the Sunday School is great to come week after week\, but works pretty well if you can only come occasionally. I will try to make it interesting for adults and kids alike.
URL:https://trinitykirk.org/event/9-am-sunday-school-9/2025-09-21/
LOCATION:Providence North\, 19021 120th Ave NE\, Bothell\, WA\, 98011
END:VEVENT
BEGIN:VEVENT
DTSTART;TZID=America/Los_Angeles:20250914T190000
DTEND;TZID=America/Los_Angeles:20250914T203000
DTSTAMP:20260424T202028
CREATED:20250925T215220Z
LAST-MODIFIED:20250925T215220Z
UID:10005058-1757876400-1757881800@trinitykirk.org
SUMMARY:7 PM Men's Meeting
DESCRIPTION:
URL:https://trinitykirk.org/event/7-pm-mens-meeting-9/2025-09-14/
LOCATION:Church Office in Woodinville\, 14623 NE North Woodinville Way\, Suite 201\, Woodinville\, WA\, 98072
END:VEVENT
BEGIN:VEVENT
DTSTART;TZID=America/Los_Angeles:20250914T100000
DTEND;TZID=America/Los_Angeles:20250914T113000
DTSTAMP:20260424T202028
CREATED:20250925T215219Z
LAST-MODIFIED:20250925T215219Z
UID:10005378-1757844000-1757849400@trinitykirk.org
SUMMARY:10:00 AM Worship Service
DESCRIPTION:Everyone is welcome in this service of prayer\, praise\, and worship of God the Father\, through his Son Jesus Christ\, in the power of the Holy Spirit.
URL:https://trinitykirk.org/event/1000-am-worship-service-2-2/2025-09-14/
LOCATION:Providence North\, 19021 120th Ave NE\, Bothell\, WA\, 98011
END:VEVENT
BEGIN:VEVENT
DTSTART;TZID=America/Los_Angeles:20250914T090000
DTEND;TZID=America/Los_Angeles:20250914T094000
DTSTAMP:20260424T202028
CREATED:20250925T215218Z
LAST-MODIFIED:20250930T011345Z
UID:10005323-1757840400-1757842800@trinitykirk.org
SUMMARY:9 AM Sunday School
DESCRIPTION:We will pick up in the Westminster Shorter Catechism in the section on the Ten Commandments. If you weren’t coming last year\, this is a perfect point to jump in as we are beginning a new section. As always\, the Sunday School is great to come week after week\, but works pretty well if you can only come occasionally. I will try to make it interesting for adults and kids alike.
URL:https://trinitykirk.org/event/9-am-sunday-school-9/2025-09-14/
LOCATION:Providence North\, 19021 120th Ave NE\, Bothell\, WA\, 98011
END:VEVENT
BEGIN:VEVENT
DTSTART;TZID=America/Los_Angeles:20250907T100000
DTEND;TZID=America/Los_Angeles:20250907T113000
DTSTAMP:20260424T202028
CREATED:20250925T214940Z
LAST-MODIFIED:20250925T214940Z
UID:10002973-1757239200-1757244600@trinitykirk.org
SUMMARY:10:00 AM Worship Service
DESCRIPTION:Everyone is welcome in this service of prayer\, praise\, and worship of God the Father\, through his Son Jesus Christ\, in the power of the Holy Spirit.
URL:https://trinitykirk.org/event/1000-am-worship-service-2/2025-09-07/
LOCATION:Providence North\, 19021 120th Ave NE\, Bothell\, WA\, 98011
END:VEVENT
BEGIN:VEVENT
DTSTART;TZID=America/Los_Angeles:20250907T090000
DTEND;TZID=America/Los_Angeles:20250907T094000
DTSTAMP:20260424T202028
CREATED:20250925T215218Z
LAST-MODIFIED:20250930T011345Z
UID:10005494-1757235600-1757238000@trinitykirk.org
SUMMARY:9 AM Sunday School
DESCRIPTION:We will pick up in the Westminster Shorter Catechism in the section on the Ten Commandments. If you weren’t coming last year\, this is a perfect point to jump in as we are beginning a new section. As always\, the Sunday School is great to come week after week\, but works pretty well if you can only come occasionally. I will try to make it interesting for adults and kids alike.
URL:https://trinitykirk.org/event/9-am-sunday-school-9/2025-09-07/
LOCATION:Providence North\, 19021 120th Ave NE\, Bothell\, WA\, 98011
END:VEVENT
BEGIN:VEVENT
DTSTART;TZID=America/Los_Angeles:20250831T100000
DTEND;TZID=America/Los_Angeles:20250831T113000
DTSTAMP:20260424T202028
CREATED:20250925T214940Z
LAST-MODIFIED:20250925T214940Z
UID:10002972-1756634400-1756639800@trinitykirk.org
SUMMARY:10:00 AM Worship Service
DESCRIPTION:Everyone is welcome in this service of prayer\, praise\, and worship of God the Father\, through his Son Jesus Christ\, in the power of the Holy Spirit.
URL:https://trinitykirk.org/event/1000-am-worship-service-2/2025-08-31/
LOCATION:Providence North\, 19021 120th Ave NE\, Bothell\, WA\, 98011
END:VEVENT
END:VCALENDAR