BEGIN:VCALENDAR
VERSION:2.0
PRODID:-//Trinity Church - ECPv6.15.12.2//NONSGML v1.0//EN
CALSCALE:GREGORIAN
METHOD:PUBLISH
X-WR-CALNAME:Trinity Church
X-ORIGINAL-URL:https://trinitykirk.org
X-WR-CALDESC:Events for Trinity Church
REFRESH-INTERVAL;VALUE=DURATION:PT1H
X-Robots-Tag:noindex
X-PUBLISHED-TTL:PT1H
BEGIN:VTIMEZONE
TZID:America/Los_Angeles
BEGIN:DAYLIGHT
TZOFFSETFROM:-0800
TZOFFSETTO:-0700
TZNAME:PDT
DTSTART:20180311T100000
END:DAYLIGHT
BEGIN:STANDARD
TZOFFSETFROM:-0700
TZOFFSETTO:-0800
TZNAME:PST
DTSTART:20181104T090000
END:STANDARD
BEGIN:DAYLIGHT
TZOFFSETFROM:-0800
TZOFFSETTO:-0700
TZNAME:PDT
DTSTART:20190310T100000
END:DAYLIGHT
BEGIN:STANDARD
TZOFFSETFROM:-0700
TZOFFSETTO:-0800
TZNAME:PST
DTSTART:20191103T090000
END:STANDARD
BEGIN:DAYLIGHT
TZOFFSETFROM:-0800
TZOFFSETTO:-0700
TZNAME:PDT
DTSTART:20200308T100000
END:DAYLIGHT
BEGIN:STANDARD
TZOFFSETFROM:-0700
TZOFFSETTO:-0800
TZNAME:PST
DTSTART:20201101T090000
END:STANDARD
BEGIN:DAYLIGHT
TZOFFSETFROM:-0800
TZOFFSETTO:-0700
TZNAME:PDT
DTSTART:20210314T100000
END:DAYLIGHT
BEGIN:STANDARD
TZOFFSETFROM:-0700
TZOFFSETTO:-0800
TZNAME:PST
DTSTART:20211107T090000
END:STANDARD
END:VTIMEZONE
BEGIN:VEVENT
DTSTART;TZID=America/Los_Angeles:20200125T100000
DTEND;TZID=America/Los_Angeles:20200125T160000
DTSTAMP:20260424T184941
CREATED:20250925T214624Z
LAST-MODIFIED:20250925T214624Z
UID:10002464-1579946400-1579968000@trinitykirk.org
SUMMARY:10 AM Game Day
DESCRIPTION:This is a relaxed time to spend time together\, get to know each other\, and play some games.  We will have some simple ones and some that are more complex so that everyone can find something to enjoy. We will have some games available to borrow or try out\, and room for you to bring and play your own games (or puzzles).  It will be open from 10 am to 4 pm\, open house style – come for as little or as much of the time as works for you. \nBring your own lunch. \nIf you have questions check with Roger Rathbun
URL:https://trinitykirk.org/event/10-am-game-day-3/
LOCATION:Church Office
END:VEVENT
BEGIN:VEVENT
DTSTART;TZID=America/Los_Angeles:20191116T100000
DTEND;TZID=America/Los_Angeles:20191116T160000
DTSTAMP:20260424T184941
CREATED:20250925T214603Z
LAST-MODIFIED:20250925T214603Z
UID:10002255-1573898400-1573920000@trinitykirk.org
SUMMARY:10 AM Game Day
DESCRIPTION:This is a relaxed time to spend time together\, get to know each other\, and play some games.  We will have some simple ones and some that are more complex so that everyone can find something to enjoy. We will have some games available to borrow or try out\, and room for you to bring and play your own games. Bring your own lunch.
URL:https://trinitykirk.org/event/10-am-game-day-2/2019-11-16/
LOCATION:Church Office in Woodinville\, 14623 NE North Woodinville Way\, Suite 201\, Woodinville\, WA\, 98072
END:VEVENT
BEGIN:VEVENT
DTSTART;TZID=America/Los_Angeles:20190518T100000
DTEND;TZID=America/Los_Angeles:20190518T160000
DTSTAMP:20260424T184941
CREATED:20250925T214603Z
LAST-MODIFIED:20250925T214603Z
UID:10002254-1558173600-1558195200@trinitykirk.org
SUMMARY:10 AM Game Day
DESCRIPTION:This is a relaxed time to spend time together\, get to know each other\, and play some games.  We will have some simple ones and some that are more complex so that everyone can find something to enjoy. We will have some games available to borrow or try out\, and room for you to bring and play your own games. Bring your own lunch.
URL:https://trinitykirk.org/event/10-am-game-day-2/2019-05-18/
LOCATION:Church Office in Woodinville\, 14623 NE North Woodinville Way\, Suite 201\, Woodinville\, WA\, 98072
END:VEVENT
BEGIN:VEVENT
DTSTART;TZID=America/Los_Angeles:20190330T100000
DTEND;TZID=America/Los_Angeles:20190330T160000
DTSTAMP:20260424T184941
CREATED:20250925T214600Z
LAST-MODIFIED:20250925T214600Z
UID:10002202-1553940000-1553961600@trinitykirk.org
SUMMARY:10 AM Game Day
DESCRIPTION:This is a relaxed time to spend time together\, get to know each other\, and play some games.  We will have some simple ones and some that are more complex so that everyone can find something to enjoy. We will have some games available to borrow or try out\, and room for you to bring and play your own games. Bring your own lunch.
URL:https://trinitykirk.org/event/10-am-game-day/
LOCATION:Church Office in Woodinville\, 14623 NE North Woodinville Way\, Suite 201\, Woodinville\, WA\, 98072
END:VEVENT
END:VCALENDAR