BEGIN:VCALENDAR
VERSION:2.0
PRODID:-//Trinity Church - ECPv6.15.12.2//NONSGML v1.0//EN
CALSCALE:GREGORIAN
METHOD:PUBLISH
X-ORIGINAL-URL:https://trinitykirk.org
X-WR-CALDESC:Events for Trinity Church
REFRESH-INTERVAL;VALUE=DURATION:PT1H
X-Robots-Tag:noindex
X-PUBLISHED-TTL:PT1H
BEGIN:VTIMEZONE
TZID:America/Los_Angeles
BEGIN:DAYLIGHT
TZOFFSETFROM:-0800
TZOFFSETTO:-0700
TZNAME:PDT
DTSTART:20200308T100000
END:DAYLIGHT
BEGIN:STANDARD
TZOFFSETFROM:-0700
TZOFFSETTO:-0800
TZNAME:PST
DTSTART:20201101T090000
END:STANDARD
BEGIN:DAYLIGHT
TZOFFSETFROM:-0800
TZOFFSETTO:-0700
TZNAME:PDT
DTSTART:20210314T100000
END:DAYLIGHT
BEGIN:STANDARD
TZOFFSETFROM:-0700
TZOFFSETTO:-0800
TZNAME:PST
DTSTART:20211107T090000
END:STANDARD
BEGIN:DAYLIGHT
TZOFFSETFROM:-0800
TZOFFSETTO:-0700
TZNAME:PDT
DTSTART:20220313T100000
END:DAYLIGHT
BEGIN:STANDARD
TZOFFSETFROM:-0700
TZOFFSETTO:-0800
TZNAME:PST
DTSTART:20221106T090000
END:STANDARD
BEGIN:DAYLIGHT
TZOFFSETFROM:-0800
TZOFFSETTO:-0700
TZNAME:PDT
DTSTART:20230312T100000
END:DAYLIGHT
BEGIN:STANDARD
TZOFFSETFROM:-0700
TZOFFSETTO:-0800
TZNAME:PST
DTSTART:20231105T090000
END:STANDARD
BEGIN:DAYLIGHT
TZOFFSETFROM:-0800
TZOFFSETTO:-0700
TZNAME:PDT
DTSTART:20240310T100000
END:DAYLIGHT
BEGIN:STANDARD
TZOFFSETFROM:-0700
TZOFFSETTO:-0800
TZNAME:PST
DTSTART:20241103T090000
END:STANDARD
BEGIN:DAYLIGHT
TZOFFSETFROM:-0800
TZOFFSETTO:-0700
TZNAME:PDT
DTSTART:20250309T100000
END:DAYLIGHT
BEGIN:STANDARD
TZOFFSETFROM:-0700
TZOFFSETTO:-0800
TZNAME:PST
DTSTART:20251102T090000
END:STANDARD
BEGIN:DAYLIGHT
TZOFFSETFROM:-0800
TZOFFSETTO:-0700
TZNAME:PDT
DTSTART:20260308T100000
END:DAYLIGHT
BEGIN:STANDARD
TZOFFSETFROM:-0700
TZOFFSETTO:-0800
TZNAME:PST
DTSTART:20261101T090000
END:STANDARD
END:VTIMEZONE
BEGIN:VEVENT
DTSTART;TZID=America/Los_Angeles:20250731T190000
DTEND;TZID=America/Los_Angeles:20250731T203000
DTSTAMP:20260424T142038
CREATED:20250925T215215Z
LAST-MODIFIED:20250925T215215Z
UID:10005043-1753988400-1753993800@trinitykirk.org
SUMMARY:7 PM Trinity Student Fellowship
DESCRIPTION:Trinity Student Fellowship is for students entering grades 9-12.
URL:https://trinitykirk.org/event/7-pm-trinity-student-fellowship-5/
LOCATION:Bennett Home\, 2221 274th Ave NE\, Redmond\, WA\, 98075
END:VEVENT
BEGIN:VEVENT
DTSTART;TZID=America/Los_Angeles:20250717T190000
DTEND;TZID=America/Los_Angeles:20250717T203000
DTSTAMP:20260424T142038
CREATED:20250925T215214Z
LAST-MODIFIED:20250925T215214Z
UID:10005004-1752778800-1752784200@trinitykirk.org
SUMMARY:7 PM Trinity Student Fellowship
DESCRIPTION:Trinity Student Fellowship is for students entering grades 9-12.
URL:https://trinitykirk.org/event/7-pm-trinity-student-fellowship-2-2/
LOCATION:Bennett Home\, 2221 274th Ave NE\, Redmond\, WA\, 98075
END:VEVENT
BEGIN:VEVENT
DTSTART;TZID=America/Los_Angeles:20250228T190000
DTEND;TZID=America/Los_Angeles:20250228T190000
DTSTAMP:20260424T142038
CREATED:20250925T215203Z
LAST-MODIFIED:20250925T215203Z
UID:10004932-1740769200-1740769200@trinitykirk.org
SUMMARY:4 PM Girl's Book Club
DESCRIPTION:The girls will be discussing The Little White Horse by Elizabeth Goudge.  RSVP to Sarah Bennett.
URL:https://trinitykirk.org/event/4-pm-girls-book-club/
LOCATION:Bennett Home\, 2221 274th Ave NE\, Redmond\, WA\, 98075
END:VEVENT
BEGIN:VEVENT
DTSTART;TZID=America/Los_Angeles:20240509T190000
DTEND;TZID=America/Los_Angeles:20240509T200000
DTSTAMP:20260424T142038
CREATED:20250925T215049Z
LAST-MODIFIED:20250925T215049Z
UID:10004119-1715281200-1715284800@trinitykirk.org
SUMMARY:7 PM Ladies Book Club
DESCRIPTION:We will be discussing Phantastes by George MacDonald.   RSVP to Charlotta.
URL:https://trinitykirk.org/event/7-pm-ladies-book-club-4/
LOCATION:Bennett Home\, 2221 274th Ave NE\, Redmond\, WA\, 98075
END:VEVENT
BEGIN:VEVENT
DTSTART;TZID=America/Los_Angeles:20240307T190000
DTEND;TZID=America/Los_Angeles:20240307T210000
DTSTAMP:20260424T142038
CREATED:20250925T214958Z
LAST-MODIFIED:20250925T214958Z
UID:10003922-1709838000-1709845200@trinitykirk.org
SUMMARY:7 PM Ladies Book Club
DESCRIPTION:We will be discussing Brideshead Revisited by Evelyn Waug.  Please RSVP to Charolotta Bennett.
URL:https://trinitykirk.org/event/7-pm-ladies-book-club-3/
LOCATION:Bennett Home\, 2221 274th Ave NE\, Redmond\, WA\, 98075
END:VEVENT
BEGIN:VEVENT
DTSTART;TZID=America/Los_Angeles:20231005T190000
DTEND;TZID=America/Los_Angeles:20231005T190000
DTSTAMP:20260424T142038
CREATED:20250925T214947Z
LAST-MODIFIED:20250925T214947Z
UID:10003730-1696532400-1696532400@trinitykirk.org
SUMMARY:7 PM Women's Book Club
DESCRIPTION:Please join us to discuss C.S. Lewis’ Till We Have Faces on Thursday\, October 5th at 7:00 pm at the Bennett’s home. RSVP to Charlotta 425-655-9777. \nBring an appetizer or dessert to share.
URL:https://trinitykirk.org/event/7-pm-womens-book-club/
LOCATION:Bennett Home\, 2221 274th Ave NE\, Redmond\, WA\, 98075
END:VEVENT
BEGIN:VEVENT
DTSTART;TZID=America/Los_Angeles:20210824T193000
DTEND;TZID=America/Los_Angeles:20210824T210000
DTSTAMP:20260424T142038
CREATED:20250925T214731Z
LAST-MODIFIED:20250925T214731Z
UID:10002738-1629833400-1629838800@trinitykirk.org
SUMMARY:7:30 PM Trinity Student Fellowship (TSF)
DESCRIPTION:Trinity Student Fellowship (TSF) \nFor students high school age
URL:https://trinitykirk.org/event/trinity-student-fellowship-tsf-2021-08-24/
LOCATION:Bennett Home\, 2221 274th Ave NE\, Redmond\, WA\, 98075
END:VEVENT
END:VCALENDAR