BEGIN:VCALENDAR
VERSION:2.0
PRODID:-//Trinity Church - ECPv6.15.12.2//NONSGML v1.0//EN
CALSCALE:GREGORIAN
METHOD:PUBLISH
X-WR-CALNAME:Trinity Church
X-ORIGINAL-URL:https://trinitykirk.org
X-WR-CALDESC:Events for Trinity Church
REFRESH-INTERVAL;VALUE=DURATION:PT1H
X-Robots-Tag:noindex
X-PUBLISHED-TTL:PT1H
BEGIN:VTIMEZONE
TZID:America/Los_Angeles
BEGIN:DAYLIGHT
TZOFFSETFROM:-0800
TZOFFSETTO:-0700
TZNAME:PDT
DTSTART:20220313T100000
END:DAYLIGHT
BEGIN:STANDARD
TZOFFSETFROM:-0700
TZOFFSETTO:-0800
TZNAME:PST
DTSTART:20221106T090000
END:STANDARD
BEGIN:DAYLIGHT
TZOFFSETFROM:-0800
TZOFFSETTO:-0700
TZNAME:PDT
DTSTART:20230312T100000
END:DAYLIGHT
BEGIN:STANDARD
TZOFFSETFROM:-0700
TZOFFSETTO:-0800
TZNAME:PST
DTSTART:20231105T090000
END:STANDARD
BEGIN:DAYLIGHT
TZOFFSETFROM:-0800
TZOFFSETTO:-0700
TZNAME:PDT
DTSTART:20240310T100000
END:DAYLIGHT
BEGIN:STANDARD
TZOFFSETFROM:-0700
TZOFFSETTO:-0800
TZNAME:PST
DTSTART:20241103T090000
END:STANDARD
BEGIN:DAYLIGHT
TZOFFSETFROM:-0800
TZOFFSETTO:-0700
TZNAME:PDT
DTSTART:20250309T100000
END:DAYLIGHT
BEGIN:STANDARD
TZOFFSETFROM:-0700
TZOFFSETTO:-0800
TZNAME:PST
DTSTART:20251102T090000
END:STANDARD
END:VTIMEZONE
BEGIN:VEVENT
DTSTART;TZID=America/Los_Angeles:20241205T190000
DTEND;TZID=America/Los_Angeles:20241205T210000
DTSTAMP:20260424T182600
CREATED:20250925T215153Z
LAST-MODIFIED:20250925T215153Z
UID:10004727-1733425200-1733432400@trinitykirk.org
SUMMARY:7 PM Ladies Book Group
DESCRIPTION:We will be discussing The Everlasting Man by G. K. Chesterton. \nPlease RSVP to Charlotta.
URL:https://trinitykirk.org/event/7-pm-ladies-book-group-3/
LOCATION:Charlotta Bennett’s House\, 2221 274th Ave NE\, Redmond\, WA\, 98075\, United States
END:VEVENT
BEGIN:VEVENT
DTSTART;TZID=America/Los_Angeles:20240822T190000
DTEND;TZID=America/Los_Angeles:20240822T203000
DTSTAMP:20260424T182600
CREATED:20250925T215058Z
LAST-MODIFIED:20250925T215058Z
UID:10004377-1724353200-1724358600@trinitykirk.org
SUMMARY:7PM Ladies Book Club
DESCRIPTION:The ladies will be discussing East of Eden by John Steinbeck.  Please RSVP to Charlotta.
URL:https://trinitykirk.org/event/7pm-ladies-book-club/
LOCATION:Charlotta Bennett’s House\, 2221 274th Ave NE\, Redmond\, WA\, 98075\, United States
END:VEVENT
BEGIN:VEVENT
DTSTART;TZID=America/Los_Angeles:20240202T190000
DTEND;TZID=America/Los_Angeles:20240202T210000
DTSTAMP:20260424T182600
CREATED:20250925T214957Z
LAST-MODIFIED:20250925T214957Z
UID:10003840-1706900400-1706907600@trinitykirk.org
SUMMARY:7 PM Ladies Book Club
DESCRIPTION:We will be discussing Anna Karenina by Leo Tolstoy.  Please RSVP to Charolotta Bennett.
URL:https://trinitykirk.org/event/7-pm-ladies-book-club-2/
LOCATION:Charlotta Bennett’s House\, 2221 274th Ave NE\, Redmond\, WA\, 98075\, United States
END:VEVENT
BEGIN:VEVENT
DTSTART;VALUE=DATE:20230330
DTEND;VALUE=DATE:20230331
DTSTAMP:20260424T182600
CREATED:20250925T214925Z
LAST-MODIFIED:20250925T214925Z
UID:10003505-1680134400-1680220799@trinitykirk.org
SUMMARY:Ladies Book Club Dinner
DESCRIPTION:
URL:https://trinitykirk.org/event/ladies-book-club-dinner/
LOCATION:Charlotta Bennett’s House\, 2221 274th Ave NE\, Redmond\, WA\, 98075\, United States
END:VEVENT
END:VCALENDAR