BEGIN:VCALENDAR
VERSION:2.0
PRODID:-//Trinity Church - ECPv6.15.12.2//NONSGML v1.0//EN
CALSCALE:GREGORIAN
METHOD:PUBLISH
X-WR-CALNAME:Trinity Church
X-ORIGINAL-URL:https://trinitykirk.org
X-WR-CALDESC:Events for Trinity Church
REFRESH-INTERVAL;VALUE=DURATION:PT1H
X-Robots-Tag:noindex
X-PUBLISHED-TTL:PT1H
BEGIN:VTIMEZONE
TZID:America/Los_Angeles
BEGIN:DAYLIGHT
TZOFFSETFROM:-0800
TZOFFSETTO:-0700
TZNAME:PDT
DTSTART:20250309T100000
END:DAYLIGHT
BEGIN:STANDARD
TZOFFSETFROM:-0700
TZOFFSETTO:-0800
TZNAME:PST
DTSTART:20251102T090000
END:STANDARD
BEGIN:DAYLIGHT
TZOFFSETFROM:-0800
TZOFFSETTO:-0700
TZNAME:PDT
DTSTART:20260308T100000
END:DAYLIGHT
BEGIN:STANDARD
TZOFFSETFROM:-0700
TZOFFSETTO:-0800
TZNAME:PST
DTSTART:20261101T090000
END:STANDARD
BEGIN:DAYLIGHT
TZOFFSETFROM:-0800
TZOFFSETTO:-0700
TZNAME:PDT
DTSTART:20270314T100000
END:DAYLIGHT
BEGIN:STANDARD
TZOFFSETFROM:-0700
TZOFFSETTO:-0800
TZNAME:PST
DTSTART:20271107T090000
END:STANDARD
END:VTIMEZONE
BEGIN:VEVENT
DTSTART;TZID=America/Los_Angeles:20260429T203000
DTEND;TZID=America/Los_Angeles:20260429T223000
DTSTAMP:20260424T092153
CREATED:20250925T214600Z
LAST-MODIFIED:20260319T212540Z
UID:10005875-1777494600-1777501800@trinitykirk.org
SUMMARY:8:30 PM Elders Meeting
DESCRIPTION:
URL:https://trinitykirk.org/event/830-pm-elders-meeting/2026-04-29/
LOCATION:Church Office
CATEGORIES:Internal,Office
END:VEVENT
BEGIN:VEVENT
DTSTART;TZID=America/Los_Angeles:20260506T203000
DTEND;TZID=America/Los_Angeles:20260506T223000
DTSTAMP:20260424T092153
CREATED:20250925T214600Z
LAST-MODIFIED:20260319T212540Z
UID:10005876-1778099400-1778106600@trinitykirk.org
SUMMARY:8:30 PM Elders Meeting
DESCRIPTION:
URL:https://trinitykirk.org/event/830-pm-elders-meeting/2026-05-06/
LOCATION:Church Office
CATEGORIES:Internal,Office
END:VEVENT
BEGIN:VEVENT
DTSTART;TZID=America/Los_Angeles:20260520T203000
DTEND;TZID=America/Los_Angeles:20260520T223000
DTSTAMP:20260424T092153
CREATED:20250925T214600Z
LAST-MODIFIED:20260319T212540Z
UID:10005878-1779309000-1779316200@trinitykirk.org
SUMMARY:8:30 PM Elders Meeting
DESCRIPTION:
URL:https://trinitykirk.org/event/830-pm-elders-meeting/2026-05-20/
LOCATION:Church Office
CATEGORIES:Internal,Office
END:VEVENT
BEGIN:VEVENT
DTSTART;TZID=America/Los_Angeles:20260527T203000
DTEND;TZID=America/Los_Angeles:20260527T223000
DTSTAMP:20260424T092154
CREATED:20250925T214600Z
LAST-MODIFIED:20260319T212540Z
UID:10005879-1779913800-1779921000@trinitykirk.org
SUMMARY:8:30 PM Elders Meeting
DESCRIPTION:
URL:https://trinitykirk.org/event/830-pm-elders-meeting/2026-05-27/
LOCATION:Church Office
CATEGORIES:Internal,Office
END:VEVENT
BEGIN:VEVENT
DTSTART;TZID=America/Los_Angeles:20260603T203000
DTEND;TZID=America/Los_Angeles:20260603T223000
DTSTAMP:20260424T092154
CREATED:20250925T214600Z
LAST-MODIFIED:20260319T212540Z
UID:10005880-1780518600-1780525800@trinitykirk.org
SUMMARY:8:30 PM Elders Meeting
DESCRIPTION:
URL:https://trinitykirk.org/event/830-pm-elders-meeting/2026-06-03/
LOCATION:Church Office
CATEGORIES:Internal,Office
END:VEVENT
BEGIN:VEVENT
DTSTART;TZID=America/Los_Angeles:20260617T203000
DTEND;TZID=America/Los_Angeles:20260617T223000
DTSTAMP:20260424T092154
CREATED:20250925T214600Z
LAST-MODIFIED:20260319T212540Z
UID:10005882-1781728200-1781735400@trinitykirk.org
SUMMARY:8:30 PM Elders Meeting
DESCRIPTION:
URL:https://trinitykirk.org/event/830-pm-elders-meeting/2026-06-17/
LOCATION:Church Office
CATEGORIES:Internal,Office
END:VEVENT
BEGIN:VEVENT
DTSTART;TZID=America/Los_Angeles:20260624T203000
DTEND;TZID=America/Los_Angeles:20260624T223000
DTSTAMP:20260424T092154
CREATED:20250925T214600Z
LAST-MODIFIED:20260319T212540Z
UID:10005883-1782333000-1782340200@trinitykirk.org
SUMMARY:8:30 PM Elders Meeting
DESCRIPTION:
URL:https://trinitykirk.org/event/830-pm-elders-meeting/2026-06-24/
LOCATION:Church Office
CATEGORIES:Internal,Office
END:VEVENT
BEGIN:VEVENT
DTSTART;TZID=America/Los_Angeles:20260701T203000
DTEND;TZID=America/Los_Angeles:20260701T223000
DTSTAMP:20260424T092154
CREATED:20250925T214600Z
LAST-MODIFIED:20260319T212540Z
UID:10005884-1782937800-1782945000@trinitykirk.org
SUMMARY:8:30 PM Elders Meeting
DESCRIPTION:
URL:https://trinitykirk.org/event/830-pm-elders-meeting/2026-07-01/
LOCATION:Church Office
CATEGORIES:Internal,Office
END:VEVENT
BEGIN:VEVENT
DTSTART;TZID=America/Los_Angeles:20260715T203000
DTEND;TZID=America/Los_Angeles:20260715T223000
DTSTAMP:20260424T092154
CREATED:20250925T214600Z
LAST-MODIFIED:20260319T212540Z
UID:10005886-1784147400-1784154600@trinitykirk.org
SUMMARY:8:30 PM Elders Meeting
DESCRIPTION:
URL:https://trinitykirk.org/event/830-pm-elders-meeting/2026-07-15/
LOCATION:Church Office
CATEGORIES:Internal,Office
END:VEVENT
BEGIN:VEVENT
DTSTART;TZID=America/Los_Angeles:20260722T203000
DTEND;TZID=America/Los_Angeles:20260722T223000
DTSTAMP:20260424T092154
CREATED:20250925T214600Z
LAST-MODIFIED:20260319T212540Z
UID:10005887-1784752200-1784759400@trinitykirk.org
SUMMARY:8:30 PM Elders Meeting
DESCRIPTION:
URL:https://trinitykirk.org/event/830-pm-elders-meeting/2026-07-22/
LOCATION:Church Office
CATEGORIES:Internal,Office
END:VEVENT
BEGIN:VEVENT
DTSTART;TZID=America/Los_Angeles:20260729T203000
DTEND;TZID=America/Los_Angeles:20260729T223000
DTSTAMP:20260424T092154
CREATED:20250925T214600Z
LAST-MODIFIED:20260319T212540Z
UID:10005888-1785357000-1785364200@trinitykirk.org
SUMMARY:8:30 PM Elders Meeting
DESCRIPTION:
URL:https://trinitykirk.org/event/830-pm-elders-meeting/2026-07-29/
LOCATION:Church Office
CATEGORIES:Internal,Office
END:VEVENT
BEGIN:VEVENT
DTSTART;TZID=America/Los_Angeles:20260805T203000
DTEND;TZID=America/Los_Angeles:20260805T223000
DTSTAMP:20260424T092154
CREATED:20250925T214600Z
LAST-MODIFIED:20260319T212540Z
UID:10005889-1785961800-1785969000@trinitykirk.org
SUMMARY:8:30 PM Elders Meeting
DESCRIPTION:
URL:https://trinitykirk.org/event/830-pm-elders-meeting/2026-08-05/
LOCATION:Church Office
CATEGORIES:Internal,Office
END:VEVENT
BEGIN:VEVENT
DTSTART;TZID=America/Los_Angeles:20260819T203000
DTEND;TZID=America/Los_Angeles:20260819T223000
DTSTAMP:20260424T092154
CREATED:20250925T214600Z
LAST-MODIFIED:20260319T212540Z
UID:10005891-1787171400-1787178600@trinitykirk.org
SUMMARY:8:30 PM Elders Meeting
DESCRIPTION:
URL:https://trinitykirk.org/event/830-pm-elders-meeting/2026-08-19/
LOCATION:Church Office
CATEGORIES:Internal,Office
END:VEVENT
BEGIN:VEVENT
DTSTART;TZID=America/Los_Angeles:20260826T203000
DTEND;TZID=America/Los_Angeles:20260826T223000
DTSTAMP:20260424T092154
CREATED:20250925T214600Z
LAST-MODIFIED:20260319T212540Z
UID:10005892-1787776200-1787783400@trinitykirk.org
SUMMARY:8:30 PM Elders Meeting
DESCRIPTION:
URL:https://trinitykirk.org/event/830-pm-elders-meeting/2026-08-26/
LOCATION:Church Office
CATEGORIES:Internal,Office
END:VEVENT
BEGIN:VEVENT
DTSTART;TZID=America/Los_Angeles:20260902T203000
DTEND;TZID=America/Los_Angeles:20260902T223000
DTSTAMP:20260424T092154
CREATED:20250925T214600Z
LAST-MODIFIED:20260319T212540Z
UID:10005893-1788381000-1788388200@trinitykirk.org
SUMMARY:8:30 PM Elders Meeting
DESCRIPTION:
URL:https://trinitykirk.org/event/830-pm-elders-meeting/2026-09-02/
LOCATION:Church Office
CATEGORIES:Internal,Office
END:VEVENT
BEGIN:VEVENT
DTSTART;TZID=America/Los_Angeles:20260909T203000
DTEND;TZID=America/Los_Angeles:20260909T223000
DTSTAMP:20260424T092154
CREATED:20250925T214600Z
LAST-MODIFIED:20260319T212540Z
UID:10005894-1788985800-1788993000@trinitykirk.org
SUMMARY:8:30 PM Elders Meeting
DESCRIPTION:
URL:https://trinitykirk.org/event/830-pm-elders-meeting/2026-09-09/
LOCATION:Church Office
CATEGORIES:Internal,Office
END:VEVENT
BEGIN:VEVENT
DTSTART;TZID=America/Los_Angeles:20260916T203000
DTEND;TZID=America/Los_Angeles:20260916T223000
DTSTAMP:20260424T092154
CREATED:20250925T214600Z
LAST-MODIFIED:20260319T212540Z
UID:10005895-1789590600-1789597800@trinitykirk.org
SUMMARY:8:30 PM Elders Meeting
DESCRIPTION:
URL:https://trinitykirk.org/event/830-pm-elders-meeting/2026-09-16/
LOCATION:Church Office
CATEGORIES:Internal,Office
END:VEVENT
BEGIN:VEVENT
DTSTART;TZID=America/Los_Angeles:20260923T203000
DTEND;TZID=America/Los_Angeles:20260923T223000
DTSTAMP:20260424T092154
CREATED:20250925T214600Z
LAST-MODIFIED:20260319T212540Z
UID:10005896-1790195400-1790202600@trinitykirk.org
SUMMARY:8:30 PM Elders Meeting
DESCRIPTION:
URL:https://trinitykirk.org/event/830-pm-elders-meeting/2026-09-23/
LOCATION:Church Office
CATEGORIES:Internal,Office
END:VEVENT
BEGIN:VEVENT
DTSTART;TZID=America/Los_Angeles:20260930T203000
DTEND;TZID=America/Los_Angeles:20260930T223000
DTSTAMP:20260424T092154
CREATED:20250925T214600Z
LAST-MODIFIED:20260319T212540Z
UID:10005897-1790800200-1790807400@trinitykirk.org
SUMMARY:8:30 PM Elders Meeting
DESCRIPTION:
URL:https://trinitykirk.org/event/830-pm-elders-meeting/2026-09-30/
LOCATION:Church Office
CATEGORIES:Internal,Office
END:VEVENT
BEGIN:VEVENT
DTSTART;TZID=America/Los_Angeles:20261007T203000
DTEND;TZID=America/Los_Angeles:20261007T223000
DTSTAMP:20260424T092154
CREATED:20250925T214600Z
LAST-MODIFIED:20260319T212540Z
UID:10005898-1791405000-1791412200@trinitykirk.org
SUMMARY:8:30 PM Elders Meeting
DESCRIPTION:
URL:https://trinitykirk.org/event/830-pm-elders-meeting/2026-10-07/
LOCATION:Church Office
CATEGORIES:Internal,Office
END:VEVENT
BEGIN:VEVENT
DTSTART;TZID=America/Los_Angeles:20261014T203000
DTEND;TZID=America/Los_Angeles:20261014T223000
DTSTAMP:20260424T092154
CREATED:20250925T214600Z
LAST-MODIFIED:20260319T212540Z
UID:10005899-1792009800-1792017000@trinitykirk.org
SUMMARY:8:30 PM Elders Meeting
DESCRIPTION:
URL:https://trinitykirk.org/event/830-pm-elders-meeting/2026-10-14/
LOCATION:Church Office
CATEGORIES:Internal,Office
END:VEVENT
BEGIN:VEVENT
DTSTART;TZID=America/Los_Angeles:20261021T203000
DTEND;TZID=America/Los_Angeles:20261021T223000
DTSTAMP:20260424T092154
CREATED:20250925T214600Z
LAST-MODIFIED:20260319T212540Z
UID:10005900-1792614600-1792621800@trinitykirk.org
SUMMARY:8:30 PM Elders Meeting
DESCRIPTION:
URL:https://trinitykirk.org/event/830-pm-elders-meeting/2026-10-21/
LOCATION:Church Office
CATEGORIES:Internal,Office
END:VEVENT
BEGIN:VEVENT
DTSTART;TZID=America/Los_Angeles:20261028T203000
DTEND;TZID=America/Los_Angeles:20261028T223000
DTSTAMP:20260424T092154
CREATED:20250925T214600Z
LAST-MODIFIED:20260319T212540Z
UID:10005901-1793219400-1793226600@trinitykirk.org
SUMMARY:8:30 PM Elders Meeting
DESCRIPTION:
URL:https://trinitykirk.org/event/830-pm-elders-meeting/2026-10-28/
LOCATION:Church Office
CATEGORIES:Internal,Office
END:VEVENT
BEGIN:VEVENT
DTSTART;TZID=America/Los_Angeles:20261104T203000
DTEND;TZID=America/Los_Angeles:20261104T223000
DTSTAMP:20260424T092154
CREATED:20250925T214600Z
LAST-MODIFIED:20260319T212540Z
UID:10005902-1793824200-1793831400@trinitykirk.org
SUMMARY:8:30 PM Elders Meeting
DESCRIPTION:
URL:https://trinitykirk.org/event/830-pm-elders-meeting/2026-11-04/
LOCATION:Church Office
CATEGORIES:Internal,Office
END:VEVENT
BEGIN:VEVENT
DTSTART;TZID=America/Los_Angeles:20261111T203000
DTEND;TZID=America/Los_Angeles:20261111T223000
DTSTAMP:20260424T092154
CREATED:20250925T214600Z
LAST-MODIFIED:20260319T212540Z
UID:10005903-1794429000-1794436200@trinitykirk.org
SUMMARY:8:30 PM Elders Meeting
DESCRIPTION:
URL:https://trinitykirk.org/event/830-pm-elders-meeting/2026-11-11/
LOCATION:Church Office
CATEGORIES:Internal,Office
END:VEVENT
BEGIN:VEVENT
DTSTART;TZID=America/Los_Angeles:20261118T203000
DTEND;TZID=America/Los_Angeles:20261118T223000
DTSTAMP:20260424T092154
CREATED:20250925T214600Z
LAST-MODIFIED:20260319T212540Z
UID:10005904-1795033800-1795041000@trinitykirk.org
SUMMARY:8:30 PM Elders Meeting
DESCRIPTION:
URL:https://trinitykirk.org/event/830-pm-elders-meeting/2026-11-18/
LOCATION:Church Office
CATEGORIES:Internal,Office
END:VEVENT
BEGIN:VEVENT
DTSTART;TZID=America/Los_Angeles:20261125T203000
DTEND;TZID=America/Los_Angeles:20261125T223000
DTSTAMP:20260424T092154
CREATED:20250925T214600Z
LAST-MODIFIED:20260319T212540Z
UID:10005905-1795638600-1795645800@trinitykirk.org
SUMMARY:8:30 PM Elders Meeting
DESCRIPTION:
URL:https://trinitykirk.org/event/830-pm-elders-meeting/2026-11-25/
LOCATION:Church Office
CATEGORIES:Internal,Office
END:VEVENT
BEGIN:VEVENT
DTSTART;TZID=America/Los_Angeles:20261202T203000
DTEND;TZID=America/Los_Angeles:20261202T223000
DTSTAMP:20260424T092154
CREATED:20250925T214600Z
LAST-MODIFIED:20260319T212540Z
UID:10005906-1796243400-1796250600@trinitykirk.org
SUMMARY:8:30 PM Elders Meeting
DESCRIPTION:
URL:https://trinitykirk.org/event/830-pm-elders-meeting/2026-12-02/
LOCATION:Church Office
CATEGORIES:Internal,Office
END:VEVENT
BEGIN:VEVENT
DTSTART;TZID=America/Los_Angeles:20261209T203000
DTEND;TZID=America/Los_Angeles:20261209T223000
DTSTAMP:20260424T092154
CREATED:20250925T214600Z
LAST-MODIFIED:20260319T212540Z
UID:10005907-1796848200-1796855400@trinitykirk.org
SUMMARY:8:30 PM Elders Meeting
DESCRIPTION:
URL:https://trinitykirk.org/event/830-pm-elders-meeting/2026-12-09/
LOCATION:Church Office
CATEGORIES:Internal,Office
END:VEVENT
BEGIN:VEVENT
DTSTART;TZID=America/Los_Angeles:20261216T203000
DTEND;TZID=America/Los_Angeles:20261216T223000
DTSTAMP:20260424T092154
CREATED:20250925T214600Z
LAST-MODIFIED:20260319T212540Z
UID:10005908-1797453000-1797460200@trinitykirk.org
SUMMARY:8:30 PM Elders Meeting
DESCRIPTION:
URL:https://trinitykirk.org/event/830-pm-elders-meeting/2026-12-16/
LOCATION:Church Office
CATEGORIES:Internal,Office
END:VEVENT
END:VCALENDAR