BEGIN:VCALENDAR
VERSION:2.0
PRODID:-//Trinity Church - ECPv6.15.12.2//NONSGML v1.0//EN
CALSCALE:GREGORIAN
METHOD:PUBLISH
X-WR-CALNAME:Trinity Church
X-ORIGINAL-URL:https://trinitykirk.org
X-WR-CALDESC:Events for Trinity Church
REFRESH-INTERVAL;VALUE=DURATION:PT1H
X-Robots-Tag:noindex
X-PUBLISHED-TTL:PT1H
BEGIN:VTIMEZONE
TZID:America/Los_Angeles
BEGIN:DAYLIGHT
TZOFFSETFROM:-0800
TZOFFSETTO:-0700
TZNAME:PDT
DTSTART:20240310T100000
END:DAYLIGHT
BEGIN:STANDARD
TZOFFSETFROM:-0700
TZOFFSETTO:-0800
TZNAME:PST
DTSTART:20241103T090000
END:STANDARD
BEGIN:DAYLIGHT
TZOFFSETFROM:-0800
TZOFFSETTO:-0700
TZNAME:PDT
DTSTART:20250309T100000
END:DAYLIGHT
BEGIN:STANDARD
TZOFFSETFROM:-0700
TZOFFSETTO:-0800
TZNAME:PST
DTSTART:20251102T090000
END:STANDARD
BEGIN:DAYLIGHT
TZOFFSETFROM:-0800
TZOFFSETTO:-0700
TZNAME:PDT
DTSTART:20260308T100000
END:DAYLIGHT
BEGIN:STANDARD
TZOFFSETFROM:-0700
TZOFFSETTO:-0800
TZNAME:PST
DTSTART:20261101T090000
END:STANDARD
END:VTIMEZONE
BEGIN:VEVENT
DTSTART;TZID=America/Los_Angeles:20251022T203000
DTEND;TZID=America/Los_Angeles:20251022T223000
DTSTAMP:20260424T191219
CREATED:20250925T214600Z
LAST-MODIFIED:20260319T212540Z
UID:10001973-1761165000-1761172200@trinitykirk.org
SUMMARY:8:30 PM Elders Meeting
DESCRIPTION:
URL:https://trinitykirk.org/event/830-pm-elders-meeting/2025-10-22/
LOCATION:Church Office
CATEGORIES:Internal,Office
END:VEVENT
BEGIN:VEVENT
DTSTART;TZID=America/Los_Angeles:20251015T203000
DTEND;TZID=America/Los_Angeles:20251015T223000
DTSTAMP:20260424T191219
CREATED:20250925T214600Z
LAST-MODIFIED:20260319T212540Z
UID:10001972-1760560200-1760567400@trinitykirk.org
SUMMARY:8:30 PM Elders Meeting
DESCRIPTION:
URL:https://trinitykirk.org/event/830-pm-elders-meeting/2025-10-15/
LOCATION:Church Office
CATEGORIES:Internal,Office
END:VEVENT
BEGIN:VEVENT
DTSTART;TZID=America/Los_Angeles:20251008T203000
DTEND;TZID=America/Los_Angeles:20251008T223000
DTSTAMP:20260424T191219
CREATED:20250925T214600Z
LAST-MODIFIED:20260319T212540Z
UID:10001971-1759955400-1759962600@trinitykirk.org
SUMMARY:8:30 PM Elders Meeting
DESCRIPTION:
URL:https://trinitykirk.org/event/830-pm-elders-meeting/2025-10-08/
LOCATION:Church Office
CATEGORIES:Internal,Office
END:VEVENT
BEGIN:VEVENT
DTSTART;TZID=America/Los_Angeles:20251001T203000
DTEND;TZID=America/Los_Angeles:20251001T223000
DTSTAMP:20260424T191219
CREATED:20250925T214600Z
LAST-MODIFIED:20260319T212540Z
UID:10001970-1759350600-1759357800@trinitykirk.org
SUMMARY:8:30 PM Elders Meeting
DESCRIPTION:
URL:https://trinitykirk.org/event/830-pm-elders-meeting/2025-10-01/
LOCATION:Church Office
CATEGORIES:Internal,Office
END:VEVENT
BEGIN:VEVENT
DTSTART;TZID=America/Los_Angeles:20250924T203000
DTEND;TZID=America/Los_Angeles:20250924T223000
DTSTAMP:20260424T191219
CREATED:20250925T214600Z
LAST-MODIFIED:20260319T212540Z
UID:10001969-1758745800-1758753000@trinitykirk.org
SUMMARY:8:30 PM Elders Meeting
DESCRIPTION:
URL:https://trinitykirk.org/event/830-pm-elders-meeting/2025-09-24/
LOCATION:Church Office
CATEGORIES:Internal,Office
END:VEVENT
BEGIN:VEVENT
DTSTART;TZID=America/Los_Angeles:20250917T203000
DTEND;TZID=America/Los_Angeles:20250917T223000
DTSTAMP:20260424T191219
CREATED:20250925T214600Z
LAST-MODIFIED:20260319T212540Z
UID:10001968-1758141000-1758148200@trinitykirk.org
SUMMARY:8:30 PM Elders Meeting
DESCRIPTION:
URL:https://trinitykirk.org/event/830-pm-elders-meeting/2025-09-17/
LOCATION:Church Office
CATEGORIES:Internal,Office
END:VEVENT
BEGIN:VEVENT
DTSTART;TZID=America/Los_Angeles:20250910T203000
DTEND;TZID=America/Los_Angeles:20250910T223000
DTSTAMP:20260424T191219
CREATED:20250925T214600Z
LAST-MODIFIED:20260319T212540Z
UID:10001967-1757536200-1757543400@trinitykirk.org
SUMMARY:8:30 PM Elders Meeting
DESCRIPTION:
URL:https://trinitykirk.org/event/830-pm-elders-meeting/2025-09-10/
LOCATION:Church Office
CATEGORIES:Internal,Office
END:VEVENT
BEGIN:VEVENT
DTSTART;TZID=America/Los_Angeles:20250903T203000
DTEND;TZID=America/Los_Angeles:20250903T223000
DTSTAMP:20260424T191219
CREATED:20250925T214600Z
LAST-MODIFIED:20260319T212540Z
UID:10001966-1756931400-1756938600@trinitykirk.org
SUMMARY:8:30 PM Elders Meeting
DESCRIPTION:
URL:https://trinitykirk.org/event/830-pm-elders-meeting/2025-09-03/
LOCATION:Church Office
CATEGORIES:Internal,Office
END:VEVENT
BEGIN:VEVENT
DTSTART;TZID=America/Los_Angeles:20250827T203000
DTEND;TZID=America/Los_Angeles:20250827T223000
DTSTAMP:20260424T191219
CREATED:20250925T214600Z
LAST-MODIFIED:20260319T212540Z
UID:10001965-1756326600-1756333800@trinitykirk.org
SUMMARY:8:30 PM Elders Meeting
DESCRIPTION:
URL:https://trinitykirk.org/event/830-pm-elders-meeting/2025-08-27/
LOCATION:Church Office
CATEGORIES:Internal,Office
END:VEVENT
BEGIN:VEVENT
DTSTART;TZID=America/Los_Angeles:20250820T203000
DTEND;TZID=America/Los_Angeles:20250820T223000
DTSTAMP:20260424T191219
CREATED:20250925T214600Z
LAST-MODIFIED:20260319T212540Z
UID:10001964-1755721800-1755729000@trinitykirk.org
SUMMARY:8:30 PM Elders Meeting
DESCRIPTION:
URL:https://trinitykirk.org/event/830-pm-elders-meeting/2025-08-20/
LOCATION:Church Office
CATEGORIES:Internal,Office
END:VEVENT
BEGIN:VEVENT
DTSTART;TZID=America/Los_Angeles:20250813T203000
DTEND;TZID=America/Los_Angeles:20250813T223000
DTSTAMP:20260424T191219
CREATED:20250925T214600Z
LAST-MODIFIED:20260319T212540Z
UID:10001963-1755117000-1755124200@trinitykirk.org
SUMMARY:8:30 PM Elders Meeting
DESCRIPTION:
URL:https://trinitykirk.org/event/830-pm-elders-meeting/2025-08-13/
LOCATION:Church Office
CATEGORIES:Internal,Office
END:VEVENT
BEGIN:VEVENT
DTSTART;TZID=America/Los_Angeles:20250806T203000
DTEND;TZID=America/Los_Angeles:20250806T223000
DTSTAMP:20260424T191219
CREATED:20250925T214600Z
LAST-MODIFIED:20260319T212540Z
UID:10001962-1754512200-1754519400@trinitykirk.org
SUMMARY:8:30 PM Elders Meeting
DESCRIPTION:
URL:https://trinitykirk.org/event/830-pm-elders-meeting/2025-08-06/
LOCATION:Church Office
CATEGORIES:Internal,Office
END:VEVENT
BEGIN:VEVENT
DTSTART;TZID=America/Los_Angeles:20250730T203000
DTEND;TZID=America/Los_Angeles:20250730T223000
DTSTAMP:20260424T191219
CREATED:20250925T214600Z
LAST-MODIFIED:20260319T212540Z
UID:10001961-1753907400-1753914600@trinitykirk.org
SUMMARY:8:30 PM Elders Meeting
DESCRIPTION:
URL:https://trinitykirk.org/event/830-pm-elders-meeting/2025-07-30/
LOCATION:Church Office
CATEGORIES:Internal,Office
END:VEVENT
BEGIN:VEVENT
DTSTART;TZID=America/Los_Angeles:20250723T203000
DTEND;TZID=America/Los_Angeles:20250723T223000
DTSTAMP:20260424T191219
CREATED:20250925T214600Z
LAST-MODIFIED:20260319T212540Z
UID:10001960-1753302600-1753309800@trinitykirk.org
SUMMARY:8:30 PM Elders Meeting
DESCRIPTION:
URL:https://trinitykirk.org/event/830-pm-elders-meeting/2025-07-23/
LOCATION:Church Office
CATEGORIES:Internal,Office
END:VEVENT
BEGIN:VEVENT
DTSTART;TZID=America/Los_Angeles:20250716T203000
DTEND;TZID=America/Los_Angeles:20250716T223000
DTSTAMP:20260424T191219
CREATED:20250925T214600Z
LAST-MODIFIED:20260319T212540Z
UID:10001959-1752697800-1752705000@trinitykirk.org
SUMMARY:8:30 PM Elders Meeting
DESCRIPTION:
URL:https://trinitykirk.org/event/830-pm-elders-meeting/2025-07-16/
LOCATION:Church Office
CATEGORIES:Internal,Office
END:VEVENT
BEGIN:VEVENT
DTSTART;TZID=America/Los_Angeles:20250709T203000
DTEND;TZID=America/Los_Angeles:20250709T223000
DTSTAMP:20260424T191219
CREATED:20250925T214600Z
LAST-MODIFIED:20260319T212540Z
UID:10001958-1752093000-1752100200@trinitykirk.org
SUMMARY:8:30 PM Elders Meeting
DESCRIPTION:
URL:https://trinitykirk.org/event/830-pm-elders-meeting/2025-07-09/
LOCATION:Church Office
CATEGORIES:Internal,Office
END:VEVENT
BEGIN:VEVENT
DTSTART;TZID=America/Los_Angeles:20250702T203000
DTEND;TZID=America/Los_Angeles:20250702T223000
DTSTAMP:20260424T191219
CREATED:20250925T214600Z
LAST-MODIFIED:20260319T212540Z
UID:10001957-1751488200-1751495400@trinitykirk.org
SUMMARY:8:30 PM Elders Meeting
DESCRIPTION:
URL:https://trinitykirk.org/event/830-pm-elders-meeting/2025-07-02/
LOCATION:Church Office
CATEGORIES:Internal,Office
END:VEVENT
BEGIN:VEVENT
DTSTART;TZID=America/Los_Angeles:20250625T203000
DTEND;TZID=America/Los_Angeles:20250625T223000
DTSTAMP:20260424T191219
CREATED:20250925T214600Z
LAST-MODIFIED:20260319T212540Z
UID:10001956-1750883400-1750890600@trinitykirk.org
SUMMARY:8:30 PM Elders Meeting
DESCRIPTION:
URL:https://trinitykirk.org/event/830-pm-elders-meeting/2025-06-25/
LOCATION:Church Office
CATEGORIES:Internal,Office
END:VEVENT
BEGIN:VEVENT
DTSTART;TZID=America/Los_Angeles:20250618T203000
DTEND;TZID=America/Los_Angeles:20250618T223000
DTSTAMP:20260424T191219
CREATED:20250925T214600Z
LAST-MODIFIED:20260319T212540Z
UID:10001955-1750278600-1750285800@trinitykirk.org
SUMMARY:8:30 PM Elders Meeting
DESCRIPTION:
URL:https://trinitykirk.org/event/830-pm-elders-meeting/2025-06-18/
LOCATION:Church Office
CATEGORIES:Internal,Office
END:VEVENT
BEGIN:VEVENT
DTSTART;TZID=America/Los_Angeles:20250611T203000
DTEND;TZID=America/Los_Angeles:20250611T223000
DTSTAMP:20260424T191219
CREATED:20250925T214600Z
LAST-MODIFIED:20260319T212540Z
UID:10001954-1749673800-1749681000@trinitykirk.org
SUMMARY:8:30 PM Elders Meeting
DESCRIPTION:
URL:https://trinitykirk.org/event/830-pm-elders-meeting/2025-06-11/
LOCATION:Church Office
CATEGORIES:Internal,Office
END:VEVENT
BEGIN:VEVENT
DTSTART;TZID=America/Los_Angeles:20250604T203000
DTEND;TZID=America/Los_Angeles:20250604T223000
DTSTAMP:20260424T191219
CREATED:20250925T214600Z
LAST-MODIFIED:20260319T212540Z
UID:10001953-1749069000-1749076200@trinitykirk.org
SUMMARY:8:30 PM Elders Meeting
DESCRIPTION:
URL:https://trinitykirk.org/event/830-pm-elders-meeting/2025-06-04/
LOCATION:Church Office
CATEGORIES:Internal,Office
END:VEVENT
BEGIN:VEVENT
DTSTART;TZID=America/Los_Angeles:20250528T203000
DTEND;TZID=America/Los_Angeles:20250528T223000
DTSTAMP:20260424T191219
CREATED:20250925T214600Z
LAST-MODIFIED:20260319T212540Z
UID:10001952-1748464200-1748471400@trinitykirk.org
SUMMARY:8:30 PM Elders Meeting
DESCRIPTION:
URL:https://trinitykirk.org/event/830-pm-elders-meeting/2025-05-28/
LOCATION:Church Office
CATEGORIES:Internal,Office
END:VEVENT
BEGIN:VEVENT
DTSTART;TZID=America/Los_Angeles:20250521T203000
DTEND;TZID=America/Los_Angeles:20250521T223000
DTSTAMP:20260424T191219
CREATED:20250925T214600Z
LAST-MODIFIED:20260319T212540Z
UID:10001951-1747859400-1747866600@trinitykirk.org
SUMMARY:8:30 PM Elders Meeting
DESCRIPTION:
URL:https://trinitykirk.org/event/830-pm-elders-meeting/2025-05-21/
LOCATION:Church Office
CATEGORIES:Internal,Office
END:VEVENT
BEGIN:VEVENT
DTSTART;TZID=America/Los_Angeles:20250514T203000
DTEND;TZID=America/Los_Angeles:20250514T223000
DTSTAMP:20260424T191219
CREATED:20250925T214600Z
LAST-MODIFIED:20260319T212540Z
UID:10001950-1747254600-1747261800@trinitykirk.org
SUMMARY:8:30 PM Elders Meeting
DESCRIPTION:
URL:https://trinitykirk.org/event/830-pm-elders-meeting/2025-05-14/
LOCATION:Church Office
CATEGORIES:Internal,Office
END:VEVENT
BEGIN:VEVENT
DTSTART;TZID=America/Los_Angeles:20250507T203000
DTEND;TZID=America/Los_Angeles:20250507T223000
DTSTAMP:20260424T191219
CREATED:20250925T214600Z
LAST-MODIFIED:20260319T212540Z
UID:10001949-1746649800-1746657000@trinitykirk.org
SUMMARY:8:30 PM Elders Meeting
DESCRIPTION:
URL:https://trinitykirk.org/event/830-pm-elders-meeting/2025-05-07/
LOCATION:Church Office
CATEGORIES:Internal,Office
END:VEVENT
BEGIN:VEVENT
DTSTART;TZID=America/Los_Angeles:20250430T203000
DTEND;TZID=America/Los_Angeles:20250430T223000
DTSTAMP:20260424T191219
CREATED:20250925T214600Z
LAST-MODIFIED:20260319T212540Z
UID:10001948-1746045000-1746052200@trinitykirk.org
SUMMARY:8:30 PM Elders Meeting
DESCRIPTION:
URL:https://trinitykirk.org/event/830-pm-elders-meeting/2025-04-30/
LOCATION:Church Office
CATEGORIES:Internal,Office
END:VEVENT
BEGIN:VEVENT
DTSTART;TZID=America/Los_Angeles:20250423T203000
DTEND;TZID=America/Los_Angeles:20250423T223000
DTSTAMP:20260424T191219
CREATED:20250925T214600Z
LAST-MODIFIED:20260319T212540Z
UID:10001947-1745440200-1745447400@trinitykirk.org
SUMMARY:8:30 PM Elders Meeting
DESCRIPTION:
URL:https://trinitykirk.org/event/830-pm-elders-meeting/2025-04-23/
LOCATION:Church Office
CATEGORIES:Internal,Office
END:VEVENT
BEGIN:VEVENT
DTSTART;TZID=America/Los_Angeles:20250416T203000
DTEND;TZID=America/Los_Angeles:20250416T223000
DTSTAMP:20260424T191219
CREATED:20250925T214600Z
LAST-MODIFIED:20260319T212540Z
UID:10001946-1744835400-1744842600@trinitykirk.org
SUMMARY:8:30 PM Elders Meeting
DESCRIPTION:
URL:https://trinitykirk.org/event/830-pm-elders-meeting/2025-04-16/
LOCATION:Church Office
CATEGORIES:Internal,Office
END:VEVENT
BEGIN:VEVENT
DTSTART;TZID=America/Los_Angeles:20250413T190000
DTEND;TZID=America/Los_Angeles:20250413T203000
DTSTAMP:20260424T191219
CREATED:20250925T215145Z
LAST-MODIFIED:20250925T215145Z
UID:10004928-1744570800-1744576200@trinitykirk.org
SUMMARY:7 PM Men's Meeting
DESCRIPTION:This Fall\, we will begin working through Westminster Confession of Faith in our monthly Men’s Meetings. Chapter by chapter\, the Protestant and Reformed Faith will be laid out with much glorious detail as we review and discuss this Confession. You can read the WCF here\, or pick up a copy of it on your own. There will be a few copies available to pick up at church as well. \nIf you want to read some commentaries on the WCF\, I recommend Douglas Wilsons “Westminster Systematics” for a clear and brief commentary and notes on the Confession. If you would like to dig deeper\, I recommend A.A. Hodge’s “The Confession of Faith.” Both can be found at Amazon or other book dealers. \nIf you are new to the Reformed faith\, this will be a great help for you. If you are steeped in the tradition then you already know what a great review and reminder this document is for the church and for personal life. You will not regret the time given to studying this together.
URL:https://trinitykirk.org/event/7-pm-mens-meeting-8/2025-04-13/
LOCATION:Church Office
CATEGORIES:Office
END:VEVENT
BEGIN:VEVENT
DTSTART;TZID=America/Los_Angeles:20250409T203000
DTEND;TZID=America/Los_Angeles:20250409T223000
DTSTAMP:20260424T191219
CREATED:20250925T214600Z
LAST-MODIFIED:20260319T212540Z
UID:10005856-1744230600-1744237800@trinitykirk.org
SUMMARY:8:30 PM Elders Meeting
DESCRIPTION:
URL:https://trinitykirk.org/event/830-pm-elders-meeting/2025-04-09/
LOCATION:Church Office
CATEGORIES:Internal,Office
END:VEVENT
END:VCALENDAR