BEGIN:VCALENDAR
VERSION:2.0
PRODID:-//Trinity Church - ECPv6.15.12.2//NONSGML v1.0//EN
CALSCALE:GREGORIAN
METHOD:PUBLISH
X-WR-CALNAME:Trinity Church
X-ORIGINAL-URL:https://trinitykirk.org
X-WR-CALDESC:Events for Trinity Church
REFRESH-INTERVAL;VALUE=DURATION:PT1H
X-Robots-Tag:noindex
X-PUBLISHED-TTL:PT1H
BEGIN:VTIMEZONE
TZID:America/Los_Angeles
BEGIN:DAYLIGHT
TZOFFSETFROM:-0800
TZOFFSETTO:-0700
TZNAME:PDT
DTSTART:20180311T100000
END:DAYLIGHT
BEGIN:STANDARD
TZOFFSETFROM:-0700
TZOFFSETTO:-0800
TZNAME:PST
DTSTART:20181104T090000
END:STANDARD
BEGIN:DAYLIGHT
TZOFFSETFROM:-0800
TZOFFSETTO:-0700
TZNAME:PDT
DTSTART:20190310T100000
END:DAYLIGHT
BEGIN:STANDARD
TZOFFSETFROM:-0700
TZOFFSETTO:-0800
TZNAME:PST
DTSTART:20191103T090000
END:STANDARD
BEGIN:DAYLIGHT
TZOFFSETFROM:-0800
TZOFFSETTO:-0700
TZNAME:PDT
DTSTART:20200308T100000
END:DAYLIGHT
BEGIN:STANDARD
TZOFFSETFROM:-0700
TZOFFSETTO:-0800
TZNAME:PST
DTSTART:20201101T090000
END:STANDARD
BEGIN:DAYLIGHT
TZOFFSETFROM:-0800
TZOFFSETTO:-0700
TZNAME:PDT
DTSTART:20210314T100000
END:DAYLIGHT
BEGIN:STANDARD
TZOFFSETFROM:-0700
TZOFFSETTO:-0800
TZNAME:PST
DTSTART:20211107T090000
END:STANDARD
BEGIN:DAYLIGHT
TZOFFSETFROM:-0800
TZOFFSETTO:-0700
TZNAME:PDT
DTSTART:20220313T100000
END:DAYLIGHT
BEGIN:STANDARD
TZOFFSETFROM:-0700
TZOFFSETTO:-0800
TZNAME:PST
DTSTART:20221106T090000
END:STANDARD
BEGIN:DAYLIGHT
TZOFFSETFROM:-0800
TZOFFSETTO:-0700
TZNAME:PDT
DTSTART:20230312T100000
END:DAYLIGHT
BEGIN:STANDARD
TZOFFSETFROM:-0700
TZOFFSETTO:-0800
TZNAME:PST
DTSTART:20231105T090000
END:STANDARD
END:VTIMEZONE
BEGIN:VEVENT
DTSTART;TZID=America/Los_Angeles:20221009T190000
DTEND;TZID=America/Los_Angeles:20221009T210000
DTSTAMP:20260424T185937
CREATED:20250925T214915Z
LAST-MODIFIED:20250925T214915Z
UID:10003239-1665342000-1665349200@trinitykirk.org
SUMMARY:7 PM Ladies Fellowship
DESCRIPTION:We will be watching and discussing the film version of Eve in Exile t as well as emphasizing good fellowship as we get to know one another better\, and welcome new friends.
URL:https://trinitykirk.org/event/7-pm-ladies-fellowship-7/
LOCATION:Dave Hatcher Home\, 19520 112th Dr. SE\, Snohomish\, WA\, 98296
END:VEVENT
BEGIN:VEVENT
DTSTART;TZID=America/Los_Angeles:20220717T180000
DTEND;TZID=America/Los_Angeles:20220717T180000
DTSTAMP:20260424T185937
CREATED:20250925T214753Z
LAST-MODIFIED:20250925T214753Z
UID:10003201-1658080800-1658080800@trinitykirk.org
SUMMARY:6PM Dinner and Psalm Sing
DESCRIPTION:Hi Trinity Family! \nWe would like you all to join us for the July 17 Psalm Sing.  We will meet at the Hatcher Property at 6:00 for a BBQ\, fellowship\, and singing.  The forecast looks great! \nIf you think you will be joining\, would you please RSVP to Kim\, hatchk6@gmail.com\, so we know how much food to purchase.  Along those lines\, please bring a side dish if able. Otherwise\, food/beverage will be provided. Bring some chairs to sit in outside and a CC2020 if you have one. \nHope to see you there! \nThe Hatchers
URL:https://trinitykirk.org/event/6pm-dinner-and-psalm-sing/
LOCATION:Dave Hatcher Home\, 19520 112th Dr. SE\, Snohomish\, WA\, 98296
END:VEVENT
BEGIN:VEVENT
DTSTART;TZID=America/Los_Angeles:20220612T183000
DTEND;TZID=America/Los_Angeles:20220612T203000
DTSTAMP:20260424T185937
CREATED:20250925T214750Z
LAST-MODIFIED:20250925T214750Z
UID:10003185-1655058600-1655065800@trinitykirk.org
SUMMARY:6:30 PM Men's Meeting BBQ
DESCRIPTION:Please join us for a BBQ dinner\, singing\, and fellowship\, at Dave Hatcher’s house on Sunday evening\, June 12th\, 6:30pm. We will provide the food and drinks – bring a CC2020 if you have one and come party with us. God is good. RSVP to hatch@trinitykirk.org would be helpful for a head count.
URL:https://trinitykirk.org/event/630-pm-mens-meeting-bbq/
LOCATION:Dave Hatcher Home\, 19520 112th Dr. SE\, Snohomish\, WA\, 98296
END:VEVENT
BEGIN:VEVENT
DTSTART;TZID=America/Los_Angeles:20220430T100000
DTEND;TZID=America/Los_Angeles:20220430T120000
DTSTAMP:20260424T185937
CREATED:20250925T214750Z
LAST-MODIFIED:20250925T214750Z
UID:10003179-1651312800-1651320000@trinitykirk.org
SUMMARY:10 AM Pates Bridal Shower
DESCRIPTION:In Honor of Victoria Pates \nRSVP to Barbara Beasley by Wed\, April 20th \nRegistry on Theknot.com and Amazon.com \nFor group gift\, contact Lisa Edwards. \nPlease bring a recipe card with a favorite recipe to share with Victoria. \n 
URL:https://trinitykirk.org/event/10-am-bridal-shower/
LOCATION:Dave Hatcher Home\, 19520 112th Dr. SE\, Snohomish\, WA\, 98296
END:VEVENT
BEGIN:VEVENT
DTSTART;TZID=America/Los_Angeles:20211023T083000
DTEND;TZID=America/Los_Angeles:20211023T113000
DTSTAMP:20260424T185937
CREATED:20250925T214737Z
LAST-MODIFIED:20250925T214737Z
UID:10003102-1634977800-1634988600@trinitykirk.org
SUMMARY:8:30 AM Foundations Class
DESCRIPTION:FOUNDATIONS CLASS \nWondering what Trinity Church is all about?  Wondering about where we came from and what the CREC is? Interested in asking questions of the pastor and elders about doctrine\, distinctives\, and why we do things the way we do? Interested in becoming a member at the church and getting more plugged in? \nThen sign up to come to our Foundations Class.  We will meet on Saturday morning\, October 23rd\, from 8:30 – 11:30 (breakfast included!) at Dave and Kim Hatcher’s home. Fellowship\, Theology\, Philosophy of Ministry\, Distinctives\, and plenty of coffee. (Foundations Class is not a prerequisite for membership but often answers the questions and provides the forum for asking all the questions people are interested in when considering membership). \nEmail hatch@trinitykirk.org if you would like to sign up. (Kids welcome if they can handle that long). \n 
URL:https://trinitykirk.org/event/830-am-foundations-class/
LOCATION:Dave Hatcher Home\, 19520 112th Dr. SE\, Snohomish\, WA\, 98296
END:VEVENT
BEGIN:VEVENT
DTSTART;TZID=America/Los_Angeles:20210924T180000
DTEND;TZID=America/Los_Angeles:20210924T210000
DTSTAMP:20260424T185937
CREATED:20250925T214733Z
LAST-MODIFIED:20250925T214733Z
UID:10003085-1632506400-1632517200@trinitykirk.org
SUMMARY:6 PM JTSF Heidelfest Prep & Fellowship
DESCRIPTION:Calling all JTSF’ers! Mrs. Hatcher needs help husking 500 ears of corn for Heidelfest. We thought “many hands make light work” and of course there will be fun\, food and fellowship too! \nPizza dinner provided.  RSVP to Leslie Poole.
URL:https://trinitykirk.org/event/6-pm-jtsf-heidelfest-prep-fellowship/
LOCATION:Dave Hatcher Home\, 19520 112th Dr. SE\, Snohomish\, WA\, 98296
END:VEVENT
BEGIN:VEVENT
DTSTART;TZID=America/Los_Angeles:20210327T080000
DTEND;TZID=America/Los_Angeles:20210327T120000
DTSTAMP:20260424T185937
CREATED:20250925T214721Z
LAST-MODIFIED:20250925T214721Z
UID:10002689-1616832000-1616846400@trinitykirk.org
SUMMARY:8 AM A Redeemed Culture Conference
DESCRIPTION:We acknowledge that Jesus is Lord. But to what extent? As we look around us at a culture that largely rejects His Lordship\, have we lost? As we see the church in America increasingly back away from the Lordship of Christ\, is there hope that our country and our culture can be redeemed? Spoiler alert: yes\, there is. And if so\, how can we as the next generation dig in and build a culture that loves the Lord and desires to see all nations submit to Him? \nThese are some of the questions and topics we’ll be discussing at this conference. So please\, register below and join us. We would love for you to be a part of this. \nWho: 18-30 year olds (give or take…)\nWhen: March 26 (Friday night) and March 27 (Saturday morning)\nWhere: Dave Hatcher home \nSchedule:\nFriday night\n– 6pm – Dinner\n– 7pm – First Session: Can a Culture Be Redeemed?\n– 8pm – Second Session: A Theology of Culture\n– 9pm – Q&A and discussion \nSaturday morning\n– 8am – Breakfast\n– 9am – Third Session: Culture and the Cross\n– 10am – Fourth Session: Go and Take Dominion; or How the Kingdom Grows\n– 11am – Q&A and discussion
URL:https://trinitykirk.org/event/8-am-a-redeemed-culture-conference/
LOCATION:Dave Hatcher Home\, 19520 112th Dr. SE\, Snohomish\, WA\, 98296
END:VEVENT
BEGIN:VEVENT
DTSTART;TZID=America/Los_Angeles:20210326T180000
DTEND;TZID=America/Los_Angeles:20210326T220000
DTSTAMP:20260424T185937
CREATED:20250925T214721Z
LAST-MODIFIED:20250925T214721Z
UID:10002688-1616781600-1616796000@trinitykirk.org
SUMMARY:6 PM A Redeemed Culture Conference
DESCRIPTION:We acknowledge that Jesus is Lord. But to what extent? As we look around us at a culture that largely rejects His Lordship\, have we lost? As we see the church in America increasingly back away from the Lordship of Christ\, is there hope that our country and our culture can be redeemed? Spoiler alert: yes\, there is. And if so\, how can we as the next generation dig in and build a culture that loves the Lord and desires to see all nations submit to Him? \nThese are some of the questions and topics we’ll be discussing at this conference. So please\, register below and join us. We would love for you to be a part of this. \nWho: 18-30 year olds (give or take…)\nWhen: March 26 (Friday night) and March 27 (Saturday morning)\nWhere: Dave Hatcher home \nSchedule:\nFriday night\n– 6pm – Dinner\n– 7pm – First Session: Can a Culture Be Redeemed?\n– 8pm – Second Session: A Theology of Culture\n– 9pm – Q&A and discussion \nSaturday morning\n– 8am – Breakfast\n– 9am – Third Session: Culture and the Cross\n– 10am – Fourth Session: Go and Take Dominion; or How the Kingdom Grows\n– 11am – Q&A and discussion
URL:https://trinitykirk.org/event/6-pm-a-redeemed-culture-conference/
LOCATION:Dave Hatcher Home\, 19520 112th Dr. SE\, Snohomish\, WA\, 98296
END:VEVENT
BEGIN:VEVENT
DTSTART;TZID=America/Los_Angeles:20200720T190000
DTEND;TZID=America/Los_Angeles:20200720T200000
DTSTAMP:20260424T185937
CREATED:20250925T214704Z
LAST-MODIFIED:20250925T214704Z
UID:10002537-1595271600-1595275200@trinitykirk.org
SUMMARY:7 PM Psalm Sing
DESCRIPTION:Please join us on Monday July 20th at 7 PM for a Psalm Sing at the Hatcher’s property at 19520 112th Dr SE Snohomish WA 98296 for an outdoor Psalm sing. \nPlease park your family’s vehicle down below or up in our driveway (but not on the grass).  Bring some lawn chairs or a blanket for your family to sit on and please respect one another’s social distancing desires or needs.
URL:https://trinitykirk.org/event/7-pm-psalm-sing/
LOCATION:Dave Hatcher Home\, 19520 112th Dr. SE\, Snohomish\, WA\, 98296
END:VEVENT
BEGIN:VEVENT
DTSTART;TZID=America/Los_Angeles:20200623T193000
DTEND;TZID=America/Los_Angeles:20200623T210000
DTSTAMP:20260424T185937
CREATED:20250925T214701Z
LAST-MODIFIED:20250925T214701Z
UID:10002529-1592940600-1592946000@trinitykirk.org
SUMMARY:7:30 PM Men's Meeting
DESCRIPTION:Men\, join us for beer and brats\, psalm-singing and chapters 5-7 of “War Psalms of the Prince of Peace.”  We will probably go until 9 or so… \nRSVP to me at hatch@trinitykirk.org – and bring your own Cantus Christi if you have one.
URL:https://trinitykirk.org/event/7-pm-mens-meeting-2020-05-17-2020-06-23/
LOCATION:Dave Hatcher Home\, 19520 112th Dr. SE\, Snohomish\, WA\, 98296
END:VEVENT
BEGIN:VEVENT
DTSTART;TZID=America/Los_Angeles:20190920T190000
DTEND;TZID=America/Los_Angeles:20190920T210000
DTSTAMP:20260424T185937
CREATED:20250925T214617Z
LAST-MODIFIED:20250925T214617Z
UID:10002367-1569006000-1569013200@trinitykirk.org
SUMMARY:7 PM Baby Shower
DESCRIPTION:Honoring Titus Meerdink & Baby LaCroix! \nRSVP & group gift to Julie Letsche. \n2019 Meerdink LaCroix Shower
URL:https://trinitykirk.org/event/7-pm-baby-shower/
LOCATION:Dave Hatcher Home\, 19520 112th Dr. SE\, Snohomish\, WA\, 98296
END:VEVENT
BEGIN:VEVENT
DTSTART;TZID=America/Los_Angeles:20190824T100000
DTEND;TZID=America/Los_Angeles:20190824T150000
DTSTAMP:20260424T185937
CREATED:20250925T214615Z
LAST-MODIFIED:20250925T214615Z
UID:10002312-1566640800-1566658800@trinitykirk.org
SUMMARY:10 AM Creating Friends
DESCRIPTION:An all-day FREE event! \n  \nCreating Friends is FREE and open to any child or young adult impacted by disability\, regardless of their age\, as well as any siblings or friends (includes children of adult volunteers) between the ages of 4 and 12*.\nAs a ministry of Trinity Church and Emmanuel Church\, it is our hope that every participant\, no matter what their beliefs\, will experience Jesus’ love and care through this event.  We believe wholeheartedly that all are created in God’s image and for His glory\, and therefore pledge to treat each and every one of our participants with the same love\, dignity and care that we have been given through Him – we truly hope you’ll join us!\n*Siblings older than 12 are welcome by request and depending on space\, and many enjoy serving as volunteers – please don’t hesitate to ask if you have a unique situation!\nFor more info\, registration\, or to volunteer\, click here.
URL:https://trinitykirk.org/event/10-am-creating-friends/
LOCATION:Dave Hatcher Home\, 19520 112th Dr. SE\, Snohomish\, WA\, 98296
END:VEVENT
END:VCALENDAR