BEGIN:VCALENDAR
VERSION:2.0
PRODID:-//Trinity Church - ECPv6.15.12.2//NONSGML v1.0//EN
CALSCALE:GREGORIAN
METHOD:PUBLISH
X-ORIGINAL-URL:https://trinitykirk.org
X-WR-CALDESC:Events for Trinity Church
REFRESH-INTERVAL;VALUE=DURATION:PT1H
X-Robots-Tag:noindex
X-PUBLISHED-TTL:PT1H
BEGIN:VTIMEZONE
TZID:America/Los_Angeles
BEGIN:DAYLIGHT
TZOFFSETFROM:-0800
TZOFFSETTO:-0700
TZNAME:PDT
DTSTART:20200308T100000
END:DAYLIGHT
BEGIN:STANDARD
TZOFFSETFROM:-0700
TZOFFSETTO:-0800
TZNAME:PST
DTSTART:20201101T090000
END:STANDARD
BEGIN:DAYLIGHT
TZOFFSETFROM:-0800
TZOFFSETTO:-0700
TZNAME:PDT
DTSTART:20210314T100000
END:DAYLIGHT
BEGIN:STANDARD
TZOFFSETFROM:-0700
TZOFFSETTO:-0800
TZNAME:PST
DTSTART:20211107T090000
END:STANDARD
BEGIN:DAYLIGHT
TZOFFSETFROM:-0800
TZOFFSETTO:-0700
TZNAME:PDT
DTSTART:20220313T100000
END:DAYLIGHT
BEGIN:STANDARD
TZOFFSETFROM:-0700
TZOFFSETTO:-0800
TZNAME:PST
DTSTART:20221106T090000
END:STANDARD
BEGIN:DAYLIGHT
TZOFFSETFROM:-0800
TZOFFSETTO:-0700
TZNAME:PDT
DTSTART:20230312T100000
END:DAYLIGHT
BEGIN:STANDARD
TZOFFSETFROM:-0700
TZOFFSETTO:-0800
TZNAME:PST
DTSTART:20231105T090000
END:STANDARD
BEGIN:DAYLIGHT
TZOFFSETFROM:-0800
TZOFFSETTO:-0700
TZNAME:PDT
DTSTART:20240310T100000
END:DAYLIGHT
BEGIN:STANDARD
TZOFFSETFROM:-0700
TZOFFSETTO:-0800
TZNAME:PST
DTSTART:20241103T090000
END:STANDARD
BEGIN:DAYLIGHT
TZOFFSETFROM:-0800
TZOFFSETTO:-0700
TZNAME:PDT
DTSTART:20250309T100000
END:DAYLIGHT
BEGIN:STANDARD
TZOFFSETFROM:-0700
TZOFFSETTO:-0800
TZNAME:PST
DTSTART:20251102T090000
END:STANDARD
BEGIN:DAYLIGHT
TZOFFSETFROM:-0800
TZOFFSETTO:-0700
TZNAME:PDT
DTSTART:20260308T100000
END:DAYLIGHT
BEGIN:STANDARD
TZOFFSETFROM:-0700
TZOFFSETTO:-0800
TZNAME:PST
DTSTART:20261101T090000
END:STANDARD
BEGIN:DAYLIGHT
TZOFFSETFROM:-0800
TZOFFSETTO:-0700
TZNAME:PDT
DTSTART:20270314T100000
END:DAYLIGHT
BEGIN:STANDARD
TZOFFSETFROM:-0700
TZOFFSETTO:-0800
TZNAME:PST
DTSTART:20271107T090000
END:STANDARD
END:VTIMEZONE
BEGIN:VEVENT
DTSTART;TZID=America/Los_Angeles:20260129T190000
DTEND;TZID=America/Los_Angeles:20260129T203000
DTSTAMP:20260424T170904
CREATED:20260126T212834Z
LAST-MODIFIED:20260126T212834Z
UID:10006124-1769713200-1769718600@trinitykirk.org
SUMMARY:7 PM Ruiz Baby Shower
DESCRIPTION:We know this is short notice\, but we want to celebrate Kelli and Baby Millie!\nShe is not in need of baby items\, but if you would like to bring a gift\, her registry is linked below. \nKelli’s Baby Millie Registry \n 
URL:https://trinitykirk.org/event/7-pm-ruiz-baby-shower/
LOCATION:Sally Hess home\, 14603 NE 179th Street\, Woodinville\, WA
END:VEVENT
BEGIN:VEVENT
DTSTART;TZID=America/Los_Angeles:20210811T193000
DTEND;TZID=America/Los_Angeles:20210811T193000
DTSTAMP:20260424T170904
CREATED:20250925T214731Z
LAST-MODIFIED:20250925T214731Z
UID:10002743-1628710200-1628710200@trinitykirk.org
SUMMARY:7:30 PM Hess Baby Shower
DESCRIPTION:Please rsvp to Kim Hatcher.
URL:https://trinitykirk.org/event/730-pm-hess-baby-shower/
LOCATION:Sally Hess home\, 14603 NE 179th Street\, Woodinville\, WA
END:VEVENT
BEGIN:VEVENT
DTSTART;TZID=America/Los_Angeles:20210727T193000
DTEND;TZID=America/Los_Angeles:20210727T210000
DTSTAMP:20260424T170904
CREATED:20250925T214729Z
LAST-MODIFIED:20250925T214729Z
UID:10002736-1627414200-1627419600@trinitykirk.org
SUMMARY:7:30 PM Trinity Student Fellowship (TSF)
DESCRIPTION:Trinity Student Fellowship (TSF) \nFor students high school age
URL:https://trinitykirk.org/event/trinity-student-fellowship-tsf-2021-07-27/
LOCATION:Sally Hess home\, 14603 NE 179th Street\, Woodinville\, WA
END:VEVENT
END:VCALENDAR