BEGIN:VCALENDAR
VERSION:2.0
PRODID:-//Trinity Church - ECPv6.15.12.2//NONSGML v1.0//EN
CALSCALE:GREGORIAN
METHOD:PUBLISH
X-ORIGINAL-URL:https://trinitykirk.org
X-WR-CALDESC:Events for Trinity Church
REFRESH-INTERVAL;VALUE=DURATION:PT1H
X-Robots-Tag:noindex
X-PUBLISHED-TTL:PT1H
BEGIN:VTIMEZONE
TZID:America/Los_Angeles
BEGIN:DAYLIGHT
TZOFFSETFROM:-0800
TZOFFSETTO:-0700
TZNAME:PDT
DTSTART:20210314T100000
END:DAYLIGHT
BEGIN:STANDARD
TZOFFSETFROM:-0700
TZOFFSETTO:-0800
TZNAME:PST
DTSTART:20211107T090000
END:STANDARD
BEGIN:DAYLIGHT
TZOFFSETFROM:-0800
TZOFFSETTO:-0700
TZNAME:PDT
DTSTART:20220313T100000
END:DAYLIGHT
BEGIN:STANDARD
TZOFFSETFROM:-0700
TZOFFSETTO:-0800
TZNAME:PST
DTSTART:20221106T090000
END:STANDARD
BEGIN:DAYLIGHT
TZOFFSETFROM:-0800
TZOFFSETTO:-0700
TZNAME:PDT
DTSTART:20230312T100000
END:DAYLIGHT
BEGIN:STANDARD
TZOFFSETFROM:-0700
TZOFFSETTO:-0800
TZNAME:PST
DTSTART:20231105T090000
END:STANDARD
BEGIN:DAYLIGHT
TZOFFSETFROM:-0800
TZOFFSETTO:-0700
TZNAME:PDT
DTSTART:20240310T100000
END:DAYLIGHT
BEGIN:STANDARD
TZOFFSETFROM:-0700
TZOFFSETTO:-0800
TZNAME:PST
DTSTART:20241103T090000
END:STANDARD
END:VTIMEZONE
BEGIN:VEVENT
DTSTART;TZID=America/Los_Angeles:20231220T113000
DTEND;TZID=America/Los_Angeles:20231220T130000
DTSTAMP:20260424T212022
CREATED:20250925T214947Z
LAST-MODIFIED:20250925T214947Z
UID:10003751-1703071800-1703077200@trinitykirk.org
SUMMARY:11:30 AM Young Mom's Study
DESCRIPTION:The Young Mom’s Study is targeted for moms with littles (roughly newborn – pre-K). \nLunch will be provided for the moms\, but please bring food for your littles. Check in with Kim about details on high chairs\, if you need one. \nThe plan is to provide you with encouragement and perspective in the midst of the world-shaking work that is mothering. \nIf you are planning on attending\, or have questions\, contact Kim Hatcher.
URL:https://trinitykirk.org/event/1130-am-young-moms-study/2023-12-20/
LOCATION:Kim Hatcher’s Home
END:VEVENT
BEGIN:VEVENT
DTSTART;TZID=America/Los_Angeles:20231206T113000
DTEND;TZID=America/Los_Angeles:20231206T130000
DTSTAMP:20260424T212022
CREATED:20250925T214947Z
LAST-MODIFIED:20250925T214947Z
UID:10003750-1701862200-1701867600@trinitykirk.org
SUMMARY:11:30 AM Young Mom's Study
DESCRIPTION:The Young Mom’s Study is targeted for moms with littles (roughly newborn – pre-K). \nLunch will be provided for the moms\, but please bring food for your littles. Check in with Kim about details on high chairs\, if you need one. \nThe plan is to provide you with encouragement and perspective in the midst of the world-shaking work that is mothering. \nIf you are planning on attending\, or have questions\, contact Kim Hatcher.
URL:https://trinitykirk.org/event/1130-am-young-moms-study/2023-12-06/
LOCATION:Kim Hatcher’s Home
END:VEVENT
BEGIN:VEVENT
DTSTART;TZID=America/Los_Angeles:20231115T113000
DTEND;TZID=America/Los_Angeles:20231115T130000
DTSTAMP:20260424T212022
CREATED:20250925T214947Z
LAST-MODIFIED:20250925T214947Z
UID:10003749-1700047800-1700053200@trinitykirk.org
SUMMARY:11:30 AM Young Mom's Study
DESCRIPTION:The Young Mom’s Study is targeted for moms with littles (roughly newborn – pre-K). \nLunch will be provided for the moms\, but please bring food for your littles. Check in with Kim about details on high chairs\, if you need one. \nThe plan is to provide you with encouragement and perspective in the midst of the world-shaking work that is mothering. \nIf you are planning on attending\, or have questions\, contact Kim Hatcher.
URL:https://trinitykirk.org/event/1130-am-young-moms-study/2023-11-15/
LOCATION:Kim Hatcher’s Home
END:VEVENT
BEGIN:VEVENT
DTSTART;TZID=America/Los_Angeles:20231111T100000
DTEND;TZID=America/Los_Angeles:20231111T120000
DTSTAMP:20260424T212022
CREATED:20250925T214949Z
LAST-MODIFIED:20250925T214949Z
UID:10003778-1699696800-1699704000@trinitykirk.org
SUMMARY:10 AM Kelli Hess Bridal Shower
DESCRIPTION:Kelli is registered at Amazon. \nPlease RSVP to Sarah Chaney. \nGroup gift option is available.
URL:https://trinitykirk.org/event/10-am-kelli-hess-wedding-shower/
LOCATION:Kim Hatcher’s Home
END:VEVENT
BEGIN:VEVENT
DTSTART;TZID=America/Los_Angeles:20231101T113000
DTEND;TZID=America/Los_Angeles:20231101T130000
DTSTAMP:20260424T212022
CREATED:20250925T214947Z
LAST-MODIFIED:20250925T214947Z
UID:10003748-1698838200-1698843600@trinitykirk.org
SUMMARY:11:30 AM Young Mom's Study
DESCRIPTION:The Young Mom’s Study is targeted for moms with littles (roughly newborn – pre-K). \nLunch will be provided for the moms\, but please bring food for your littles. Check in with Kim about details on high chairs\, if you need one. \nThe plan is to provide you with encouragement and perspective in the midst of the world-shaking work that is mothering. \nIf you are planning on attending\, or have questions\, contact Kim Hatcher.
URL:https://trinitykirk.org/event/1130-am-young-moms-study/2023-11-01/
LOCATION:Kim Hatcher’s Home
END:VEVENT
BEGIN:VEVENT
DTSTART;TZID=America/Los_Angeles:20231026T190000
DTEND;TZID=America/Los_Angeles:20231026T210000
DTSTAMP:20260424T212022
CREATED:20250925T214946Z
LAST-MODIFIED:20250925T214946Z
UID:10003742-1698346800-1698354000@trinitykirk.org
SUMMARY:7 PM Ladies Fellowship
DESCRIPTION:The ladies are reading Kitchen Table Counseling by Muriel Cook.  Feel free to bring along friends!
URL:https://trinitykirk.org/event/7-pm-ladies-fellowship-9/2023-10-26/
LOCATION:Kim Hatcher’s Home
END:VEVENT
BEGIN:VEVENT
DTSTART;TZID=America/Los_Angeles:20231018T113000
DTEND;TZID=America/Los_Angeles:20231018T130000
DTSTAMP:20260424T212022
CREATED:20250925T214947Z
LAST-MODIFIED:20250925T214947Z
UID:10003747-1697628600-1697634000@trinitykirk.org
SUMMARY:11:30 AM Young Mom's Study
DESCRIPTION:The Young Mom’s Study is targeted for moms with littles (roughly newborn – pre-K). \nLunch will be provided for the moms\, but please bring food for your littles. Check in with Kim about details on high chairs\, if you need one. \nThe plan is to provide you with encouragement and perspective in the midst of the world-shaking work that is mothering. \nIf you are planning on attending\, or have questions\, contact Kim Hatcher.
URL:https://trinitykirk.org/event/1130-am-young-moms-study/2023-10-18/
LOCATION:Kim Hatcher’s Home
END:VEVENT
BEGIN:VEVENT
DTSTART;TZID=America/Los_Angeles:20231004T113000
DTEND;TZID=America/Los_Angeles:20231004T130000
DTSTAMP:20260424T212022
CREATED:20250925T214947Z
LAST-MODIFIED:20250925T214947Z
UID:10003746-1696419000-1696424400@trinitykirk.org
SUMMARY:11:30 AM Young Mom's Study
DESCRIPTION:The Young Mom’s Study is targeted for moms with littles (roughly newborn – pre-K). \nLunch will be provided for the moms\, but please bring food for your littles. Check in with Kim about details on high chairs\, if you need one. \nThe plan is to provide you with encouragement and perspective in the midst of the world-shaking work that is mothering. \nIf you are planning on attending\, or have questions\, contact Kim Hatcher.
URL:https://trinitykirk.org/event/1130-am-young-moms-study/2023-10-04/
LOCATION:Kim Hatcher’s Home
END:VEVENT
BEGIN:VEVENT
DTSTART;TZID=America/Los_Angeles:20230921T190000
DTEND;TZID=America/Los_Angeles:20230921T210000
DTSTAMP:20260424T212022
CREATED:20250925T214946Z
LAST-MODIFIED:20250925T214946Z
UID:10003741-1695322800-1695330000@trinitykirk.org
SUMMARY:7 PM Ladies Fellowship
DESCRIPTION:The ladies are reading Kitchen Table Counseling by Muriel Cook.  Feel free to bring along friends!
URL:https://trinitykirk.org/event/7-pm-ladies-fellowship-9/2023-09-21/
LOCATION:Kim Hatcher’s Home
END:VEVENT
BEGIN:VEVENT
DTSTART;TZID=America/Los_Angeles:20230920T113000
DTEND;TZID=America/Los_Angeles:20230920T130000
DTSTAMP:20260424T212022
CREATED:20250925T214947Z
LAST-MODIFIED:20250925T214947Z
UID:10003745-1695209400-1695214800@trinitykirk.org
SUMMARY:11:30 AM Young Mom's Study
DESCRIPTION:The Young Mom’s Study is targeted for moms with littles (roughly newborn – pre-K). \nLunch will be provided for the moms\, but please bring food for your littles. Check in with Kim about details on high chairs\, if you need one. \nThe plan is to provide you with encouragement and perspective in the midst of the world-shaking work that is mothering. \nIf you are planning on attending\, or have questions\, contact Kim Hatcher.
URL:https://trinitykirk.org/event/1130-am-young-moms-study/2023-09-20/
LOCATION:Kim Hatcher’s Home
END:VEVENT
BEGIN:VEVENT
DTSTART;TZID=America/Los_Angeles:20230520T093000
DTEND;TZID=America/Los_Angeles:20230520T113000
DTSTAMP:20260424T212022
CREATED:20250925T214930Z
LAST-MODIFIED:20250925T214930Z
UID:10003532-1684575000-1684582200@trinitykirk.org
SUMMARY:9:30 AM Ladies Fellowship Breakfast
DESCRIPTION:Ladies\, \nPlease join us for a Ladies Fellowship breakfast\, Saturday May 20th\, 9:30 at the Hatcher (Dave and Kim) home.  Quiche will be the main feature: we will be both partaking of\, and watching a demo for a fabulous new quiche recipe! Come…. and bring a friend!
URL:https://trinitykirk.org/event/930-am-ladies-fellowship-breakfast/
LOCATION:Kim Hatcher’s Home
END:VEVENT
BEGIN:VEVENT
DTSTART;TZID=America/Los_Angeles:20230222T100000
DTEND;TZID=America/Los_Angeles:20230222T113000
DTSTAMP:20260424T212022
CREATED:20250925T214918Z
LAST-MODIFIED:20250925T214918Z
UID:10003359-1677060000-1677065400@trinitykirk.org
SUMMARY:10 AM Young Mom's Book Study
DESCRIPTION:If you are a young mom\, new mom\, or soon to be mom\, please join us to read and discuss together Loving the Little Years by Rachel Jankovic. Questions? Contact Kim Hatcher.
URL:https://trinitykirk.org/event/10-am-young-moms-book-study-2/2023-02-22/
LOCATION:Kim Hatcher’s Home
END:VEVENT
BEGIN:VEVENT
DTSTART;TZID=America/Los_Angeles:20230218T100000
DTEND;TZID=America/Los_Angeles:20230218T120000
DTSTAMP:20260424T212022
CREATED:20250925T214923Z
LAST-MODIFIED:20250925T214923Z
UID:10003499-1676714400-1676721600@trinitykirk.org
SUMMARY:10 AM Baby Shower
DESCRIPTION:Please join us for a baby shower for Julia Alexander. \nGift Registry: https://www.babylist.com/uuiesqejm \n  \n 
URL:https://trinitykirk.org/event/10-am-baby-shower-2/
LOCATION:Kim Hatcher’s Home
END:VEVENT
BEGIN:VEVENT
DTSTART;TZID=America/Los_Angeles:20230215T100000
DTEND;TZID=America/Los_Angeles:20230215T113000
DTSTAMP:20260424T212022
CREATED:20250925T214918Z
LAST-MODIFIED:20250925T214918Z
UID:10003358-1676455200-1676460600@trinitykirk.org
SUMMARY:10 AM Young Mom's Book Study
DESCRIPTION:If you are a young mom\, new mom\, or soon to be mom\, please join us to read and discuss together Loving the Little Years by Rachel Jankovic. Questions? Contact Kim Hatcher.
URL:https://trinitykirk.org/event/10-am-young-moms-book-study-2/2023-02-15/
LOCATION:Kim Hatcher’s Home
END:VEVENT
BEGIN:VEVENT
DTSTART;TZID=America/Los_Angeles:20230208T100000
DTEND;TZID=America/Los_Angeles:20230208T113000
DTSTAMP:20260424T212022
CREATED:20250925T214918Z
LAST-MODIFIED:20250925T214918Z
UID:10003357-1675850400-1675855800@trinitykirk.org
SUMMARY:10 AM Young Mom's Book Study
DESCRIPTION:If you are a young mom\, new mom\, or soon to be mom\, please join us to read and discuss together Loving the Little Years by Rachel Jankovic. Questions? Contact Kim Hatcher.
URL:https://trinitykirk.org/event/10-am-young-moms-book-study-2/2023-02-08/
LOCATION:Kim Hatcher’s Home
END:VEVENT
BEGIN:VEVENT
DTSTART;TZID=America/Los_Angeles:20230201T100000
DTEND;TZID=America/Los_Angeles:20230201T113000
DTSTAMP:20260424T212022
CREATED:20250925T214918Z
LAST-MODIFIED:20250925T214918Z
UID:10003356-1675245600-1675251000@trinitykirk.org
SUMMARY:10 AM Young Mom's Book Study
DESCRIPTION:If you are a young mom\, new mom\, or soon to be mom\, please join us to read and discuss together Loving the Little Years by Rachel Jankovic. Questions? Contact Kim Hatcher.
URL:https://trinitykirk.org/event/10-am-young-moms-book-study-2/2023-02-01/
LOCATION:Kim Hatcher’s Home
END:VEVENT
BEGIN:VEVENT
DTSTART;TZID=America/Los_Angeles:20230125T100000
DTEND;TZID=America/Los_Angeles:20230125T113000
DTSTAMP:20260424T212022
CREATED:20250925T214918Z
LAST-MODIFIED:20250925T214918Z
UID:10003355-1674640800-1674646200@trinitykirk.org
SUMMARY:10 AM Young Mom's Book Study
DESCRIPTION:If you are a young mom\, new mom\, or soon to be mom\, please join us to read and discuss together Loving the Little Years by Rachel Jankovic. Questions? Contact Kim Hatcher.
URL:https://trinitykirk.org/event/10-am-young-moms-book-study-2/2023-01-25/
LOCATION:Kim Hatcher’s Home
END:VEVENT
BEGIN:VEVENT
DTSTART;TZID=America/Los_Angeles:20230118T100000
DTEND;TZID=America/Los_Angeles:20230118T113000
DTSTAMP:20260424T212022
CREATED:20250925T214918Z
LAST-MODIFIED:20250925T214918Z
UID:10003354-1674036000-1674041400@trinitykirk.org
SUMMARY:10 AM Young Mom's Book Study
DESCRIPTION:If you are a young mom\, new mom\, or soon to be mom\, please join us to read and discuss together Loving the Little Years by Rachel Jankovic. Questions? Contact Kim Hatcher.
URL:https://trinitykirk.org/event/10-am-young-moms-book-study-2/2023-01-18/
LOCATION:Kim Hatcher’s Home
END:VEVENT
BEGIN:VEVENT
DTSTART;TZID=America/Los_Angeles:20230115T190000
DTEND;TZID=America/Los_Angeles:20230115T210000
DTSTAMP:20260424T212022
CREATED:20250925T214920Z
LAST-MODIFIED:20250925T214920Z
UID:10003351-1673809200-1673816400@trinitykirk.org
SUMMARY:7 PM Ladies Fellowship
DESCRIPTION:
URL:https://trinitykirk.org/event/7-pm-ladies-fellowship-8/
LOCATION:Kim Hatcher’s Home
END:VEVENT
BEGIN:VEVENT
DTSTART;TZID=America/Los_Angeles:20230111T100000
DTEND;TZID=America/Los_Angeles:20230111T113000
DTSTAMP:20260424T212022
CREATED:20250925T214918Z
LAST-MODIFIED:20250925T214918Z
UID:10003353-1673431200-1673436600@trinitykirk.org
SUMMARY:10 AM Young Mom's Book Study
DESCRIPTION:If you are a young mom\, new mom\, or soon to be mom\, please join us to read and discuss together Loving the Little Years by Rachel Jankovic. Questions? Contact Kim Hatcher.
URL:https://trinitykirk.org/event/10-am-young-moms-book-study-2/2023-01-11/
LOCATION:Kim Hatcher’s Home
END:VEVENT
BEGIN:VEVENT
DTSTART;TZID=America/Los_Angeles:20230104T100000
DTEND;TZID=America/Los_Angeles:20230104T113000
DTSTAMP:20260424T212022
CREATED:20250925T214918Z
LAST-MODIFIED:20250925T214918Z
UID:10003352-1672826400-1672831800@trinitykirk.org
SUMMARY:10 AM Young Mom's Book Study
DESCRIPTION:If you are a young mom\, new mom\, or soon to be mom\, please join us to read and discuss together Loving the Little Years by Rachel Jankovic. Questions? Contact Kim Hatcher.
URL:https://trinitykirk.org/event/10-am-young-moms-book-study-2/2023-01-04/
LOCATION:Kim Hatcher’s Home
END:VEVENT
BEGIN:VEVENT
DTSTART;TZID=America/Los_Angeles:20221026T100000
DTEND;TZID=America/Los_Angeles:20221026T113000
DTSTAMP:20260424T212022
CREATED:20250925T214913Z
LAST-MODIFIED:20250925T214913Z
UID:10003247-1666778400-1666783800@trinitykirk.org
SUMMARY:10 AM Young Mom's Book Study
DESCRIPTION:If you are a young mom\, new mom\, or soon to be mom\, please join us to read and discuss together Praise Her in the Gates by Nancy Wilson. Questions? Contact Kim Hatcher.
URL:https://trinitykirk.org/event/10-am-young-moms-book-study/2022-10-26/
LOCATION:Kim Hatcher’s Home
END:VEVENT
BEGIN:VEVENT
DTSTART;TZID=America/Los_Angeles:20221019T100000
DTEND;TZID=America/Los_Angeles:20221019T113000
DTSTAMP:20260424T212022
CREATED:20250925T214913Z
LAST-MODIFIED:20250925T214913Z
UID:10003246-1666173600-1666179000@trinitykirk.org
SUMMARY:10 AM Young Mom's Book Study
DESCRIPTION:If you are a young mom\, new mom\, or soon to be mom\, please join us to read and discuss together Praise Her in the Gates by Nancy Wilson. Questions? Contact Kim Hatcher.
URL:https://trinitykirk.org/event/10-am-young-moms-book-study/2022-10-19/
LOCATION:Kim Hatcher’s Home
END:VEVENT
BEGIN:VEVENT
DTSTART;TZID=America/Los_Angeles:20221012T100000
DTEND;TZID=America/Los_Angeles:20221012T113000
DTSTAMP:20260424T212022
CREATED:20250925T214913Z
LAST-MODIFIED:20250925T214913Z
UID:10003245-1665568800-1665574200@trinitykirk.org
SUMMARY:10 AM Young Mom's Book Study
DESCRIPTION:If you are a young mom\, new mom\, or soon to be mom\, please join us to read and discuss together Praise Her in the Gates by Nancy Wilson. Questions? Contact Kim Hatcher.
URL:https://trinitykirk.org/event/10-am-young-moms-book-study/2022-10-12/
LOCATION:Kim Hatcher’s Home
END:VEVENT
BEGIN:VEVENT
DTSTART;TZID=America/Los_Angeles:20221005T100000
DTEND;TZID=America/Los_Angeles:20221005T113000
DTSTAMP:20260424T212022
CREATED:20250925T214913Z
LAST-MODIFIED:20250925T214913Z
UID:10003244-1664964000-1664969400@trinitykirk.org
SUMMARY:10 AM Young Mom's Book Study
DESCRIPTION:If you are a young mom\, new mom\, or soon to be mom\, please join us to read and discuss together Praise Her in the Gates by Nancy Wilson. Questions? Contact Kim Hatcher.
URL:https://trinitykirk.org/event/10-am-young-moms-book-study/2022-10-05/
LOCATION:Kim Hatcher’s Home
END:VEVENT
BEGIN:VEVENT
DTSTART;TZID=America/Los_Angeles:20220928T100000
DTEND;TZID=America/Los_Angeles:20220928T113000
DTSTAMP:20260424T212022
CREATED:20250925T214913Z
LAST-MODIFIED:20250925T214913Z
UID:10003243-1664359200-1664364600@trinitykirk.org
SUMMARY:10 AM Young Mom's Book Study
DESCRIPTION:If you are a young mom\, new mom\, or soon to be mom\, please join us to read and discuss together Praise Her in the Gates by Nancy Wilson. Questions? Contact Kim Hatcher.
URL:https://trinitykirk.org/event/10-am-young-moms-book-study/2022-09-28/
LOCATION:Kim Hatcher’s Home
END:VEVENT
BEGIN:VEVENT
DTSTART;TZID=America/Los_Angeles:20220923T173000
DTEND;TZID=America/Los_Angeles:20220923T203000
DTSTAMP:20260424T212022
CREATED:20250925T214915Z
LAST-MODIFIED:20250925T214915Z
UID:10003251-1663954200-1663965000@trinitykirk.org
SUMMARY:5:30 PM JTSF Heidelfest Prep & Fellowship
DESCRIPTION:Help husk ears of corn for Heidelfest! “Many hands make light work” and of course there will be fun\, food and fellowship too! Pizza dinner provided. RSVP to Leslie Poole.
URL:https://trinitykirk.org/event/530-pm-jtsf-heidelfest-prep-fellowship/
LOCATION:Kim Hatcher’s Home
END:VEVENT
BEGIN:VEVENT
DTSTART;TZID=America/Los_Angeles:20220921T100000
DTEND;TZID=America/Los_Angeles:20220921T113000
DTSTAMP:20260424T212022
CREATED:20250925T214913Z
LAST-MODIFIED:20250925T214913Z
UID:10003242-1663754400-1663759800@trinitykirk.org
SUMMARY:10 AM Young Mom's Book Study
DESCRIPTION:If you are a young mom\, new mom\, or soon to be mom\, please join us to read and discuss together Praise Her in the Gates by Nancy Wilson. Questions? Contact Kim Hatcher.
URL:https://trinitykirk.org/event/10-am-young-moms-book-study/2022-09-21/
LOCATION:Kim Hatcher’s Home
END:VEVENT
BEGIN:VEVENT
DTSTART;TZID=America/Los_Angeles:20220914T100000
DTEND;TZID=America/Los_Angeles:20220914T113000
DTSTAMP:20260424T212022
CREATED:20250925T214913Z
LAST-MODIFIED:20250925T214913Z
UID:10003241-1663149600-1663155000@trinitykirk.org
SUMMARY:10 AM Young Mom's Book Study
DESCRIPTION:If you are a young mom\, new mom\, or soon to be mom\, please join us to read and discuss together Praise Her in the Gates by Nancy Wilson. Questions? Contact Kim Hatcher.
URL:https://trinitykirk.org/event/10-am-young-moms-book-study/2022-09-14/
LOCATION:Kim Hatcher’s Home
END:VEVENT
BEGIN:VEVENT
DTSTART;TZID=America/Los_Angeles:20220604T190000
DTEND;TZID=America/Los_Angeles:20220604T210000
DTSTAMP:20260424T212022
CREATED:20250925T214751Z
LAST-MODIFIED:20250925T214751Z
UID:10003184-1654369200-1654376400@trinitykirk.org
SUMMARY:7 PM Metsker Baby Shower
DESCRIPTION:
URL:https://trinitykirk.org/event/7-pm-metsker-baby-shower/
LOCATION:Kim Hatcher’s Home
END:VEVENT
END:VCALENDAR