BEGIN:VCALENDAR
VERSION:2.0
PRODID:-//Trinity Church - ECPv6.15.12.2//NONSGML v1.0//EN
CALSCALE:GREGORIAN
METHOD:PUBLISH
X-WR-CALNAME:Trinity Church
X-ORIGINAL-URL:https://trinitykirk.org
X-WR-CALDESC:Events for Trinity Church
REFRESH-INTERVAL;VALUE=DURATION:PT1H
X-Robots-Tag:noindex
X-PUBLISHED-TTL:PT1H
BEGIN:VTIMEZONE
TZID:America/Los_Angeles
BEGIN:DAYLIGHT
TZOFFSETFROM:-0800
TZOFFSETTO:-0700
TZNAME:PDT
DTSTART:20210314T100000
END:DAYLIGHT
BEGIN:STANDARD
TZOFFSETFROM:-0700
TZOFFSETTO:-0800
TZNAME:PST
DTSTART:20211107T090000
END:STANDARD
BEGIN:DAYLIGHT
TZOFFSETFROM:-0800
TZOFFSETTO:-0700
TZNAME:PDT
DTSTART:20220313T100000
END:DAYLIGHT
BEGIN:STANDARD
TZOFFSETFROM:-0700
TZOFFSETTO:-0800
TZNAME:PST
DTSTART:20221106T090000
END:STANDARD
BEGIN:DAYLIGHT
TZOFFSETFROM:-0800
TZOFFSETTO:-0700
TZNAME:PDT
DTSTART:20230312T100000
END:DAYLIGHT
BEGIN:STANDARD
TZOFFSETFROM:-0700
TZOFFSETTO:-0800
TZNAME:PST
DTSTART:20231105T090000
END:STANDARD
BEGIN:DAYLIGHT
TZOFFSETFROM:-0800
TZOFFSETTO:-0700
TZNAME:PDT
DTSTART:20240310T100000
END:DAYLIGHT
BEGIN:STANDARD
TZOFFSETFROM:-0700
TZOFFSETTO:-0800
TZNAME:PST
DTSTART:20241103T090000
END:STANDARD
BEGIN:DAYLIGHT
TZOFFSETFROM:-0800
TZOFFSETTO:-0700
TZNAME:PDT
DTSTART:20250309T100000
END:DAYLIGHT
BEGIN:STANDARD
TZOFFSETFROM:-0700
TZOFFSETTO:-0800
TZNAME:PST
DTSTART:20251102T090000
END:STANDARD
BEGIN:DAYLIGHT
TZOFFSETFROM:-0800
TZOFFSETTO:-0700
TZNAME:PDT
DTSTART:20260308T100000
END:DAYLIGHT
BEGIN:STANDARD
TZOFFSETFROM:-0700
TZOFFSETTO:-0800
TZNAME:PST
DTSTART:20261101T090000
END:STANDARD
END:VTIMEZONE
BEGIN:VEVENT
DTSTART;TZID=America/Los_Angeles:20251214T140000
DTEND;TZID=America/Los_Angeles:20251214T160000
DTSTAMP:20260424T185702
CREATED:20251113T213302Z
LAST-MODIFIED:20251113T213303Z
UID:10005656-1765720800-1765728000@trinitykirk.org
SUMMARY:2 PM Joyful Dancing
DESCRIPTION:Come and learn to dance the basics or expand your skill.\nFor full explanations of what Joyful Dancing is\, please click here to read through our site.\nwww.joyfuldancing.org \n$10 per dancer or $30 per family \nAll minors must have a supervising adult present!
URL:https://trinitykirk.org/event/2-pm-joyful-dancing-5-2/
LOCATION:Maltby Community Club\, 8711 206th St SE\, Snohomish\, WA\, 98296
END:VEVENT
BEGIN:VEVENT
DTSTART;TZID=America/Los_Angeles:20251109T140000
DTEND;TZID=America/Los_Angeles:20251109T160000
DTSTAMP:20260424T185702
CREATED:20250930T001509Z
LAST-MODIFIED:20250930T001509Z
UID:10005655-1762696800-1762704000@trinitykirk.org
SUMMARY:2 PM Joyful Dancing
DESCRIPTION:Come and learn to dance the basics or expand your skill.\nFor full explanations of what Joyful Dancing is\, please click here to read through our site.\nwww.joyfuldancing.org \n$10 per dancer or $30 per family \nAll minors must have a supervising adult present!
URL:https://trinitykirk.org/event/2-pm-joyful-dancing-5/2025-11-09/
LOCATION:Maltby Community Club\, 8711 206th St SE\, Snohomish\, WA\, 98296
END:VEVENT
BEGIN:VEVENT
DTSTART;TZID=America/Los_Angeles:20251012T140000
DTEND;TZID=America/Los_Angeles:20251012T160000
DTSTAMP:20260424T185702
CREATED:20250930T001509Z
LAST-MODIFIED:20250930T001509Z
UID:10005654-1760277600-1760284800@trinitykirk.org
SUMMARY:2 PM Joyful Dancing
DESCRIPTION:Come and learn to dance the basics or expand your skill.\nFor full explanations of what Joyful Dancing is\, please click here to read through our site.\nwww.joyfuldancing.org \n$10 per dancer or $30 per family \nAll minors must have a supervising adult present!
URL:https://trinitykirk.org/event/2-pm-joyful-dancing-5/2025-10-12/
LOCATION:Maltby Community Club\, 8711 206th St SE\, Snohomish\, WA\, 98296
END:VEVENT
BEGIN:VEVENT
DTSTART;TZID=America/Los_Angeles:20250629T140000
DTEND;TZID=America/Los_Angeles:20250629T160000
DTSTAMP:20260424T185702
CREATED:20250925T215213Z
LAST-MODIFIED:20250925T215213Z
UID:10004954-1751205600-1751212800@trinitykirk.org
SUMMARY:2 PM Joyful Dancing - Summer Ball
DESCRIPTION:Dress code required.\n$10 per dancer or $30 per family  (Cash or Venmo)\nAll minors must have a supervising adult present! \nThere will be dance reminders without full instruction. Ladies wear a modest summer dress. Gentlemen wear a collared shirt and either slacks or tailored shorts. No athletic wear or flip flops. Shoes are required \nFor full explanations of what Joyful Dancing is\, please click here to read through our site.\nwww.joyfuldancing.org \n 
URL:https://trinitykirk.org/event/2-pm-joyful-dancing-3/
LOCATION:Maltby Community Club\, 8711 206th St SE\, Snohomish\, WA\, 98296
END:VEVENT
BEGIN:VEVENT
DTSTART;TZID=America/Los_Angeles:20250525T140000
DTEND;TZID=America/Los_Angeles:20250525T160000
DTSTAMP:20260424T185702
CREATED:20250925T215205Z
LAST-MODIFIED:20250925T215205Z
UID:10004961-1748181600-1748188800@trinitykirk.org
SUMMARY:2 PM Joyful Dancing
DESCRIPTION:Come and learn to dance the basics or expand your skill.\nFor full explanations of what Joyful Dancing is\, please click here to read through our site.\nwww.joyfuldancing.org \n$10 per dancer or $30 per family \nAll minors must have a supervising adult present!
URL:https://trinitykirk.org/event/2-pm-joyful-dancing-2/2025-05-25/
LOCATION:Maltby Community Club\, 8711 206th St SE\, Snohomish\, WA\, 98296
END:VEVENT
BEGIN:VEVENT
DTSTART;TZID=America/Los_Angeles:20250406T140000
DTEND;TZID=America/Los_Angeles:20250406T160000
DTSTAMP:20260424T185702
CREATED:20250930T001202Z
LAST-MODIFIED:20250930T001203Z
UID:10004952-1743948000-1743955200@trinitykirk.org
SUMMARY:2 PM Joyful Dancing
DESCRIPTION:Come and learn to dance the basics or expand your skill.\nFor full explanations of what Joyful Dancing is\, please click here to read through our site.\nwww.joyfuldancing.org \n$10 per dancer or $30 per family \nAll minors must have a supervising adult present!
URL:https://trinitykirk.org/event/2-pm-joyful-dancing-4/
LOCATION:Maltby Community Club\, 8711 206th St SE\, Snohomish\, WA\, 98296
END:VEVENT
BEGIN:VEVENT
DTSTART;TZID=America/Los_Angeles:20250406T140000
DTEND;TZID=America/Los_Angeles:20250406T160000
DTSTAMP:20260424T185702
CREATED:20250925T215209Z
LAST-MODIFIED:20250925T215209Z
UID:10005651-1743948000-1743955200@trinitykirk.org
SUMMARY:2 PM Joyful Dancing
DESCRIPTION:Come and learn to dance the basics or expand your skill.\nFor full explanations of what Joyful Dancing is\, please click here to read through our site.\nwww.joyfuldancing.org \n$10 per dancer or $30 per family \nAll minors must have a supervising adult present!
URL:https://trinitykirk.org/event/2-pm-joyful-dancing/
LOCATION:Maltby Community Club\, 8711 206th St SE\, Snohomish\, WA\, 98296
END:VEVENT
BEGIN:VEVENT
DTSTART;TZID=America/Los_Angeles:20250309T140000
DTEND;TZID=America/Los_Angeles:20250309T160000
DTSTAMP:20260424T185702
CREATED:20250925T215205Z
LAST-MODIFIED:20250925T215205Z
UID:10004958-1741528800-1741536000@trinitykirk.org
SUMMARY:2 PM Joyful Dancing
DESCRIPTION:Come and learn to dance the basics or expand your skill.\nFor full explanations of what Joyful Dancing is\, please click here to read through our site.\nwww.joyfuldancing.org \n$10 per dancer or $30 per family \nAll minors must have a supervising adult present!
URL:https://trinitykirk.org/event/2-pm-joyful-dancing-2/2025-03-09/
LOCATION:Maltby Community Club\, 8711 206th St SE\, Snohomish\, WA\, 98296
END:VEVENT
BEGIN:VEVENT
DTSTART;TZID=America/Los_Angeles:20241222T140000
DTEND;TZID=America/Los_Angeles:20241222T160000
DTSTAMP:20260424T185702
CREATED:20250925T215158Z
LAST-MODIFIED:20250925T215158Z
UID:10004959-1734876000-1734883200@trinitykirk.org
SUMMARY:2 PM Joyful Dancing
DESCRIPTION:Come and learn to dance the basics or expand your skill.\nFor full explanations of what Joyful Dancing is\, please click here to read through our site.\nwww.joyfuldancing.org \n$10 per dancer or $30 per family \nAll minors must have a supervising adult present!
URL:https://trinitykirk.org/event/__trashed-10/2024-12-22/
LOCATION:Maltby Community Club\, 8711 206th St SE\, Snohomish\, WA\, 98296
END:VEVENT
BEGIN:VEVENT
DTSTART;TZID=America/Los_Angeles:20241222T140000
DTEND;TZID=America/Los_Angeles:20241222T160000
DTSTAMP:20260424T185702
CREATED:20250925T215152Z
LAST-MODIFIED:20250925T215152Z
UID:10004209-1734876000-1734883200@trinitykirk.org
SUMMARY:2 PM Joyful Dancing
DESCRIPTION:Come and learn to dance the basics or expand your skill.\nFor full explanations of what Joyful Dancing is\, please click here to read through our site.\nwww.joyfuldancing.org \n$10 per dancer or $30 per family \nAll minors must have a supervising adult present!
URL:https://trinitykirk.org/event/3-pm-joyful-dancing-3-3/2024-12-22/
LOCATION:Maltby Community Club\, 8711 206th St SE\, Snohomish\, WA\, 98296
END:VEVENT
BEGIN:VEVENT
DTSTART;TZID=America/Los_Angeles:20241124T140000
DTEND;TZID=America/Los_Angeles:20241124T160000
DTSTAMP:20260424T185702
CREATED:20250925T215158Z
LAST-MODIFIED:20250925T215158Z
UID:10004957-1732456800-1732464000@trinitykirk.org
SUMMARY:2 PM Joyful Dancing
DESCRIPTION:Come and learn to dance the basics or expand your skill.\nFor full explanations of what Joyful Dancing is\, please click here to read through our site.\nwww.joyfuldancing.org \n$10 per dancer or $30 per family \nAll minors must have a supervising adult present!
URL:https://trinitykirk.org/event/__trashed-10/2024-11-24/
LOCATION:Maltby Community Club\, 8711 206th St SE\, Snohomish\, WA\, 98296
END:VEVENT
BEGIN:VEVENT
DTSTART;TZID=America/Los_Angeles:20241124T140000
DTEND;TZID=America/Los_Angeles:20241124T160000
DTSTAMP:20260424T185702
CREATED:20250925T215152Z
LAST-MODIFIED:20250925T215152Z
UID:10004208-1732456800-1732464000@trinitykirk.org
SUMMARY:2 PM Joyful Dancing
DESCRIPTION:Come and learn to dance the basics or expand your skill.\nFor full explanations of what Joyful Dancing is\, please click here to read through our site.\nwww.joyfuldancing.org \n$10 per dancer or $30 per family \nAll minors must have a supervising adult present!
URL:https://trinitykirk.org/event/3-pm-joyful-dancing-3-3/2024-11-24/
LOCATION:Maltby Community Club\, 8711 206th St SE\, Snohomish\, WA\, 98296
END:VEVENT
BEGIN:VEVENT
DTSTART;TZID=America/Los_Angeles:20241027T140000
DTEND;TZID=America/Los_Angeles:20241027T160000
DTSTAMP:20260424T185702
CREATED:20250925T215158Z
LAST-MODIFIED:20250925T215158Z
UID:10004956-1730037600-1730044800@trinitykirk.org
SUMMARY:2 PM Joyful Dancing
DESCRIPTION:Come and learn to dance the basics or expand your skill.\nFor full explanations of what Joyful Dancing is\, please click here to read through our site.\nwww.joyfuldancing.org \n$10 per dancer or $30 per family \nAll minors must have a supervising adult present!
URL:https://trinitykirk.org/event/__trashed-10/2024-10-27/
LOCATION:Maltby Community Club\, 8711 206th St SE\, Snohomish\, WA\, 98296
END:VEVENT
BEGIN:VEVENT
DTSTART;TZID=America/Los_Angeles:20241027T140000
DTEND;TZID=America/Los_Angeles:20241027T160000
DTSTAMP:20260424T185702
CREATED:20250925T215152Z
LAST-MODIFIED:20250925T215152Z
UID:10004207-1730037600-1730044800@trinitykirk.org
SUMMARY:2 PM Joyful Dancing
DESCRIPTION:Come and learn to dance the basics or expand your skill.\nFor full explanations of what Joyful Dancing is\, please click here to read through our site.\nwww.joyfuldancing.org \n$10 per dancer or $30 per family \nAll minors must have a supervising adult present!
URL:https://trinitykirk.org/event/3-pm-joyful-dancing-3-3/2024-10-27/
LOCATION:Maltby Community Club\, 8711 206th St SE\, Snohomish\, WA\, 98296
END:VEVENT
BEGIN:VEVENT
DTSTART;TZID=America/Los_Angeles:20240929T140000
DTEND;TZID=America/Los_Angeles:20240929T160000
DTSTAMP:20260424T185702
CREATED:20250925T215158Z
LAST-MODIFIED:20250925T215158Z
UID:10004955-1727618400-1727625600@trinitykirk.org
SUMMARY:2 PM Joyful Dancing
DESCRIPTION:Come and learn to dance the basics or expand your skill.\nFor full explanations of what Joyful Dancing is\, please click here to read through our site.\nwww.joyfuldancing.org \n$10 per dancer or $30 per family \nAll minors must have a supervising adult present!
URL:https://trinitykirk.org/event/__trashed-10/2024-09-29/
LOCATION:Maltby Community Club\, 8711 206th St SE\, Snohomish\, WA\, 98296
END:VEVENT
BEGIN:VEVENT
DTSTART;TZID=America/Los_Angeles:20240929T140000
DTEND;TZID=America/Los_Angeles:20240929T160000
DTSTAMP:20260424T185702
CREATED:20250925T215152Z
LAST-MODIFIED:20250925T215152Z
UID:10004211-1727618400-1727625600@trinitykirk.org
SUMMARY:2 PM Joyful Dancing
DESCRIPTION:Come and learn to dance the basics or expand your skill.\nFor full explanations of what Joyful Dancing is\, please click here to read through our site.\nwww.joyfuldancing.org \n$10 per dancer or $30 per family \nAll minors must have a supervising adult present!
URL:https://trinitykirk.org/event/3-pm-joyful-dancing-3-3/2024-09-29/
LOCATION:Maltby Community Club\, 8711 206th St SE\, Snohomish\, WA\, 98296
END:VEVENT
BEGIN:VEVENT
DTSTART;TZID=America/Los_Angeles:20240811T140000
DTEND;TZID=America/Los_Angeles:20240811T170000
DTSTAMP:20260424T185702
CREATED:20250925T215058Z
LAST-MODIFIED:20250925T215058Z
UID:10004204-1723384800-1723395600@trinitykirk.org
SUMMARY:2 PM Joyful Dancing Summer Casual Ball
DESCRIPTION:Summer Casual Ball – No formal instruction\nFor full explanations of what Joyful Dancing is\, please click here to read through our site.\nwww.joyfuldancing.org \n$10 per dancer or $30 per family \nAll minors must have a supervising adult present!
URL:https://trinitykirk.org/event/3-pm-joyful-dancing-3-2/
LOCATION:Maltby Community Club\, 8711 206th St SE\, Snohomish\, WA\, 98296
END:VEVENT
BEGIN:VEVENT
DTSTART;TZID=America/Los_Angeles:20231210T150000
DTEND;TZID=America/Los_Angeles:20231210T170000
DTSTAMP:20260424T185702
CREATED:20250925T214922Z
LAST-MODIFIED:20250925T214922Z
UID:10003531-1702220400-1702227600@trinitykirk.org
SUMMARY:3 PM Joyful Dancing
DESCRIPTION:Come and learn to dance the basics or expand your skill.\nFor full explanations of what Joyful Dancing is\, please click here to read through our site.\nwww.joyfuldancing.org \n$10 per dancer or $30 per family \nAll minors must have a supervising adult present!
URL:https://trinitykirk.org/event/3-pm-joyful-dancing-2/2023-12-10/
LOCATION:Maltby Community Club\, 8711 206th St SE\, Snohomish\, WA\, 98296
END:VEVENT
BEGIN:VEVENT
DTSTART;TZID=America/Los_Angeles:20231119T140000
DTEND;TZID=America/Los_Angeles:20231119T160000
DTSTAMP:20260424T185702
CREATED:20250925T214953Z
LAST-MODIFIED:20250925T214953Z
UID:10003530-1700402400-1700409600@trinitykirk.org
SUMMARY:2 PM Joyful Dancing
DESCRIPTION:Come and learn to dance the basics or expand your skill.\nFor full explanations of what Joyful Dancing is\, please click here to read through our site.\nwww.joyfuldancing.org \n$10 per dancer or $30 per family \nAll minors must have a supervising adult present!
URL:https://trinitykirk.org/event/3-pm-joyful-dancing-2-3/
LOCATION:Maltby Community Club\, 8711 206th St SE\, Snohomish\, WA\, 98296
END:VEVENT
BEGIN:VEVENT
DTSTART;TZID=America/Los_Angeles:20231015T140000
DTEND;TZID=America/Los_Angeles:20231015T160000
DTSTAMP:20260424T185702
CREATED:20250925T214951Z
LAST-MODIFIED:20250925T214951Z
UID:10003529-1697378400-1697385600@trinitykirk.org
SUMMARY:2 PM Joyful Dancing
DESCRIPTION:Come and learn to dance the basics or expand your skill.\nFor full explanations of what Joyful Dancing is\, please click here to read through our site.\nwww.joyfuldancing.org \n$10 per dancer or $30 per family \nAll minors must have a supervising adult present!
URL:https://trinitykirk.org/event/3-pm-joyful-dancing-2-2/
LOCATION:Maltby Community Club\, 8711 206th St SE\, Snohomish\, WA\, 98296
END:VEVENT
BEGIN:VEVENT
DTSTART;TZID=America/Los_Angeles:20230910T160000
DTEND;TZID=America/Los_Angeles:20230910T180000
DTSTAMP:20260424T185702
CREATED:20250925T214943Z
LAST-MODIFIED:20250925T214943Z
UID:10003528-1694361600-1694368800@trinitykirk.org
SUMMARY:4 PM Joyful Dancing
DESCRIPTION:Come and learn to dance the basics or expand your skill.\nFor full explanations of what Joyful Dancing is\, please click here to read through our site.\nwww.joyfuldancing.org \n$10 per dancer or $30 per family \nAll minors must have a supervising adult present!
URL:https://trinitykirk.org/event/3-pm-joyful-dancing-2-5/
LOCATION:Maltby Community Club\, 8711 206th St SE\, Snohomish\, WA\, 98296
END:VEVENT
BEGIN:VEVENT
DTSTART;TZID=America/Los_Angeles:20230806T150000
DTEND;TZID=America/Los_Angeles:20230806T170000
DTSTAMP:20260424T185702
CREATED:20250925T214939Z
LAST-MODIFIED:20250925T214939Z
UID:10003527-1691334000-1691341200@trinitykirk.org
SUMMARY:3 PM Joyful Dancing
DESCRIPTION:Summer Dance – no formal instruction.\nFor full explanations of what Joyful Dancing is\, please click here to read through our site.\nwww.joyfuldancing.org \n$10 per dancer or $30 per family \nAll minors must have a supervising adult present!
URL:https://trinitykirk.org/event/3-pm-joyful-dancing-2-4/
LOCATION:Maltby Community Club\, 8711 206th St SE\, Snohomish\, WA\, 98296
END:VEVENT
BEGIN:VEVENT
DTSTART;TZID=America/Los_Angeles:20230625T150000
DTEND;TZID=America/Los_Angeles:20230625T170000
DTSTAMP:20260424T185702
CREATED:20250925T214922Z
LAST-MODIFIED:20250925T214922Z
UID:10003493-1687705200-1687712400@trinitykirk.org
SUMMARY:3 PM Joyful Dancing
DESCRIPTION:Come and learn to dance the basics or expand your skill.\nFor full explanations of what Joyful Dancing is\, please click here to read through our site.\nwww.joyfuldancing.org \n$10 per dancer or $30 per family \nAll minors must have a supervising adult present!
URL:https://trinitykirk.org/event/3-pm-joyful-dancing-2/2023-06-25/
LOCATION:Maltby Community Club\, 8711 206th St SE\, Snohomish\, WA\, 98296
END:VEVENT
BEGIN:VEVENT
DTSTART;TZID=America/Los_Angeles:20230521T150000
DTEND;TZID=America/Los_Angeles:20230521T170000
DTSTAMP:20260424T185702
CREATED:20250925T214922Z
LAST-MODIFIED:20250925T214922Z
UID:10003492-1684681200-1684688400@trinitykirk.org
SUMMARY:3 PM Joyful Dancing
DESCRIPTION:Come and learn to dance the basics or expand your skill.\nFor full explanations of what Joyful Dancing is\, please click here to read through our site.\nwww.joyfuldancing.org \n$10 per dancer or $30 per family \nAll minors must have a supervising adult present!
URL:https://trinitykirk.org/event/3-pm-joyful-dancing-2/2023-05-21/
LOCATION:Maltby Community Club\, 8711 206th St SE\, Snohomish\, WA\, 98296
END:VEVENT
BEGIN:VEVENT
DTSTART;TZID=America/Los_Angeles:20230430T150000
DTEND;TZID=America/Los_Angeles:20230430T170000
DTSTAMP:20260424T185702
CREATED:20250925T214922Z
LAST-MODIFIED:20250925T214922Z
UID:10003491-1682866800-1682874000@trinitykirk.org
SUMMARY:3 PM Joyful Dancing
DESCRIPTION:Come and learn to dance the basics or expand your skill.\nFor full explanations of what Joyful Dancing is\, please click here to read through our site.\nwww.joyfuldancing.org \n$10 per dancer or $30 per family \nAll minors must have a supervising adult present!
URL:https://trinitykirk.org/event/3-pm-joyful-dancing-2/2023-04-30/
LOCATION:Maltby Community Club\, 8711 206th St SE\, Snohomish\, WA\, 98296
END:VEVENT
BEGIN:VEVENT
DTSTART;TZID=America/Los_Angeles:20230326T150000
DTEND;TZID=America/Los_Angeles:20230326T170000
DTSTAMP:20260424T185702
CREATED:20250925T214922Z
LAST-MODIFIED:20250925T214922Z
UID:10003490-1679842800-1679850000@trinitykirk.org
SUMMARY:3 PM Joyful Dancing
DESCRIPTION:Come and learn to dance the basics or expand your skill.\nFor full explanations of what Joyful Dancing is\, please click here to read through our site.\nwww.joyfuldancing.org \n$10 per dancer or $30 per family \nAll minors must have a supervising adult present!
URL:https://trinitykirk.org/event/3-pm-joyful-dancing-2/2023-03-26/
LOCATION:Maltby Community Club\, 8711 206th St SE\, Snohomish\, WA\, 98296
END:VEVENT
BEGIN:VEVENT
DTSTART;TZID=America/Los_Angeles:20230226T150000
DTEND;TZID=America/Los_Angeles:20230226T170000
DTSTAMP:20260424T185702
CREATED:20250925T214922Z
LAST-MODIFIED:20250925T214922Z
UID:10003489-1677423600-1677430800@trinitykirk.org
SUMMARY:3 PM Joyful Dancing
DESCRIPTION:Come and learn to dance the basics or expand your skill.\nFor full explanations of what Joyful Dancing is\, please click here to read through our site.\nwww.joyfuldancing.org \n$10 per dancer or $30 per family \nAll minors must have a supervising adult present!
URL:https://trinitykirk.org/event/3-pm-joyful-dancing-2/2023-02-26/
LOCATION:Maltby Community Club\, 8711 206th St SE\, Snohomish\, WA\, 98296
END:VEVENT
BEGIN:VEVENT
DTSTART;TZID=America/Los_Angeles:20230129T150000
DTEND;TZID=America/Los_Angeles:20230129T170000
DTSTAMP:20260424T185703
CREATED:20250925T214922Z
LAST-MODIFIED:20250925T214922Z
UID:10003488-1675004400-1675011600@trinitykirk.org
SUMMARY:3 PM Joyful Dancing
DESCRIPTION:Come and learn to dance the basics or expand your skill.\nFor full explanations of what Joyful Dancing is\, please click here to read through our site.\nwww.joyfuldancing.org \n$10 per dancer or $30 per family \nAll minors must have a supervising adult present!
URL:https://trinitykirk.org/event/3-pm-joyful-dancing-2/2023-01-29/
LOCATION:Maltby Community Club\, 8711 206th St SE\, Snohomish\, WA\, 98296
END:VEVENT
BEGIN:VEVENT
DTSTART;TZID=America/Los_Angeles:20221211T150000
DTEND;TZID=America/Los_Angeles:20221211T170000
DTSTAMP:20260424T185703
CREATED:20250925T214748Z
LAST-MODIFIED:20250925T214748Z
UID:10003162-1670770800-1670778000@trinitykirk.org
SUMMARY:3 PM Joyful Dancing
DESCRIPTION:Come and learn to dance the basics or expand your skill.\nFor full explanations of what Joyful Dancing is\, please click here to read through our site.\nwww.joyfuldancing.org \n$5 per dancer or $15 per family \nAll minors must have a supervising adult present!
URL:https://trinitykirk.org/event/5-pm-joyful-dancing-2022-03-06/2022-12-11/
LOCATION:Maltby Community Club\, 8711 206th St SE\, Snohomish\, WA\, 98296
END:VEVENT
BEGIN:VEVENT
DTSTART;TZID=America/Los_Angeles:20221127T150000
DTEND;TZID=America/Los_Angeles:20221127T170000
DTSTAMP:20260424T185703
CREATED:20250925T214748Z
LAST-MODIFIED:20250925T214748Z
UID:10003161-1669561200-1669568400@trinitykirk.org
SUMMARY:3 PM Joyful Dancing
DESCRIPTION:Come and learn to dance the basics or expand your skill.\nFor full explanations of what Joyful Dancing is\, please click here to read through our site.\nwww.joyfuldancing.org \n$5 per dancer or $15 per family \nAll minors must have a supervising adult present!
URL:https://trinitykirk.org/event/5-pm-joyful-dancing-2022-03-06/2022-11-27/
LOCATION:Maltby Community Club\, 8711 206th St SE\, Snohomish\, WA\, 98296
END:VEVENT
END:VCALENDAR