BEGIN:VCALENDAR
VERSION:2.0
PRODID:-//Trinity Church - ECPv6.15.12.2//NONSGML v1.0//EN
CALSCALE:GREGORIAN
METHOD:PUBLISH
X-WR-CALNAME:Trinity Church
X-ORIGINAL-URL:https://trinitykirk.org
X-WR-CALDESC:Events for Trinity Church
REFRESH-INTERVAL;VALUE=DURATION:PT1H
X-Robots-Tag:noindex
X-PUBLISHED-TTL:PT1H
BEGIN:VTIMEZONE
TZID:America/Los_Angeles
BEGIN:DAYLIGHT
TZOFFSETFROM:-0800
TZOFFSETTO:-0700
TZNAME:PDT
DTSTART:20220313T100000
END:DAYLIGHT
BEGIN:STANDARD
TZOFFSETFROM:-0700
TZOFFSETTO:-0800
TZNAME:PST
DTSTART:20221106T090000
END:STANDARD
BEGIN:DAYLIGHT
TZOFFSETFROM:-0800
TZOFFSETTO:-0700
TZNAME:PDT
DTSTART:20230312T100000
END:DAYLIGHT
BEGIN:STANDARD
TZOFFSETFROM:-0700
TZOFFSETTO:-0800
TZNAME:PST
DTSTART:20231105T090000
END:STANDARD
BEGIN:DAYLIGHT
TZOFFSETFROM:-0800
TZOFFSETTO:-0700
TZNAME:PDT
DTSTART:20240310T100000
END:DAYLIGHT
BEGIN:STANDARD
TZOFFSETFROM:-0700
TZOFFSETTO:-0800
TZNAME:PST
DTSTART:20241103T090000
END:STANDARD
BEGIN:DAYLIGHT
TZOFFSETFROM:-0800
TZOFFSETTO:-0700
TZNAME:PDT
DTSTART:20250309T100000
END:DAYLIGHT
BEGIN:STANDARD
TZOFFSETFROM:-0700
TZOFFSETTO:-0800
TZNAME:PST
DTSTART:20251102T090000
END:STANDARD
BEGIN:DAYLIGHT
TZOFFSETFROM:-0800
TZOFFSETTO:-0700
TZNAME:PDT
DTSTART:20260308T100000
END:DAYLIGHT
BEGIN:STANDARD
TZOFFSETFROM:-0700
TZOFFSETTO:-0800
TZNAME:PST
DTSTART:20261101T090000
END:STANDARD
BEGIN:DAYLIGHT
TZOFFSETFROM:-0800
TZOFFSETTO:-0700
TZNAME:PDT
DTSTART:20270314T100000
END:DAYLIGHT
BEGIN:STANDARD
TZOFFSETFROM:-0700
TZOFFSETTO:-0800
TZNAME:PST
DTSTART:20271107T090000
END:STANDARD
END:VTIMEZONE
BEGIN:VEVENT
DTSTART;TZID=America/Los_Angeles:20260124T100000
DTEND;TZID=America/Los_Angeles:20260124T140000
DTSTAMP:20260424T173419
CREATED:20260108T005018Z
LAST-MODIFIED:20260108T005027Z
UID:10005769-1769248800-1769263200@trinitykirk.org
SUMMARY:10 AM Game Day
DESCRIPTION:This is a relaxed time to spend time together\, get to know each other\, and play some games.  We will have some simple ones and some that are more complex so that everyone can find something to enjoy. We will have some games available to borrow or try out\, and room for you to bring and play your own games (or puzzles). It will be open from 10 am to 2 pm\, open house style – come for as little or as much of the time as works for you. \nBring your own lunch.  Snacks and soft drinks will be provided. \nIf you have questions check with Roger Rathbun.
URL:https://trinitykirk.org/event/10-am-game-day-8/
LOCATION:Rathbun Home\, 23100 20th Ave SE\, Bothell\, WA\, United States
END:VEVENT
BEGIN:VEVENT
DTSTART;TZID=America/Los_Angeles:20230816T190000
DTEND;TZID=America/Los_Angeles:20230816T203000
DTSTAMP:20260424T173419
CREATED:20250925T214938Z
LAST-MODIFIED:20250925T214938Z
UID:10003683-1692212400-1692217800@trinitykirk.org
SUMMARY:7 PM Women's Bible Study - Galatians
DESCRIPTION:
URL:https://trinitykirk.org/event/7-pm-womens-bible-study-galatians/2023-08-16/
LOCATION:Rathbun Home\, 23100 20th Ave SE\, Bothell\, WA\, United States
END:VEVENT
BEGIN:VEVENT
DTSTART;TZID=America/Los_Angeles:20230809T190000
DTEND;TZID=America/Los_Angeles:20230809T203000
DTSTAMP:20260424T173419
CREATED:20250925T214938Z
LAST-MODIFIED:20250925T214938Z
UID:10003682-1691607600-1691613000@trinitykirk.org
SUMMARY:7 PM Women's Bible Study - Galatians
DESCRIPTION:
URL:https://trinitykirk.org/event/7-pm-womens-bible-study-galatians/2023-08-09/
LOCATION:Rathbun Home\, 23100 20th Ave SE\, Bothell\, WA\, United States
END:VEVENT
BEGIN:VEVENT
DTSTART;TZID=America/Los_Angeles:20230802T190000
DTEND;TZID=America/Los_Angeles:20230802T203000
DTSTAMP:20260424T173419
CREATED:20250925T214938Z
LAST-MODIFIED:20250925T214938Z
UID:10003681-1691002800-1691008200@trinitykirk.org
SUMMARY:7 PM Women's Bible Study - Galatians
DESCRIPTION:
URL:https://trinitykirk.org/event/7-pm-womens-bible-study-galatians/2023-08-02/
LOCATION:Rathbun Home\, 23100 20th Ave SE\, Bothell\, WA\, United States
END:VEVENT
BEGIN:VEVENT
DTSTART;TZID=America/Los_Angeles:20230726T190000
DTEND;TZID=America/Los_Angeles:20230726T203000
DTSTAMP:20260424T173419
CREATED:20250925T214938Z
LAST-MODIFIED:20250925T214938Z
UID:10003680-1690398000-1690403400@trinitykirk.org
SUMMARY:7 PM Women's Bible Study - Galatians
DESCRIPTION:
URL:https://trinitykirk.org/event/7-pm-womens-bible-study-galatians/2023-07-26/
LOCATION:Rathbun Home\, 23100 20th Ave SE\, Bothell\, WA\, United States
END:VEVENT
BEGIN:VEVENT
DTSTART;TZID=America/Los_Angeles:20230712T190000
DTEND;TZID=America/Los_Angeles:20230712T203000
DTSTAMP:20260424T173419
CREATED:20250925T214938Z
LAST-MODIFIED:20250925T214938Z
UID:10003679-1689188400-1689193800@trinitykirk.org
SUMMARY:7 PM Women's Bible Study - Galatians
DESCRIPTION:
URL:https://trinitykirk.org/event/7-pm-womens-bible-study-galatians/2023-07-12/
LOCATION:Rathbun Home\, 23100 20th Ave SE\, Bothell\, WA\, United States
END:VEVENT
BEGIN:VEVENT
DTSTART;TZID=America/Los_Angeles:20230705T190000
DTEND;TZID=America/Los_Angeles:20230705T203000
DTSTAMP:20260424T173419
CREATED:20250925T214938Z
LAST-MODIFIED:20250925T214938Z
UID:10003678-1688583600-1688589000@trinitykirk.org
SUMMARY:7 PM Women's Bible Study - Galatians
DESCRIPTION:
URL:https://trinitykirk.org/event/7-pm-womens-bible-study-galatians/2023-07-05/
LOCATION:Rathbun Home\, 23100 20th Ave SE\, Bothell\, WA\, United States
END:VEVENT
END:VCALENDAR