BEGIN:VCALENDAR
VERSION:2.0
PRODID:-//Trinity Church - ECPv6.15.12.2//NONSGML v1.0//EN
CALSCALE:GREGORIAN
METHOD:PUBLISH
X-WR-CALNAME:Trinity Church
X-ORIGINAL-URL:https://trinitykirk.org
X-WR-CALDESC:Events for Trinity Church
REFRESH-INTERVAL;VALUE=DURATION:PT1H
X-Robots-Tag:noindex
X-PUBLISHED-TTL:PT1H
BEGIN:VTIMEZONE
TZID:America/Los_Angeles
BEGIN:DAYLIGHT
TZOFFSETFROM:-0800
TZOFFSETTO:-0700
TZNAME:PDT
DTSTART:20180311T100000
END:DAYLIGHT
BEGIN:STANDARD
TZOFFSETFROM:-0700
TZOFFSETTO:-0800
TZNAME:PST
DTSTART:20181104T090000
END:STANDARD
BEGIN:DAYLIGHT
TZOFFSETFROM:-0800
TZOFFSETTO:-0700
TZNAME:PDT
DTSTART:20190310T100000
END:DAYLIGHT
BEGIN:STANDARD
TZOFFSETFROM:-0700
TZOFFSETTO:-0800
TZNAME:PST
DTSTART:20191103T090000
END:STANDARD
BEGIN:DAYLIGHT
TZOFFSETFROM:-0800
TZOFFSETTO:-0700
TZNAME:PDT
DTSTART:20200308T100000
END:DAYLIGHT
BEGIN:STANDARD
TZOFFSETFROM:-0700
TZOFFSETTO:-0800
TZNAME:PST
DTSTART:20201101T090000
END:STANDARD
BEGIN:DAYLIGHT
TZOFFSETFROM:-0800
TZOFFSETTO:-0700
TZNAME:PDT
DTSTART:20210314T100000
END:DAYLIGHT
BEGIN:STANDARD
TZOFFSETFROM:-0700
TZOFFSETTO:-0800
TZNAME:PST
DTSTART:20211107T090000
END:STANDARD
BEGIN:DAYLIGHT
TZOFFSETFROM:-0800
TZOFFSETTO:-0700
TZNAME:PDT
DTSTART:20220313T100000
END:DAYLIGHT
BEGIN:STANDARD
TZOFFSETFROM:-0700
TZOFFSETTO:-0800
TZNAME:PST
DTSTART:20221106T090000
END:STANDARD
BEGIN:DAYLIGHT
TZOFFSETFROM:-0800
TZOFFSETTO:-0700
TZNAME:PDT
DTSTART:20230312T100000
END:DAYLIGHT
BEGIN:STANDARD
TZOFFSETFROM:-0700
TZOFFSETTO:-0800
TZNAME:PST
DTSTART:20231105T090000
END:STANDARD
BEGIN:DAYLIGHT
TZOFFSETFROM:-0800
TZOFFSETTO:-0700
TZNAME:PDT
DTSTART:20240310T100000
END:DAYLIGHT
BEGIN:STANDARD
TZOFFSETFROM:-0700
TZOFFSETTO:-0800
TZNAME:PST
DTSTART:20241103T090000
END:STANDARD
BEGIN:DAYLIGHT
TZOFFSETFROM:-0800
TZOFFSETTO:-0700
TZNAME:PDT
DTSTART:20250309T100000
END:DAYLIGHT
BEGIN:STANDARD
TZOFFSETFROM:-0700
TZOFFSETTO:-0800
TZNAME:PST
DTSTART:20251102T090000
END:STANDARD
BEGIN:DAYLIGHT
TZOFFSETFROM:-0800
TZOFFSETTO:-0700
TZNAME:PDT
DTSTART:20260308T100000
END:DAYLIGHT
BEGIN:STANDARD
TZOFFSETFROM:-0700
TZOFFSETTO:-0800
TZNAME:PST
DTSTART:20261101T090000
END:STANDARD
END:VTIMEZONE
BEGIN:VEVENT
DTSTART;TZID=America/Los_Angeles:20250927T123000
DTEND;TZID=America/Los_Angeles:20250927T170000
DTSTAMP:20260424T185528
CREATED:20250925T215222Z
LAST-MODIFIED:20250925T215222Z
UID:10005048-1758976200-1758992400@trinitykirk.org
SUMMARY:12:30 PM Heidelfest
DESCRIPTION:Heidelfest is a FREE\, family-friendly outdoor fall festival with food\, beer\, games\, live music\, and more! This year’s 16th annual Heidelfest is hosted by Trinity Church in Bothell and Emmanuel Church in Bothell.\n\n\n\n\n\nHeidelfest is a celebration of God’s abundant gifts in the fall season. It’s named after Heidelberg\, which was the German city where Martin Luther defended his famous 95 Theses at the beginning of the Protestant Reformation\, winning over so many people in the town and university to the gospel of free grace that it would go on to become a center of Reformation life and culture.\n\n\n\n\n\nThis celebratory life blooms at Heidelfest\, bringing together a medley of deliciously handcrafted food\, tasty beverages\, relay races\, live music\, dancing\, and plenty of fun activities for the little ones.
URL:https://trinitykirk.org/event/1230-pm-heidelfest-2/
LOCATION:St. Edward State Park\, 14445 Juanita Drive NE\, Kenmore\, WA\, 98028
END:VEVENT
BEGIN:VEVENT
DTSTART;TZID=America/Los_Angeles:20240928T123000
DTEND;TZID=America/Los_Angeles:20240928T170000
DTSTAMP:20260424T185528
CREATED:20250925T214948Z
LAST-MODIFIED:20250925T214948Z
UID:10004391-1727526600-1727542800@trinitykirk.org
SUMMARY:12:30 PM Heidelfest
DESCRIPTION:Heidelfest is a FREE\, family-friendly outdoor fall festival with food\, beer\, games\, live music\, and more! This year’s 15th annual Heidelfest is hosted by Trinity Church in Bothell and Emmanuel Church in Bothell.\n\n\n\n\n\nHeidelfest is a celebration of God’s abundant gifts in the fall season. It’s named after Heidelberg\, which was the German city where Martin Luther defended his famous 95 Theses at the beginning of the Protestant Reformation\, winning over so many people in the town and university to the gospel of free grace that it would go on to become a center of Reformation life and culture.\n\n\n\n\n\nThis celebratory life blooms at Heidelfest\, bringing together a medley of deliciously handcrafted food\, tasty beverages\, relay races\, live music\, dancing\, and plenty of fun activities for the little ones.
URL:https://trinitykirk.org/event/1230-pm-heidelfest/2024-09-28/
LOCATION:St. Edward State Park\, 14445 Juanita Drive NE\, Kenmore\, WA\, 98028
END:VEVENT
BEGIN:VEVENT
DTSTART;TZID=America/Los_Angeles:20230930T123000
DTEND;TZID=America/Los_Angeles:20230930T170000
DTSTAMP:20260424T185528
CREATED:20250925T214948Z
LAST-MODIFIED:20250925T214948Z
UID:10003704-1696077000-1696093200@trinitykirk.org
SUMMARY:12:30 PM Heidelfest
DESCRIPTION:Heidelfest is a FREE\, family-friendly outdoor fall festival with food\, beer\, games\, live music\, and more! This year’s 15th annual Heidelfest is hosted by Trinity Church in Bothell and Emmanuel Church in Bothell.\n\n\n\n\n\nHeidelfest is a celebration of God’s abundant gifts in the fall season. It’s named after Heidelberg\, which was the German city where Martin Luther defended his famous 95 Theses at the beginning of the Protestant Reformation\, winning over so many people in the town and university to the gospel of free grace that it would go on to become a center of Reformation life and culture.\n\n\n\n\n\nThis celebratory life blooms at Heidelfest\, bringing together a medley of deliciously handcrafted food\, tasty beverages\, relay races\, live music\, dancing\, and plenty of fun activities for the little ones.
URL:https://trinitykirk.org/event/1230-pm-heidelfest/2023-09-30/
LOCATION:St. Edward State Park\, 14445 Juanita Drive NE\, Kenmore\, WA\, 98028
END:VEVENT
BEGIN:VEVENT
DTSTART;TZID=America/Los_Angeles:20220924T123000
DTEND;TZID=America/Los_Angeles:20220924T170000
DTSTAMP:20260424T185528
CREATED:20250925T214734Z
LAST-MODIFIED:20250925T214734Z
UID:10002763-1664022600-1664038800@trinitykirk.org
SUMMARY:12:30 PM Heidelfest
DESCRIPTION:Heidelfest is a FREE\, family-friendly outdoor fall festival with food\, beer\, games\, live music\, and more! This year’s 14th annual Heidelfest is hosted by Trinity Church in Kirkland and Emmanuel Church in Bothell.\n\n\n\n\n\nHeidelfest is a celebration of God’s abundant gifts in the fall season. It’s named after Heidelberg\, which was the German city where Martin Luther defended his famous 95 Theses at the beginning of the Protestant Reformation\, winning over so many people in the town and university to the gospel of free grace that it would go on to become a center of Reformation life and culture.\n\n\n\n\n\nThis celebratory life blooms at Heidelfest\, bringing together a medley of deliciously handcrafted food\, tasty beverages\, relay races\, live music\, dancing\, and plenty of fun activities for the little ones.
URL:https://trinitykirk.org/event/1-pm-heidelfest-2/2022-09-24/
LOCATION:St. Edward State Park\, 14445 Juanita Drive NE\, Kenmore\, WA\, 98028
END:VEVENT
BEGIN:VEVENT
DTSTART;TZID=America/Los_Angeles:20210925T123000
DTEND;TZID=America/Los_Angeles:20210925T170000
DTSTAMP:20260424T185528
CREATED:20250925T214734Z
LAST-MODIFIED:20250925T214734Z
UID:10002762-1632573000-1632589200@trinitykirk.org
SUMMARY:12:30 PM Heidelfest
DESCRIPTION:Heidelfest is a FREE\, family-friendly outdoor fall festival with food\, beer\, games\, live music\, and more! This year’s 14th annual Heidelfest is hosted by Trinity Church in Kirkland and Emmanuel Church in Bothell.\n\n\n\n\n\nHeidelfest is a celebration of God’s abundant gifts in the fall season. It’s named after Heidelberg\, which was the German city where Martin Luther defended his famous 95 Theses at the beginning of the Protestant Reformation\, winning over so many people in the town and university to the gospel of free grace that it would go on to become a center of Reformation life and culture.\n\n\n\n\n\nThis celebratory life blooms at Heidelfest\, bringing together a medley of deliciously handcrafted food\, tasty beverages\, relay races\, live music\, dancing\, and plenty of fun activities for the little ones.
URL:https://trinitykirk.org/event/1-pm-heidelfest-2/2021-09-25/
LOCATION:St. Edward State Park\, 14445 Juanita Drive NE\, Kenmore\, WA\, 98028
END:VEVENT
BEGIN:VEVENT
DTSTART;TZID=America/Los_Angeles:20210523T133000
DTEND;TZID=America/Los_Angeles:20210523T150000
DTSTAMP:20260424T185528
CREATED:20250925T214727Z
LAST-MODIFIED:20250925T214727Z
UID:10002704-1621776600-1621782000@trinitykirk.org
SUMMARY:1:30 PM Pentecost Feast
DESCRIPTION:Fun time will include Church Provided Feast\, fellowship\, singing\, and brief program. \nWHERE: St. Edward Park in Kenmore at the West Ballfield Area (where we normally have Heidelfest)\n10201 E. Riverside Dr.\, Bothell \nBad weather option will be to move venue to PCCS North \nYou need a Discovery Pass to park or a day pass ($10). \nBring your own chairs and/or blanket to sit on (like at our annual picnic).
URL:https://trinitykirk.org/event/1130-am-feast-2021-05-23/
LOCATION:St. Edward State Park\, 14445 Juanita Drive NE\, Kenmore\, WA\, 98028
END:VEVENT
BEGIN:VEVENT
DTSTART;TZID=America/Los_Angeles:20190928T130000
DTEND;TZID=America/Los_Angeles:20190928T190000
DTSTAMP:20260424T185528
CREATED:20250925T214617Z
LAST-MODIFIED:20250925T214617Z
UID:10002372-1569675600-1569697200@trinitykirk.org
SUMMARY:1 PM Heidelfest
DESCRIPTION:Heidelfest is a FREE\, family-friendly outdoor fall festival with food\, beer\, games\, live music\, and more! This year’s 13th annual Heidelfest is hosted by Trinity Church in Kirkland and Emmanuel Church in Bothell.\n\n\n\n\n\nHeidelfest is a celebration of God’s abundant gifts in the fall season. It’s named after Heidelberg\, which was the German city where Martin Luther defended his famous 95 Theses at the beginning of the Protestant Reformation\, winning over so many people in the town and university to the gospel of free grace that it would go on to become a center of Reformation life and culture.\n\n\n\n\n\nThis celebratory life blooms at Heidelfest\, bringing together a medley of deliciously handcrafted food\, tasty beverages\, relay races\, live music\, dancing\, and plenty of fun activities for the little ones.\n\n\nFor more information and to register for your FREE tickets\, click here.
URL:https://trinitykirk.org/event/1-pm-heidelfest/
LOCATION:St. Edward State Park\, 14445 Juanita Drive NE\, Kenmore\, WA\, 98028
END:VEVENT
END:VCALENDAR