BEGIN:VCALENDAR
VERSION:2.0
PRODID:-//Trinity Church - ECPv6.15.12.2//NONSGML v1.0//EN
CALSCALE:GREGORIAN
METHOD:PUBLISH
X-WR-CALNAME:Trinity Church
X-ORIGINAL-URL:https://trinitykirk.org
X-WR-CALDESC:Events for Trinity Church
REFRESH-INTERVAL;VALUE=DURATION:PT1H
X-Robots-Tag:noindex
X-PUBLISHED-TTL:PT1H
BEGIN:VTIMEZONE
TZID:America/Los_Angeles
BEGIN:DAYLIGHT
TZOFFSETFROM:-0800
TZOFFSETTO:-0700
TZNAME:PDT
DTSTART:20250309T100000
END:DAYLIGHT
BEGIN:STANDARD
TZOFFSETFROM:-0700
TZOFFSETTO:-0800
TZNAME:PST
DTSTART:20251102T090000
END:STANDARD
BEGIN:DAYLIGHT
TZOFFSETFROM:-0800
TZOFFSETTO:-0700
TZNAME:PDT
DTSTART:20260308T100000
END:DAYLIGHT
BEGIN:STANDARD
TZOFFSETFROM:-0700
TZOFFSETTO:-0800
TZNAME:PST
DTSTART:20261101T090000
END:STANDARD
BEGIN:DAYLIGHT
TZOFFSETFROM:-0800
TZOFFSETTO:-0700
TZNAME:PDT
DTSTART:20270314T100000
END:DAYLIGHT
BEGIN:STANDARD
TZOFFSETFROM:-0700
TZOFFSETTO:-0800
TZNAME:PST
DTSTART:20271107T090000
END:STANDARD
END:VTIMEZONE
BEGIN:VEVENT
DTSTART;TZID=America/Los_Angeles:20260926T123000
DTEND;TZID=America/Los_Angeles:20260926T170000
DTSTAMP:20260424T170627
CREATED:20260416T225848Z
LAST-MODIFIED:20260416T225848Z
UID:10006257-1790425800-1790442000@trinitykirk.org
SUMMARY:12:30 PM Heidelfest
DESCRIPTION:Heidelfest is a FREE\, family-friendly outdoor fall festival with food\, beer\, games\, live music\, and more! This year’s 16th annual Heidelfest is hosted by Trinity Church in Bothell and Emmanuel Church in Bothell.\n\n\n\n\n\nHeidelfest is a celebration of God’s abundant gifts in the fall season. It’s named after Heidelberg\, which was the German city where Martin Luther defended his famous 95 Theses at the beginning of the Protestant Reformation\, winning over so many people in the town and university to the gospel of free grace that it would go on to become a center of Reformation life and culture.\n\n\n\n\n\nThis celebratory life blooms at Heidelfest\, bringing together a medley of deliciously handcrafted food\, tasty beverages\, relay races\, live music\, dancing\, and plenty of fun activities for the little ones.
URL:https://trinitykirk.org/event/1230-pm-heidelfest-3/
LOCATION:St. Edward State Park\, 14445 Juanita Drive NE\, Kenmore\, WA\, 98028
END:VEVENT
END:VCALENDAR