BEGIN:VCALENDAR
VERSION:2.0
PRODID:-//Trinity Church - ECPv6.15.12.2//NONSGML v1.0//EN
CALSCALE:GREGORIAN
METHOD:PUBLISH
X-ORIGINAL-URL:https://trinitykirk.org
X-WR-CALDESC:Events for Trinity Church
REFRESH-INTERVAL;VALUE=DURATION:PT1H
X-Robots-Tag:noindex
X-PUBLISHED-TTL:PT1H
BEGIN:VTIMEZONE
TZID:America/Los_Angeles
BEGIN:DAYLIGHT
TZOFFSETFROM:-0800
TZOFFSETTO:-0700
TZNAME:PDT
DTSTART:20190310T100000
END:DAYLIGHT
BEGIN:STANDARD
TZOFFSETFROM:-0700
TZOFFSETTO:-0800
TZNAME:PST
DTSTART:20191103T090000
END:STANDARD
BEGIN:DAYLIGHT
TZOFFSETFROM:-0800
TZOFFSETTO:-0700
TZNAME:PDT
DTSTART:20200308T100000
END:DAYLIGHT
BEGIN:STANDARD
TZOFFSETFROM:-0700
TZOFFSETTO:-0800
TZNAME:PST
DTSTART:20201101T090000
END:STANDARD
BEGIN:DAYLIGHT
TZOFFSETFROM:-0800
TZOFFSETTO:-0700
TZNAME:PDT
DTSTART:20210314T100000
END:DAYLIGHT
BEGIN:STANDARD
TZOFFSETFROM:-0700
TZOFFSETTO:-0800
TZNAME:PST
DTSTART:20211107T090000
END:STANDARD
BEGIN:DAYLIGHT
TZOFFSETFROM:-0800
TZOFFSETTO:-0700
TZNAME:PDT
DTSTART:20220313T100000
END:DAYLIGHT
BEGIN:STANDARD
TZOFFSETFROM:-0700
TZOFFSETTO:-0800
TZNAME:PST
DTSTART:20221106T090000
END:STANDARD
BEGIN:DAYLIGHT
TZOFFSETFROM:-0800
TZOFFSETTO:-0700
TZNAME:PDT
DTSTART:20230312T100000
END:DAYLIGHT
BEGIN:STANDARD
TZOFFSETFROM:-0700
TZOFFSETTO:-0800
TZNAME:PST
DTSTART:20231105T090000
END:STANDARD
BEGIN:DAYLIGHT
TZOFFSETFROM:-0800
TZOFFSETTO:-0700
TZNAME:PDT
DTSTART:20240310T100000
END:DAYLIGHT
BEGIN:STANDARD
TZOFFSETFROM:-0700
TZOFFSETTO:-0800
TZNAME:PST
DTSTART:20241103T090000
END:STANDARD
BEGIN:DAYLIGHT
TZOFFSETFROM:-0800
TZOFFSETTO:-0700
TZNAME:PDT
DTSTART:20250309T100000
END:DAYLIGHT
BEGIN:STANDARD
TZOFFSETFROM:-0700
TZOFFSETTO:-0800
TZNAME:PST
DTSTART:20251102T090000
END:STANDARD
BEGIN:DAYLIGHT
TZOFFSETFROM:-0800
TZOFFSETTO:-0700
TZNAME:PDT
DTSTART:20260308T100000
END:DAYLIGHT
BEGIN:STANDARD
TZOFFSETFROM:-0700
TZOFFSETTO:-0800
TZNAME:PST
DTSTART:20261101T090000
END:STANDARD
BEGIN:DAYLIGHT
TZOFFSETFROM:-0800
TZOFFSETTO:-0700
TZNAME:PDT
DTSTART:20270314T100000
END:DAYLIGHT
BEGIN:STANDARD
TZOFFSETFROM:-0700
TZOFFSETTO:-0800
TZNAME:PST
DTSTART:20271107T090000
END:STANDARD
END:VTIMEZONE
BEGIN:VEVENT
DTSTART;TZID=America/Los_Angeles:20260105T190000
DTEND;TZID=America/Los_Angeles:20260105T220000
DTSTAMP:20260424T172032
CREATED:20251223T014005Z
LAST-MODIFIED:20251223T014005Z
UID:10005760-1767639600-1767650400@trinitykirk.org
SUMMARY:7 PM Twelfth Night Ball
DESCRIPTION:This is a ticketed event.  Contact Julie Letsche for info.
URL:https://trinitykirk.org/event/7-pm-twelfth-night-ball-3/
LOCATION:The Feather Ballroom in\, 801 1st Street\, Snohomish\, WA
END:VEVENT
BEGIN:VEVENT
DTSTART;TZID=America/Los_Angeles:20240105T190000
DTEND;TZID=America/Los_Angeles:20240105T220000
DTSTAMP:20260424T172032
CREATED:20250925T214954Z
LAST-MODIFIED:20250925T214954Z
UID:10003843-1704481200-1704492000@trinitykirk.org
SUMMARY:7 PM Twelfth Night Ball
DESCRIPTION:This is a ticketed event.  Contact Julie Letsche for info.
URL:https://trinitykirk.org/event/7-pm-twelfth-night-ball-2/
LOCATION:The Feather Ballroom in\, 801 1st Street\, Snohomish\, WA
END:VEVENT
BEGIN:VEVENT
DTSTART;TZID=America/Los_Angeles:20200105T190000
DTEND;TZID=America/Los_Angeles:20200105T220000
DTSTAMP:20260424T172032
CREATED:20250925T214624Z
LAST-MODIFIED:20250925T214624Z
UID:10003836-1578250800-1578261600@trinitykirk.org
SUMMARY:7 PM 12th Night Ball
DESCRIPTION:A festive time of dancing and singing and celebrating the last day of Christmas! \n\nat the Feather Ballroom in Snohomish.\nThe Moonlight Swing Orchestra is playing for us again this year. \nThe dress code is formal. \nLadies: calf-length or floor-length gown\nGentlemen: dark suit or tuxedo \nAll minors must be accompanied by a ticketed supervising adult.
URL:https://trinitykirk.org/event/7-pm-12th-night-ball-2/
LOCATION:The Feather Ballroom in\, 801 1st Street\, Snohomish\, WA
END:VEVENT
BEGIN:VEVENT
DTSTART;TZID=America/Los_Angeles:20200105T190000
DTEND;TZID=America/Los_Angeles:20200105T220000
DTSTAMP:20260424T172032
CREATED:20250925T214623Z
LAST-MODIFIED:20250925T214623Z
UID:10002425-1578250800-1578261600@trinitykirk.org
SUMMARY:7 PM 12th Night Ball
DESCRIPTION:A festive time of dancing and singing and celebrating the last day of Christmas! \nWho: Everyone ages 10 and up. There will be no childcare provided. All kids under 18 MUST be accompanied by a ticketed adult.\nDress: Formal – Ladies: Floor or Calf-Length Dress; Men: Tuxedo\, Dark Suit\, or Military Dress Uniform\nRefreshments: Desserts and cash bar\nCost: $30 for everyone 18 and over. $15 for those under 18.\n\nRegister here
URL:https://trinitykirk.org/event/7-pm-12th-night-ball/
LOCATION:The Feather Ballroom in\, 801 1st Street\, Snohomish\, WA
END:VEVENT
END:VCALENDAR